Workbook

Sheet ○給与（30～）
B1: 第１０表 産業 事業所規模 男女別の常用労働者 １人平均月間現金給与額（事業所規模３０人以上）
D3: 産業 | E3: TL | F3: 調査産業計
D4: 計 | H4: 男 | K4: 女
D5: 現金給与 総額 | E5: きまって支給する給与 | F5: 所定内給与 | G5: 特別に支払われた給与 | H5: 現金給与 総額 | I5: きまって支給する給与 | J5: 特別に支払われた給与 | K5: 現金給与 総額 | L5: きまって支給する給与 | M5: 特別に支払われた給与
D7: (円) | E7: (円) | F7: (円) | G7: (円) | H7: (円) | I7: (円) | J7: (円) | K7: (円) | L7: (円) | M7: (円)
B8: 令和7年 | D8: 325861 | E8: 268388 | F8: 246412 | G8: 57473 | H8: 397013 | I8: 322101 | J8: 74912 | K8: 250571 | L8: 211550 | M8: 39021
C10: 令和7年1月 | D10: 281372 | E10: 257487 | F10: 238484 | G10: 23885 | H10: 351300 | I10: 307464 | J10: 43836 | K10: 206893 | L10: 204257 | M10: 2636
C11: 2月 | D11: 259191 | E11: 258645 | F11: 239146 | G11: 546 | H11: 311347 | I11: 310945 | J11: 402 | K11: 203862 | L11: 203162 | M11: 700
C12: 3月 | D12: 268775 | E12: 257876 | F12: 238189 | G12: 10899 | H12: 321265 | I12: 305667 | J12: 15598 | K12: 212947 | L12: 207047 | M12: 5900
C13: 4月 | D13: 272793 | E13: 270788 | F13: 248126 | G13: 2005 | H13: 328649 | I13: 325018 | J13: 3631 | K13: 214020 | L13: 213727 | M13: 293
C14: 5月 | D14: 273497 | E14: 270591 | F14: 249379 | G14: 2906 | H14: 329077 | I14: 325306 | J14: 3771 | K14: 214890 | L14: 212895 | M14: 1995
C15: 6月 | D15: 458972 | E15: 270098 | F15: 245920 | G15: 188874 | H15: 550706 | I15: 321868 | J15: 228838 | K15: 360818 | L15: 214705 | M15: 146113
C16: 7月 | D16: 371105 | E16: 273258 | F16: 250206 | G16: 97847 | H16: 467202 | I16: 329239 | J16: 137963 | K16: 272722 | L16: 215945 | M16: 56777
C17: 8月 | D17: 283693 | E17: 270873 | F17: 248216 | G17: 12820 | H17: 343395 | I17: 324864 | J17: 18531 | K17: 220108 | L17: 213370 | M17: 6738
C18: 9月 | D18: 268761 | E18: 268585 | F18: 245919 | G18: 176 | H18: 326796 | I18: 326570 | J18: 226 | K18: 207734 | L18: 207610 | M18: 124
C19: 10月 | D19: 276835 | E19: 270592 | F19: 248189 | G19: 6243 | H19: 328850 | I19: 328261 | J19: 589 | K19: 222155 | L19: 209970 | M19: 12185
C20: 11月 | D20: 287105 | E20: 275234 | F20: 251291 | G20: 11871 | H20: 349304 | I20: 329988 | J20: 19316 | K20: 219150 | L20: 215412 | M20: 3738
C21: 12月 | D21: 604561 | E21: 276430 | F21: 253731 | G21: 328131 | H21: 753978 | I21: 329880 | J21: 424098 | K21: 447720 | L21: 220325 | M21: 227395
D23: 産業 | E23: C | F23: 鉱業，採石業，砂利採取業
D24: 計 | H24: 男 | K24: 女
D25: 現金給与 総額 | E25: きまって支給する給与 | F25: 所定内給与 | G25: 特別に支払われた給与 | H25: 現金給与 総額 | I25: きまって支給する給与 | J25: 特別に支払われた給与 | K25: 現金給与 総額 | L25: きまって支給する給与 | M25: 特別に支払われた給与
D27: (円) | E27: (円) | F27: (円) | G27: (円) | H27: (円) | I27: (円) | J27: (円) | K27: (円) | L27: (円) | M27: (円)
B28: 令和7年 | D28: - | E28: - | F28: - | G28: - | H28: - | I28: - | J28: - | K28: - | L28: - | M28: -
C30: 令和7年1月 | D30: - | E30: - | F30: - | G30: - | H30: - | I30: - | J30: - | K30: - | L30: - | M30: -
C31: 2月 | D31: - | E31: - | F31: - | G31: - | H31: - | I31: - | J31: - | K31: - | L31: - | M31: -
C32: 3月 | D32: - | E32: - | F32: - | G32: - | H32: - | I32: - | J32: - | K32: - | L32: - | M32: -
C33: 4月 | D33: - | E33: - | F33: - | G33: - | H33: - | I33: - | J33: - | K33: - | L33: - | M33: -
C34: 5月 | D34: - | E34: - | F34: - | G34: - | H34: - | I34: - | J34: - | K34: - | L34: - | M34: -
C35: 6月 | D35: - | E35: - | F35: - | G35: - | H35: - | I35: - | J35: - | K35: - | L35: - | M35: -
C36: 7月 | D36: - | E36: - | F36: - | G36: - | H36: - | I36: - | J36: - | K36: - | L36: - | M36: -
C37: 8月 | D37: - | E37: - | F37: - | G37: - | H37: - | I37: - | J37: - | K37: - | L37: - | M37: -
C38: 9月 | D38: - | E38: - | F38: - | G38: - | H38: - | I38: - | J38: - | K38: - | L38: - | M38: -
C39: 10月 | D39: - | E39: - | F39: - | G39: - | H39: - | I39: - | J39: - | K39: - | L39: - | M39: -
C40: 11月 | D40: - | E40: - | F40: - | G40: - | H40: - | I40: - | J40: - | K40: - | L40: - | M40: -
C41: 12月 | D41: - | E41: - | F41: - | G41: - | H41: - | I41: - | J41: - | K41: - | L41: - | M41: -
D44: 産業 | E44: Ｄ | F44: 建設業
D45: 計 | H45: 男 | K45: 女
D46: 現金給与 総額 | E46: きまって支給する給与 | F46: 所定内給与 | G46: 特別に支払われた給与 | H46: 現金給与 総額 | I46: きまって支給する給与 | J46: 特別に支払われた給与 | K46: 現金給与 総額 | L46: きまって支給する給与 | M46: 特別に支払われた給与
D48: (円) | E48: (円) | F48: (円) | G48: (円) | H48: (円) | I48: (円) | J48: (円) | K48: (円) | L48: (円) | M48: (円)
B49: 令和7年 | D49: 512129 | E49: 417570 | F49: 383903 | G49: 94559 | H49: 595887 | I49: 482295 | J49: 113592 | K49: 321934 | L49: 270594 | M49: 51340
C51: 令和7年1月 | D51: 349776 | E51: 349776 | F51: 324170 | G51: 0 | H51: 417857 | I51: 417857 | J51: 0 | K51: 224594 | L51: 224594 | M51: 0
C52: 2月 | D52: 388139 | E52: 388139 | F52: 377480 | G52: 0 | H52: 448771 | I52: 448771 | J52: 0 | K52: 241751 | L52: 241751 | M52: 0
C53: 3月 | D53: 420854 | E53: 372473 | F53: 336927 | G53: 48381 | H53: 488953 | I53: 428294 | J53: 60659 | K53: 257478 | L53: 238552 | M53: 18926
C54: 4月 | D54: 456994 | E54: 422242 | F54: 388456 | G54: 34752 | H54: 521718 | I54: 475473 | J54: 46245 | K54: 296792 | L54: 290487 | M54: 6305
C55: 5月 | D55: 470723 | E55: 470723 | F55: 430086 | G55: 0 | H55: 542332 | I55: 542332 | J55: 0 | K55: 292081 | L55: 292081 | M55: 0
C56: 6月 | D56: 489034 | E56: 396419 | F56: 364005 | G56: 92615 | H56: 580179 | I56: 469763 | J56: 110416 | K56: 313627 | L56: 255269 | M56: 58358
C57: 7月 | D57: 483208 | E57: 450091 | F57: 413140 | G57: 33117 | H57: 553887 | I57: 510994 | J57: 42893 | K57: 303499 | L57: 295238 | M57: 8261
C58: 8月 | D58: 510272 | E58: 455081 | F58: 416076 | G58: 55191 | H58: 579294 | I58: 517140 | J58: 62154 | K58: 335400 | L58: 297850 | M58: 37550
C59: 9月 | D59: 419865 | E59: 419865 | F59: 386208 | G59: 0 | H59: 472915 | I59: 472915 | J59: 0 | K59: 282932 | L59: 282932 | M59: 0
C60: 10月 | D60: 417505 | E60: 417505 | F60: 377575 | G60: 0 | H60: 492798 | I60: 492798 | J60: 0 | K60: 272655 | L60: 272655 | M60: 0
C61: 11月 | D61: 449610 | E61: 449610 | F61: 408424 | G61: 0 | H61: 537875 | I61: 537875 | J61: 0 | K61: 280859 | L61: 280859 | M61: 0
C62: 12月 | D62: 1293677 | E62: 419872 | F62: 384909 | G62: 873805 | H62: 1482272 | I62: 471129 | J62: 1011143 | K62: 815193 | L62: 289829 | M62: 525364
D64: 産業 | E64: Ｅ | F64: 製造業
D65: 計 | H65: 男 | K65: 女
D66: 現金給与 総額 | E66: きまって支給する給与 | F66: 所定内給与 | G66: 特別に支払われた給与 | H66: 現金給与 総額 | I66: きまって支給する給与 | J66: 特別に支払われた給与 | K66: 現金給与 総額 | L66: きまって支給する給与 | M66: 特別に支払われた給与
D68: (円) | E68: (円) | F68: (円) | G68: (円) | H68: (円) | I68: (円) | J68: (円) | K68: (円) | L68: (円) | M68: (円)
B69: 令和7年 | D69: 357990 | E69: 290237 | F69: 256854 | G69: 67753 | H69: 414213 | I69: 331455 | J69: 82758 | K69: 237696 | L69: 202046 | M69: 35650
C71: 令和7年1月 | D71: 276122 | E71: 273272 | F71: 244668 | G71: 2850 | H71: 317132 | I71: 313161 | J71: 3971 | K71: 185776 | L71: 185395 | M71: 381
C72: 2月 | D72: 275464 | E72: 274927 | F72: 242573 | G72: 537 | H72: 316531 | I72: 315850 | J72: 681 | K72: 187401 | L72: 187172 | M72: 229
C73: 3月 | D73: 294267 | E73: 275812 | F73: 246728 | G73: 18455 | H73: 332685 | I73: 311786 | J73: 20899 | K73: 209664 | L73: 196592 | M73: 13072
C74: 4月 | D74: 297425 | E74: 296703 | F74: 263056 | G74: 722 | H74: 340130 | I74: 339231 | J74: 899 | K74: 204758 | L74: 204423 | M74: 335
C75: 5月 | D75: 291966 | E75: 288534 | F75: 260474 | G75: 3432 | H75: 333482 | I75: 329741 | J75: 3741 | K75: 205164 | L75: 202378 | M75: 2786
C76: 6月 | D76: 484954 | E76: 292139 | F76: 258464 | G76: 192815 | H76: 574691 | I76: 331011 | J76: 243680 | K76: 288337 | L76: 206969 | M76: 81368
C77: 7月 | D77: 467944 | E77: 295915 | F77: 259609 | G77: 172029 | H77: 548438 | I77: 342056 | J77: 206382 | K77: 308984 | L77: 204796 | M77: 104188
C78: 8月 | D78: 304115 | E78: 294489 | F78: 260279 | G78: 9626 | H78: 344823 | I78: 334848 | J78: 9975 | K78: 216517 | L78: 207640 | M78: 8877
C79: 9月 | D79: 297620 | E79: 297326 | F79: 260520 | G79: 294 | H79: 342170 | I79: 341843 | J79: 327 | K79: 202455 | L79: 202234 | M79: 221
C80: 10月 | D80: 302211 | E80: 300960 | F80: 264514 | G80: 1251 | H80: 343620 | I80: 342167 | J80: 1453 | K80: 210597 | L80: 209794 | M80: 803
C81: 11月 | D81: 316841 | E81: 296750 | F81: 259901 | G81: 20091 | H81: 365026 | I81: 338410 | J81: 26616 | K81: 214196 | L81: 208006 | M81: 6190
C82: 12月 | D82: 680554 | E82: 294765 | F82: 260652 | G82: 385789 | H82: 811560 | I82: 336496 | J82: 475064 | K82: 407177 | L82: 207684 | M82: 199493
D85: 産業 | E85: Ｆ | F85: 電気・ガス・熱供給・水道業
D86: 計 | H86: 男 | K86: 女
D87: 現金給与 総額 | E87: きまって支給する給与 | F87: 所定内給与 | G87: 特別に支払われた給与 | H87: 現金給与 総額 | I87: きまって支給する給与 | J87: 特別に支払われた給与 | K87: 現金給与 総額 | L87: きまって支給する給与 | M87: 特別に支払われた給与
D89: (円) | E89: (円) | F89: (円) | G89: (円) | H89: (円) | I89: (円) | J89: (円) | K89: (円) | L89: (円) | M89: (円)
B90: 令和7年 | D90: 605717 | E90: 472850 | F90: 402154 | G90: 132867 | H90: 624496 | I90: 485953 | J90: 138543 | K90: 385798 | L90: 319395 | M90: 66403
C92: 令和7年1月 | D92: 462101 | E92: 462101 | F92: 391225 | G92: 0 | H92: 473260 | I92: 473260 | J92: 0 | K92: 328939 | L92: 328939 | M92: 0
C93: 2月 | D93: 450065 | E93: 450065 | F93: 392148 | G93: 0 | H93: 460810 | I93: 460810 | J93: 0 | K93: 318775 | L93: 318775 | M93: 0
C94: 3月 | D94: 463592 | E94: 463592 | F94: 392246 | G94: 0 | H94: 472629 | I94: 472629 | J94: 0 | K94: 349781 | L94: 349781 | M94: 0
C95: 4月 | D95: 489261 | E95: 489261 | F95: 409716 | G95: 0 | H95: 501033 | I95: 501033 | J95: 0 | K95: 349521 | L95: 349521 | M95: 0
C96: 5月 | D96: 491946 | E96: 491946 | F96: 412914 | G96: 0 | H96: 506316 | I96: 506316 | J96: 0 | K96: 332320 | L96: 332320 | M96: 0
C97: 6月 | D97: 1174789 | E97: 478304 | F97: 407125 | G97: 696485 | H97: 1227558 | I97: 492112 | J97: 735446 | K97: 592551 | L97: 325955 | M97: 266596
C98: 7月 | D98: 618121 | E98: 471397 | F98: 406683 | G98: 146724 | H98: 620830 | I98: 486928 | J98: 133902 | K98: 587433 | L98: 295445 | M98: 291988
C99: 8月 | D99: 441090 | E99: 441090 | F99: 368191 | G99: 0 | H99: 457068 | I99: 457068 | J99: 0 | K99: 298772 | L99: 298772 | M99: 0
C100: 9月 | D100: 485504 | E100: 485504 | F100: 411229 | G100: 0 | H100: 499711 | I100: 499711 | J100: 0 | K100: 303481 | L100: 303481 | M100: 0
C101: 10月 | D101: 487569 | E101: 487569 | F101: 413174 | G101: 0 | H101: 501088 | I101: 501088 | J101: 0 | K101: 315665 | L101: 315665 | M101: 0
C102: 11月 | D102: 477472 | E102: 477472 | F102: 410242 | G102: 0 | H102: 490773 | I102: 490773 | J102: 0 | K102: 309244 | L102: 309244 | M102: 0
C103: 12月 | D103: 1218713 | E103: 475961 | F103: 410913 | G103: 742752 | H103: 1272755 | I103: 489026 | J103: 783729 | K103: 535923 | L103: 310897 | M103: 225026
D105: 産業 | E105: Ｇ | F105: 情報通信業
D106: 計 | H106: 男 | K106: 女
D107: 現金給与 総額 | E107: きまって支給する給与 | F107: 所定内給与 | G107: 特別に支払われた給与 | H107: 現金給与 総額 | I107: きまって支給する給与 | J107: 特別に支払われた給与 | K107: 現金給与 総額 | L107: きまって支給する給与 | M107: 特別に支払われた給与
D109: (円) | E109: (円) | F109: (円) | G109: (円) | H109: (円) | I109: (円) | J109: (円) | K109: (円) | L109: (円) | M109: (円)
B110: 令和7年 | D110: 286079 | E110: 247434 | F110: 224903 | G110: 38645 | H110: 355934 | I110: 299672 | J110: 56262 | K110: 218932 | L110: 197222 | M110: 21710
C112: 令和7年1月 | D112: 251627 | E112: 250277 | F112: 226939 | G112: 1350 | H112: 311489 | I112: 309293 | J112: 2196 | K112: 181003 | L112: 180651 | M112: 352
C113: 2月 | D113: 251368 | E113: 251345 | F113: 228559 | G113: 23 | H113: 307623 | I113: 307623 | J113: 0 | K113: 183634 | L113: 183582 | M113: 52
C114: 3月 | D114: 306074 | E114: 264512 | F114: 238678 | G114: 41562 | H114: 384247 | I114: 317086 | J114: 67161 | K114: 206339 | L114: 197437 | M114: 8902
C115: 4月 | D115: 267697 | E115: 267697 | F115: 246341 | G115: 0 | H115: 316862 | I115: 316862 | J115: 0 | K115: 203135 | L115: 203135 | M115: 0
C116: 5月 | D116: 263961 | E116: 263913 | F116: 242424 | G116: 48 | H116: 310898 | I116: 310831 | J116: 67 | K116: 203420 | L116: 203395 | M116: 25
C117: 6月 | D117: 434722 | E117: 265767 | F117: 239316 | G117: 168955 | H117: 526659 | I117: 315597 | J117: 211062 | K117: 319752 | L117: 203453 | M117: 116299
C118: 7月 | D118: 306596 | E118: 235401 | F118: 216206 | G118: 71195 | H118: 401346 | I118: 273479 | J118: 127867 | K118: 234372 | L118: 206375 | M118: 27997
C119: 8月 | D119: 247631 | E119: 240478 | F119: 217114 | G119: 7153 | H119: 293639 | I119: 280616 | J119: 13023 | K119: 212288 | L119: 209644 | M119: 2644
C120: 9月 | D120: 222406 | E120: 222406 | F120: 203016 | G120: 0 | H120: 270700 | I120: 270700 | J120: 0 | K120: 189501 | L120: 189501 | M120: 0
...

Sheet 〇時間（30～）
B1: 第１１表 産業 事業所規模 男女別の常用労働者 １人平均月間出勤日数及び実労働時間（事業所規模３０人以上）
D3: 産業 | E3: ='○給与（30～）'!E3 -> TL | F3: ='○給与（30～）'!F3 -> 調査産業計
D4: 計 | H4: 男 | L4: 女
D5: 出勤日数 | E5: 総 実 労働時間 | F5: 所定内 労働時間 | G5: 所定外 労働時間 | H5: 出勤日数 | I5: 総 実 労働時間 | J5: 所定内 労働時間 | K5: 所定外 労働時間 | L5: 出勤日数 | M5: 総 実 労働時間 | N5: 所定内 労働時間 | O5: 所定外 労働時間
D7: (日) | E7: (時間) | F7: (時間) | G7: (時間) | H7: (日) | I7: (時間) | J7: (時間) | K7: (時間) | L7: (日) | M7: (時間) | N7: (時間) | O7: (時間)
B8: 令和7年 | D8: 18.9 | E8: 147.3 | F8: 136.1 | G8: 11.2 | H8: 19.5 | I8: 159.8 | J8: 144.6 | K8: 15.2 | L8: 18.3 | M8: 134 | N8: 127.1 | O8: 6.9
C10: 令和7年1月 | D10: 18.2 | E10: 140.3 | F10: 130 | G10: 10.3 | H10: 18.7 | I10: 151.1 | J10: 137.9 | K10: 13.2 | L10: 17.6 | M10: 128.8 | N10: 121.7 | O10: 7.1
C11: 2月 | D11: 17.9 | E11: 138.5 | F11: 128.6 | G11: 9.9 | H11: 18.5 | I11: 150.8 | J11: 137.7 | K11: 13.1 | L11: 17.1 | M11: 125.6 | N11: 119 | O11: 6.6
C12: 3月 | D12: 18.4 | E12: 142.2 | F12: 132 | G12: 10.2 | H12: 18.9 | I12: 152.8 | J12: 139.3 | K12: 13.5 | L12: 17.9 | M12: 131 | N12: 124.3 | O12: 6.7
C13: 4月 | D13: 19.6 | E13: 153.7 | F13: 141.4 | G13: 12.3 | H13: 20.2 | I13: 166.5 | J13: 150 | K13: 16.5 | L13: 18.9 | M13: 140.3 | N13: 132.4 | O13: 7.9
C14: 5月 | D14: 19.1 | E14: 148.5 | F14: 137.4 | G14: 11.1 | H14: 19.6 | I14: 160.8 | J14: 145.8 | K14: 15 | L14: 18.6 | M14: 135.6 | N14: 128.6 | O14: 7
C15: 6月 | D15: 19.7 | E15: 152.1 | F15: 140.7 | G15: 11.4 | H15: 20.2 | I15: 164.1 | J15: 148.5 | K15: 15.6 | L15: 19.1 | M15: 139.3 | N15: 132.3 | O15: 7
C16: 7月 | D16: 19.8 | E16: 152.7 | F16: 141.6 | G16: 11.1 | H16: 20.4 | I16: 165.5 | J16: 150 | K16: 15.5 | L16: 19.2 | M16: 139.6 | N16: 132.9 | O16: 6.7
C17: 8月 | D17: 18.2 | E17: 142 | F17: 131.9 | G17: 10.1 | H17: 18.8 | I17: 154.8 | J17: 140.2 | K17: 14.6 | L17: 17.6 | M17: 128.5 | N17: 123.1 | O17: 5.4
C18: 9月 | D18: 18.8 | E18: 147 | F18: 135.1 | G18: 11.9 | H18: 19.5 | I18: 160.5 | J18: 144.2 | K18: 16.3 | L18: 18 | M18: 132.8 | N18: 125.6 | O18: 7.2
C19: 10月 | D19: 19.6 | E19: 153 | F19: 141 | G19: 12 | H19: 20.2 | I19: 167.1 | J19: 150.5 | K19: 16.6 | L19: 18.9 | M19: 138.2 | N19: 131 | O19: 7.2
C20: 11月 | D20: 19 | E20: 148.9 | F20: 136.9 | G20: 12 | H20: 19.5 | I20: 162.9 | J20: 146.5 | K20: 16.4 | L20: 18.4 | M20: 133.6 | N20: 126.4 | O20: 7.2
C21: 12月 | D21: 18.9 | E21: 147.8 | F21: 136.1 | G21: 11.7 | H21: 19.5 | I21: 160.7 | J21: 144.4 | K21: 16.3 | L21: 18.4 | M21: 134.3 | N21: 127.4 | O21: 6.9
D23: 産業 | E23: ='○給与（30～）'!E23 -> C | F23: ='○給与（30～）'!F23 -> 鉱業，採石業，砂利採取業
D24: 計 | H24: 男 | L24: 女
D25: 出勤日数 | E25: 総 実 労働時間 | F25: 所定内 労働時間 | G25: 所定外 労働時間 | H25: 出勤日数 | I25: 総 実 労働時間 | J25: 所定内 労働時間 | K25: 所定外 労働時間 | L25: 出勤日数 | M25: 総 実 労働時間 | N25: 所定内 労働時間 | O25: 所定外 労働時間
D27: (日) | E27: (時間) | F27: (時間) | G27: (時間) | H27: (日) | I27: (時間) | J27: (時間) | K27: (時間) | L27: (日) | M27: (時間) | N27: (時間) | O27: (時間)
B28: 令和7年 | D28: - | E28: - | F28: - | G28: - | H28: - | I28: - | J28: - | K28: - | L28: - | M28: - | N28: - | O28: -
C30: 令和7年1月 | D30: - | E30: - | F30: - | G30: - | H30: - | I30: - | J30: - | K30: - | L30: - | M30: - | N30: - | O30: -
C31: 2月 | D31: - | E31: - | F31: - | G31: - | H31: - | I31: - | J31: - | K31: - | L31: - | M31: - | N31: - | O31: -
C32: 3月 | D32: - | E32: - | F32: - | G32: - | H32: - | I32: - | J32: - | K32: - | L32: - | M32: - | N32: - | O32: -
C33: 4月 | D33: - | E33: - | F33: - | G33: - | H33: - | I33: - | J33: - | K33: - | L33: - | M33: - | N33: - | O33: -
C34: 5月 | D34: - | E34: - | F34: - | G34: - | H34: - | I34: - | J34: - | K34: - | L34: - | M34: - | N34: - | O34: -
C35: 6月 | D35: - | E35: - | F35: - | G35: - | H35: - | I35: - | J35: - | K35: - | L35: - | M35: - | N35: - | O35: -
C36: 7月 | D36: - | E36: - | F36: - | G36: - | H36: - | I36: - | J36: - | K36: - | L36: - | M36: - | N36: - | O36: -
C37: 8月 | D37: - | E37: - | F37: - | G37: - | H37: - | I37: - | J37: - | K37: - | L37: - | M37: - | N37: - | O37: -
C38: 9月 | D38: - | E38: - | F38: - | G38: - | H38: - | I38: - | J38: - | K38: - | L38: - | M38: - | N38: - | O38: -
C39: 10月 | D39: - | E39: - | F39: - | G39: - | H39: - | I39: - | J39: - | K39: - | L39: - | M39: - | N39: - | O39: -
C40: 11月 | D40: - | E40: - | F40: - | G40: - | H40: - | I40: - | J40: - | K40: - | L40: - | M40: - | N40: - | O40: -
C41: 12月 | D41: - | E41: - | F41: - | G41: - | H41: - | I41: - | J41: - | K41: - | L41: - | M41: - | N41: - | O41: -
D44: 産業 | E44: ='○給与（30～）'!E44 -> Ｄ | F44: ='○給与（30～）'!F44 -> 建設業
D45: 計 | H45: 男 | L45: 女
D46: 出勤日数 | E46: 総 実 労働時間 | F46: 所定内 労働時間 | G46: 所定外 労働時間 | H46: 出勤日数 | I46: 総 実 労働時間 | J46: 所定内 労働時間 | K46: 所定外 労働時間 | L46: 出勤日数 | M46: 総 実 労働時間 | N46: 所定内 労働時間 | O46: 所定外 労働時間
D48: (日) | E48: (時間) | F48: (時間) | G48: (時間) | H48: (日) | I48: (時間) | J48: (時間) | K48: (時間) | L48: (日) | M48: (時間) | N48: (時間) | O48: (時間)
B49: 令和7年 | D49: 20.2 | E49: 158.5 | F49: 149.6 | G49: 8.9 | H49: 20.4 | I49: 165.4 | J49: 154.9 | K49: 10.5 | L49: 19.6 | M49: 142.7 | N49: 137.5 | O49: 5.2
C51: 令和7年1月 | D51: 20 | E51: 150.2 | F51: 145 | G51: 5.2 | H51: 20.3 | I51: 156.4 | J51: 150.7 | K51: 5.7 | L51: 19.5 | M51: 139.1 | N51: 134.7 | O51: 4.4
C52: 2月 | D52: 19.1 | E52: 156.9 | F52: 149.7 | G52: 7.2 | H52: 19.6 | I52: 165.8 | J52: 157.3 | K52: 8.5 | L52: 18 | M52: 135.1 | N52: 131.2 | O52: 3.9
C53: 3月 | D53: 18.2 | E53: 145.6 | F53: 135.5 | G53: 10.1 | H53: 18.6 | I53: 151.5 | J53: 138.8 | K53: 12.7 | L53: 17.2 | M53: 131.3 | N53: 127.5 | O53: 3.8
C54: 4月 | D54: 21.1 | E54: 164.2 | F54: 154.6 | G54: 9.6 | H54: 21.4 | I54: 171.1 | J54: 159.8 | K54: 11.3 | L54: 20.4 | M54: 147.3 | N54: 141.9 | O54: 5.4
C55: 5月 | D55: 20.2 | E55: 162.3 | F55: 149.9 | G55: 12.4 | H55: 20.5 | I55: 168.9 | J55: 154.6 | K55: 14.3 | L55: 19.6 | M55: 146 | N55: 138.4 | O55: 7.6
C56: 6月 | D56: 20.9 | E56: 157.5 | F56: 150.7 | G56: 6.8 | H56: 21.4 | I56: 167.3 | J56: 159.8 | K56: 7.5 | L56: 19.9 | M56: 138.6 | N56: 133.3 | O56: 5.3
C57: 7月 | D57: 20.6 | E57: 162.9 | F57: 152.7 | G57: 10.2 | H57: 20.9 | I57: 170.2 | J57: 158.1 | K57: 12.1 | L57: 19.8 | M57: 144.4 | N57: 139 | O57: 5.4
C58: 8月 | D58: 20.5 | E58: 164 | F58: 152.9 | G58: 11.1 | H58: 20.5 | I58: 168.3 | J58: 155.5 | K58: 12.8 | L58: 20.6 | M58: 153.1 | N58: 146.3 | O58: 6.8
C59: 9月 | D59: 19.6 | E59: 150.8 | F59: 144.1 | G59: 6.7 | H59: 19.6 | I59: 155.3 | J59: 147.9 | K59: 7.4 | L59: 19.4 | M59: 139.2 | N59: 134.4 | O59: 4.8
C60: 10月 | D60: 20.3 | E60: 159 | F60: 150.4 | G60: 8.6 | H60: 20.3 | I60: 168.2 | J60: 157.4 | K60: 10.8 | L60: 20.2 | M60: 141.5 | N60: 137.1 | O60: 4.4
C61: 11月 | D61: 22 | E61: 171.3 | F61: 160.4 | G61: 10.9 | H61: 22.2 | I61: 180.2 | J61: 167.2 | K61: 13 | L61: 21.7 | M61: 154.4 | N61: 147.4 | O61: 7
C62: 12月 | D62: 19.7 | E62: 156.7 | F62: 148.8 | G62: 7.9 | H62: 19.9 | I62: 162.5 | J62: 152.8 | K62: 9.7 | L62: 19.1 | M62: 142 | N62: 138.5 | O62: 3.5
D64: 産業 | E64: ='○給与（30～）'!E64 -> Ｅ | F64: ='○給与（30～）'!F64 -> 製造業
D65: 計 | H65: 男 | L65: 女
D66: 出勤日数 | E66: 総 実 労働時間 | F66: 所定内 労働時間 | G66: 所定外 労働時間 | H66: 出勤日数 | I66: 総 実 労働時間 | J66: 所定内 労働時間 | K66: 所定外 労働時間 | L66: 出勤日数 | M66: 総 実 労働時間 | N66: 所定内 労働時間 | O66: 所定外 労働時間
D68: (日) | E68: (時間) | F68: (時間) | G68: (時間) | H68: (日) | I68: (時間) | J68: (時間) | K68: (時間) | L68: (日) | M68: (時間) | N68: (時間) | O68: (時間)
B69: 令和7年 | D69: 19 | E69: 158.5 | F69: 144.2 | G69: 14.3 | H69: 19.3 | I69: 164.5 | J69: 147.9 | K69: 16.6 | L69: 18.2 | M69: 145.8 | N69: 136.3 | O69: 9.5
C71: 令和7年1月 | D71: 17.8 | E71: 147.4 | F71: 135 | G71: 12.4 | H71: 18.2 | I71: 152.5 | J71: 138.3 | K71: 14.2 | L71: 16.9 | M71: 136.1 | N71: 127.6 | O71: 8.5
C72: 2月 | D72: 18.4 | E72: 151.9 | F72: 138.8 | G72: 13.1 | H72: 18.9 | I72: 158 | J72: 142.9 | K72: 15.1 | L72: 17.4 | M72: 138.8 | N72: 129.9 | O72: 8.9
C73: 3月 | D73: 18.6 | E73: 153.9 | F73: 139.6 | G73: 14.3 | H73: 19.1 | I73: 159.6 | J73: 143.2 | K73: 16.4 | L73: 17.6 | M73: 141.3 | N73: 131.7 | O73: 9.6
C74: 4月 | D74: 19.9 | E74: 165.4 | F74: 150.9 | G74: 14.5 | H74: 20.4 | I74: 172.6 | J74: 155.9 | K74: 16.7 | L74: 18.8 | M74: 149.9 | N74: 140.2 | O74: 9.7
C75: 5月 | D75: 18.9 | E75: 155 | F75: 142.4 | G75: 12.6 | H75: 19.2 | I75: 160.7 | J75: 146.1 | K75: 14.6 | L75: 18.2 | M75: 143.1 | N75: 134.8 | O75: 8.3
C76: 6月 | D76: 19.7 | E76: 162.7 | F76: 148.4 | G76: 14.3 | H76: 19.9 | I76: 167.7 | J76: 151.2 | K76: 16.5 | L76: 19 | M76: 151.7 | N76: 142.2 | O76: 9.5
C77: 7月 | D77: 20.1 | E77: 162.7 | F77: 148.9 | G77: 13.8 | H77: 20.5 | I77: 168.4 | J77: 152.2 | K77: 16.2 | L77: 19.3 | M77: 151.2 | N77: 142.2 | O77: 9
C78: 8月 | D78: 18 | E78: 152.5 | F78: 138.5 | G78: 14 | H78: 18.2 | I78: 157.1 | J78: 141.1 | K78: 16 | L78: 17.5 | M78: 142.3 | N78: 132.7 | O78: 9.6
C79: 9月 | D79: 19 | E79: 158.8 | F79: 143.6 | G79: 15.2 | H79: 19.3 | I79: 164.3 | J79: 146.9 | K79: 17.4 | L79: 18.2 | M79: 146.9 | N79: 136.4 | O79: 10.5
C80: 10月 | D80: 19.8 | E80: 169.5 | F80: 152.9 | G80: 16.6 | H80: 20.1 | I80: 175.9 | J80: 156.9 | K80: 19 | L80: 19.1 | M80: 155.3 | N80: 144.1 | O80: 11.2
C81: 11月 | D81: 18.7 | E81: 162.5 | F81: 147.1 | G81: 15.4 | H81: 18.9 | I81: 170 | J81: 151.9 | K81: 18.1 | L81: 18.3 | M81: 146.4 | N81: 136.8 | O81: 9.6
C82: 12月 | D82: 18.8 | E82: 159.4 | F82: 143.9 | G82: 15.5 | H82: 19.1 | I82: 165.8 | J82: 147.6 | K82: 18.2 | L82: 18.2 | M82: 145.9 | N82: 136 | O82: 9.9
D85: 産業 | E85: ='○給与（30～）'!E85 -> Ｆ | F85: ='○給与（30～）'!F85 -> 電気・ガス・熱供給・水道業
D86: 計 | H86: 男 | L86: 女
D87: 出勤日数 | E87: 総 実 労働時間 | F87: 所定内 労働時間 | G87: 所定外 労働時間 | H87: 出勤日数 | I87: 総 実 労働時間 | J87: 所定内 労働時間 | K87: 所定外 労働時間 | L87: 出勤日数 | M87: 総 実 労働時間 | N87: 所定内 労働時間 | O87: 所定外 労働時間
D89: (日) | E89: (時間) | F89: (時間) | G89: (時間) | H89: (日) | I89: (時間) | J89: (時間) | K89: (時間) | L89: (日) | M89: (時間) | N89: (時間) | O89: (時間)
B90: 令和7年 | D90: 18.5 | E90: 153 | F90: 137.3 | G90: 15.7 | H90: 18.5 | I90: 153.6 | J90: 137.5 | K90: 16.1 | L90: 18.2 | M90: 145.9 | N90: 134.9 | O90: 11
C92: 令和7年1月 | D92: 17.5 | E92: 145.7 | F92: 130.3 | G92: 15.4 | H92: 17.5 | I92: 146.8 | J92: 130.9 | K92: 15.9 | L92: 16.5 | M92: 132.8 | N92: 124 | O92: 8.8
C93: 2月 | D93: 16.2 | E93: 134.6 | F93: 121.3 | G93: 13.3 | H93: 16.3 | I93: 135.9 | J93: 122.2 | K93: 13.7 | L93: 15 | M93: 118.5 | N93: 110.1 | O93: 8.4
C94: 3月 | D94: 17.8 | E94: 148.6 | F94: 132 | G94: 16.6 | H94: 17.9 | I94: 149.8 | J94: 132.9 | K94: 16.9 | L94: 16.3 | M94: 133.6 | N94: 120.9 | O94: 12.7
C95: 4月 | D95: 19.5 | E95: 162 | F95: 144.2 | G95: 17.8 | H95: 19.4 | I95: 161.4 | J95: 143.6 | K95: 17.8 | L95: 20.4 | M95: 169.9 | N95: 151.8 | O95: 18.1
C96: 5月 | D96: 19.2 | E96: 158.4 | F96: 141.2 | G96: 17.2 | H96: 19.3 | I96: 159.7 | J96: 141.8 | K96: 17.9 | L96: 18.1 | M96: 143.7 | N96: 134.2 | O96: 9.5
C97: 6月 | D97: 19.5 | E97: 159.9 | F97: 144.3 | G97: 15.6 | H97: 19.5 | I97: 160.3 | J97: 144.4 | K97: 15.9 | L97: 19.6 | M97: 155.7 | N97: 144 | O97: 11.7
C98: 7月 | D98: 20.1 | E98: 165.7 | F98: 151.9 | G98: 13.8 | H98: 20.2 | I98: 166.6 | J98: 152.2 | K98: 14.4 | L98: 20 | M98: 155.2 | N98: 148 | O98: 7.2
C99: 8月 | D99: 17.7 | E99: 147.5 | F99: 132.7 | G99: 14.8 | H99: 17.8 | I99: 148.8 | J99: 133.1 | K99: 15.7 | L99: 17.3 | M99: 136 | N99: 129.1 | O99: 6.9
C100: 9月 | D100: 18.6 | E100: 154.4 | F100: 137.7 | G100: 16.7 | H100: 18.7 | I100: 155.1 | J100: 137.9 | K100: 17.2 | L100: 18.2 | M100: 143.8 | N100: 134.5 | O100: 9.3
C101: 10月 | D101: 20.5 | E101: 169.4 | F101: 151.3 | G101: 18.1 | H101: 20.5 | I101: 169.1 | J101: 150.9 | K101: 18.2 | L101: 21.1 | M101: 172.4 | N101: 155.7 | O101: 16.7
C102: 11月 | D102: 16.6 | E102: 139 | F102: 123.3 | G102: 15.7 | H102: 16.6 | I102: 139.2 | J102: 123.5 | K102: 15.7 | L102: 16.2 | M102: 135 | N102: 119.9 | O102: 15.1
C103: 12月 | D103: 18.3 | E103: 150.2 | F103: 136.9 | G103: 13.3 | H103: 18.2 | I103: 149.6 | J103: 136 | K103: 13.6 | L103: 19.9 | M103: 157.1 | N103: 147.2 | O103: 9.9
D105: 産業 | E105: ='○給与（30～）'!E105 -> Ｇ | F105: ='○給与（30～）'!F105 -> 情報通信業
D106: 計 | H106: 男 | L106: 女
D107: 出勤日数 | E107: 総 実 労働時間 | F107: 所定内 労働時間 | G107: 所定外 労働時間 | H107: 出勤日数 | I107: 総 実 労働時間 | J107: 所定内 労働時間 | K107: 所定外 労働時間 | L107: 出勤日数 | M107: 総 実 労働時間 | N107: 所定内 労働時間 | O107: 所定外 労働時間
D109: (日) | E109: (時間) | F109: (時間) | G109: (時間) | H109: (日) | I109: (時間) | J109: (時間) | K109: (時間) | L109: (日) | M109: (時間) | N109: (時間) | O109: (時間)
B110: 令和7年 | D110: 16.8 | E110: 130.4 | F110: 119.1 | G110: 11.3 | H110: 17.4 | I110: 144.6 | J110: 129.3 | K110: 15.3 | L110: 16.2 | M110: 116.7 | N110: 109.4 | O110: 7.3
C112: 令和7年1月 | D112: 15.7 | E112: 122 | F112: 111.6 | G112: 10.4 | H112: 16.8 | I112: 137.6 | J112: 124.4 | K112: 13.2 | L112: 14.5 | M112: 103.5 | N112: 96.4 | O112: 7.1
C113: 2月 | D113: 15.3 | E113: 121.1 | F113: 109.5 | G113: 11.6 | H113: 16.1 | I113: 134.2 | J113: 119.6 | K113: 14.6 | L113: 14.3 | M113: 105.3 | N113: 97.4 | O113: 7.9
C114: 3月 | D114: 17 | E114: 135.6 | F114: 122.9 | G114: 12.7 | H114: 17.7 | I114: 148.8 | J114: 133 | K114: 15.8 | L114: 16 | M114: 118.5 | N114: 109.9 | O114: 8.6
C115: 4月 | D115: 18 | E115: 142.2 | F115: 131.4 | G115: 10.8 | H115: 18.9 | I115: 156.3 | J115: 142.5 | K115: 13.8 | L115: 16.9 | M115: 123.8 | N115: 116.8 | O115: 7
C116: 5月 | D116: 17.7 | E116: 138.1 | F116: 127.4 | G116: 10.7 | H116: 18.3 | I116: 151.1 | J116: 137.3 | K116: 13.8 | L116: 16.9 | M116: 121.4 | N116: 114.7 | O116: 6.7
C117: 6月 | D117: 18.3 | E117: 145.7 | F117: 132.9 | G117: 12.8 | H117: 19.3 | I117: 161.1 | J117: 144.9 | K117: 16.2 | L117: 17.2 | M117: 126.5 | N117: 117.9 | O117: 8.6
C118: 7月 | D118: 17.9 | E118: 135.1 | F118: 124.8 | G118: 10.3 | H118: 17.5 | I118: 142.9 | J118: 128 | K118: 14.9 | L118: 18.2 | M118: 129.2 | N118: 122.4 | O118: 6.8
C119: 8月 | D119: 15.1 | E119: 116.3 | F119: 105.1 | G119: 11.2 | H119: 15.2 | I119: 128 | J119: 113.7 | K119: 14.3 | L119: 14.9 | M119: 107.3 | N119: 98.5 | O119: 8.8
C120: 9月 | D120: 16.1 | E120: 122.3 | F120: 111.9 | G120: 10.4 | H120: 16.5 | I120: 135.3 | J120: 120.3 | K120: 15 | L120: 15.9 | M120: 113.3 | N120: 106.1 | O120: 7.2
...

Sheet 〇雇用（30～）
B1: 第１２表 産業 事業所規模 男女別の月末推計常用労働者数（事業所規模３０人以上）
D3: 産業 | E3: ='○給与（30～）'!E3 -> TL | F3: ='○給与（30～）'!F3 -> 調査産業計
D4: 計 | G4: 男 | J4: 女
E5: うちパートタイム労働者数 | F5: パートタイム労働者比率 | H5: うちパートタイム労働者数 | I5: パートタイム労働者比率 | K5: うちパートタイム労働者数 | L5: パートタイム労働者比率
D7: (人) | E7: (人) | F7: (％) | G7: (人) | H7: (人) | I7: (％) | J7: (人) | K7: (人) | L7: (％)
B8: 令和7年 | D8: 170660 | E8: 43610 | F8: 25.6 | G8: 87724 | H8: 10911 | I8: 12.4 | J8: 82936 | K8: 32699 | L8: 39.4
C10: 令和7年1月 | D10: 169826 | E10: 44682 | F10: 26.3 | G10: 87857 | H10: 11496 | I10: 13.1 | J10: 81969 | K10: 33186 | L10: 40.5
C11: 2月 | D11: 168920 | E11: 46255 | F11: 27.4 | G11: 86891 | H11: 11858 | I11: 13.6 | J11: 82029 | K11: 34397 | L11: 41.9
C12: 3月 | D12: 167786 | E12: 45212 | F12: 26.9 | G12: 86516 | H12: 11758 | I12: 13.6 | J12: 81270 | K12: 33454 | L12: 41.2
C13: 4月 | D13: 169466 | E13: 42825 | F13: 25.3 | G13: 86507 | H13: 10651 | I13: 12.3 | J13: 82959 | K13: 32174 | L13: 38.8
C14: 5月 | D14: 171943 | E14: 43845 | F14: 25.5 | G14: 88257 | H14: 10241 | I14: 11.6 | J14: 83686 | K14: 33604 | L14: 40.2
C15: 6月 | D15: 172266 | E15: 42964 | F15: 24.9 | G15: 89072 | H15: 10625 | I15: 11.9 | J15: 83194 | K15: 32339 | L15: 38.9
C16: 7月 | D16: 171457 | E16: 43157 | F16: 25.2 | G16: 86752 | H16: 10265 | I16: 11.8 | J16: 84705 | K16: 32892 | L16: 38.8
C17: 8月 | D17: 173265 | E17: 42709 | F17: 24.6 | G17: 89318 | H17: 10566 | I17: 11.8 | J17: 83947 | K17: 32143 | L17: 38.3
C18: 9月 | D18: 171351 | E18: 43848 | F18: 25.6 | G18: 87981 | H18: 10983 | I18: 12.5 | J18: 83370 | K18: 32865 | L18: 39.4
C19: 10月 | D19: 171943 | E19: 44211 | F19: 25.7 | G19: 88076 | H19: 11264 | I19: 12.8 | J19: 83867 | K19: 32947 | L19: 39.3
C20: 11月 | D20: 168200 | E20: 40467 | F20: 24.1 | G20: 87690 | H20: 10223 | I20: 11.7 | J20: 80510 | K20: 30244 | L20: 37.6
C21: 12月 | D21: 171496 | E21: 43142 | F21: 25.2 | G21: 87771 | H21: 10999 | I21: 12.5 | J21: 83725 | K21: 32143 | L21: 38.4
D23: 産業 | E23: ='○給与（30～）'!E23 -> C | F23: ='○給与（30～）'!F23 -> 鉱業，採石業，砂利採取業
D24: 計 | G24: 男 | J24: 女
E25: うちパートタイム労働者数 | F25: パートタイム労働者比率 | H25: うちパートタイム労働者数 | I25: パートタイム労働者比率 | K25: うちパートタイム労働者数 | L25: パートタイム労働者比率
D27: (人) | E27: (人) | F27: (％) | G27: (人) | H27: (人) | I27: (％) | J27: (人) | K27: (人) | L27: (％)
B28: 令和7年 | D28: - | E28: - | F28: - | G28: - | H28: - | I28: - | J28: - | K28: - | L28: -
C30: 令和7年1月 | D30: - | E30: - | F30: - | G30: - | H30: - | I30: - | J30: - | K30: - | L30: -
C31: 2月 | D31: - | E31: - | F31: - | G31: - | H31: - | I31: - | J31: - | K31: - | L31: -
C32: 3月 | D32: - | E32: - | F32: - | G32: - | H32: - | I32: - | J32: - | K32: - | L32: -
C33: 4月 | D33: - | E33: - | F33: - | G33: - | H33: - | I33: - | J33: - | K33: - | L33: -
C34: 5月 | D34: - | E34: - | F34: - | G34: - | H34: - | I34: - | J34: - | K34: - | L34: -
C35: 6月 | D35: - | E35: - | F35: - | G35: - | H35: - | I35: - | J35: - | K35: - | L35: -
C36: 7月 | D36: - | E36: - | F36: - | G36: - | H36: - | I36: - | J36: - | K36: - | L36: -
C37: 8月 | D37: - | E37: - | F37: - | G37: - | H37: - | I37: - | J37: - | K37: - | L37: -
C38: 9月 | D38: - | E38: - | F38: - | G38: - | H38: - | I38: - | J38: - | K38: - | L38: -
C39: 10月 | D39: - | E39: - | F39: - | G39: - | H39: - | I39: - | J39: - | K39: - | L39: -
C40: 11月 | D40: - | E40: - | F40: - | G40: - | H40: - | I40: - | J40: - | K40: - | L40: -
C41: 12月 | D41: - | E41: - | F41: - | G41: - | H41: - | I41: - | J41: - | K41: - | L41: -
D44: 産業 | E44: ='○給与（30～）'!E44 -> Ｄ | F44: ='○給与（30～）'!F44 -> 建設業
D45: 計 | G45: 男 | J45: 女
E46: うちパートタイム労働者数 | F46: パートタイム労働者比率 | H46: うちパートタイム労働者数 | I46: パートタイム労働者比率 | K46: うちパートタイム労働者数 | L46: パートタイム労働者比率
D48: (人) | E48: (人) | F48: (％) | G48: (人) | H48: (人) | I48: (％) | J48: (人) | K48: (人) | L48: (％)
B49: 令和7年 | D49: 6712 | E49: 754 | F49: 11.2 | G49: 4658 | H49: 185 | I49: 4 | J49: 2053 | K49: 569 | L49: 27.4
C51: 令和7年1月 | D51: 6769 | E51: 1007 | F51: 14.9 | G51: 4383 | H51: 235 | I51: 5.4 | J51: 2386 | K51: 772 | L51: 32.4
C52: 2月 | D52: 6803 | E52: 698 | F52: 10.3 | G52: 4811 | H52: 167 | I52: 3.5 | J52: 1992 | K52: 531 | L52: 26.7
C53: 3月 | D53: 6569 | E53: 645 | F53: 9.8 | G53: 4625 | H53: 167 | I53: 3.6 | J53: 1944 | K53: 478 | L53: 24.6
C54: 4月 | D54: 6720 | E54: 620 | F54: 9.2 | G54: 4790 | H54: 158 | I54: 3.3 | J54: 1930 | K54: 462 | L54: 23.9
C55: 5月 | D55: 6752 | E55: 656 | F55: 9.7 | G55: 4827 | H55: 153 | I55: 3.2 | J55: 1925 | K55: 503 | L55: 26.1
C56: 6月 | D56: 6727 | E56: 959 | F56: 14.3 | G56: 4436 | H56: 206 | I56: 4.6 | J56: 2291 | K56: 753 | L56: 32.9
C57: 7月 | D57: 6696 | E57: 621 | F57: 9.3 | G57: 4804 | H57: 148 | I57: 3.1 | J57: 1892 | K57: 473 | L57: 25
C58: 8月 | D58: 6675 | E58: 621 | F58: 9.3 | G58: 4783 | H58: 148 | I58: 3.1 | J58: 1892 | K58: 473 | L58: 25
C59: 9月 | D59: 6715 | E59: 696 | F59: 10.4 | G59: 4840 | H59: 215 | I59: 4.4 | J59: 1875 | K59: 481 | L59: 25.7
C60: 10月 | D60: 6720 | E60: 933 | F60: 13.9 | G60: 4409 | H60: 213 | I60: 4.8 | J60: 2311 | K60: 720 | L60: 31.2
C61: 11月 | D61: 6724 | E61: 912 | F61: 13.6 | G61: 4418 | H61: 201 | I61: 4.5 | J61: 2306 | K61: 711 | L61: 30.8
C62: 12月 | D62: 6671 | E62: 676 | F62: 10.1 | G62: 4780 | H62: 205 | I62: 4.3 | J62: 1891 | K62: 471 | L62: 24.9
D64: 産業 | E64: ='○給与（30～）'!E64 -> Ｅ | F64: ='○給与（30～）'!F64 -> 製造業
D65: 計 | G65: 男 | J65: 女
E66: うちパートタイム労働者数 | F66: パートタイム労働者比率 | H66: うちパートタイム労働者数 | I66: パートタイム労働者比率 | K66: うちパートタイム労働者数 | L66: パートタイム労働者比率
D68: (人) | E68: (人) | F68: (％) | G68: (人) | H68: (人) | I68: (％) | J68: (人) | K68: (人) | L68: (％)
B69: 令和7年 | D69: 49475 | E69: 7368 | F69: 14.9 | G69: 33730 | H69: 2093 | I69: 6.2 | J69: 15745 | K69: 5275 | L69: 33.5
C71: 令和7年1月 | D71: 48837 | E71: 7627 | F71: 15.6 | G71: 33663 | H71: 2340 | I71: 7 | J71: 15174 | K71: 5287 | L71: 34.8
C72: 2月 | D72: 48638 | E72: 8632 | F72: 17.7 | G72: 33171 | H72: 2702 | I72: 8.1 | J72: 15467 | K72: 5930 | L72: 38.3
C73: 3月 | D73: 47610 | E73: 8576 | F73: 18 | G73: 32781 | H73: 2777 | I73: 8.5 | J73: 14829 | K73: 5799 | L73: 39.1
C74: 4月 | D74: 47800 | E74: 6086 | F74: 12.7 | G74: 32732 | H74: 1380 | I74: 4.2 | J74: 15068 | K74: 4706 | L74: 31.2
C75: 5月 | D75: 49367 | E75: 6654 | F75: 13.5 | G75: 33330 | H75: 1382 | I75: 4.1 | J75: 16037 | K75: 5272 | L75: 32.9
C76: 6月 | D76: 50680 | E76: 7418 | F76: 14.6 | G76: 34838 | H76: 2332 | I76: 6.7 | J76: 15842 | K76: 5086 | L76: 32.1
C77: 7月 | D77: 49600 | E77: 6853 | F77: 13.8 | G77: 32978 | H77: 1389 | I77: 4.2 | J77: 16622 | K77: 5464 | L77: 32.9
C78: 8月 | D78: 50595 | E78: 6127 | F78: 12.1 | G78: 34529 | H78: 1501 | I78: 4.3 | J78: 16066 | K78: 4626 | L78: 28.8
C79: 9月 | D79: 49792 | E79: 7341 | F79: 14.7 | G79: 33949 | H79: 2164 | I79: 6.4 | J79: 15843 | K79: 5177 | L79: 32.7
C80: 10月 | D80: 50828 | E80: 7843 | F80: 15.4 | G80: 34993 | H80: 2608 | I80: 7.5 | J80: 15835 | K80: 5235 | L80: 33.1
C81: 11月 | D81: 50469 | E81: 7475 | F81: 14.8 | G81: 34331 | H81: 2163 | I81: 6.3 | J81: 16138 | K81: 5312 | L81: 32.9
C82: 12月 | D82: 49490 | E82: 7784 | F82: 15.7 | G82: 33467 | H82: 2380 | I82: 7.1 | J82: 16023 | K82: 5404 | L82: 33.7
D85: 産業 | E85: ='○給与（30～）'!E85 -> Ｆ | F85: ='○給与（30～）'!F85 -> 電気・ガス・熱供給・水道業
D86: 計 | G86: 男 | J86: 女
E87: うちパートタイム労働者数 | F87: パートタイム労働者比率 | H87: うちパートタイム労働者数 | I87: パートタイム労働者比率 | K87: うちパートタイム労働者数 | L87: パートタイム労働者比率
D89: (人) | E89: (人) | F89: (％) | G89: (人) | H89: (人) | I89: (％) | J89: (人) | K89: (人) | L89: (％)
B90: 令和7年 | D90: 1061 | E90: 7 | F90: 0.7 | G90: 978 | H90: 7 | I90: 0.7 | J90: 84 | K90: 0 | L90: 0
C92: 令和7年1月 | D92: 1060 | E92: 7 | F92: 0.7 | G92: 978 | H92: 7 | I92: 0.7 | J92: 82 | K92: 0 | L92: 0
C93: 2月 | D93: 1055 | E93: 7 | F93: 0.7 | G93: 977 | H93: 7 | I93: 0.7 | J93: 78 | K93: 0 | L93: 0
C94: 3月 | D94: 1052 | E94: 7 | F94: 0.7 | G94: 975 | H94: 7 | I94: 0.7 | J94: 77 | K94: 0 | L94: 0
C95: 4月 | D95: 1046 | E95: 7 | F95: 0.7 | G95: 960 | H95: 7 | I95: 0.7 | J95: 86 | K95: 0 | L95: 0
C96: 5月 | D96: 1073 | E96: 7 | F96: 0.7 | G96: 984 | H96: 7 | I96: 0.7 | J96: 89 | K96: 0 | L96: 0
C97: 6月 | D97: 1069 | E97: 7 | F97: 0.7 | G97: 980 | H97: 7 | I97: 0.7 | J97: 89 | K97: 0 | L97: 0
C98: 7月 | D98: 1064 | E98: 7 | F98: 0.7 | G98: 980 | H98: 7 | I98: 0.7 | J98: 84 | K98: 0 | L98: 0
C99: 8月 | D99: 1066 | E99: 10 | F99: 0.9 | G99: 960 | H99: 10 | I99: 1 | J99: 106 | K99: 0 | L99: 0
C100: 9月 | D100: 1061 | E100: 7 | F100: 0.7 | G100: 984 | H100: 7 | I100: 0.7 | J100: 77 | K100: 0 | L100: 0
C101: 10月 | D101: 1065 | E101: 7 | F101: 0.7 | G101: 987 | H101: 7 | I101: 0.7 | J101: 78 | K101: 0 | L101: 0
C102: 11月 | D102: 1064 | E102: 7 | F102: 0.7 | G102: 986 | H102: 7 | I102: 0.7 | J102: 78 | K102: 0 | L102: 0
C103: 12月 | D103: 1063 | E103: 7 | F103: 0.7 | G103: 985 | H103: 7 | I103: 0.7 | J103: 78 | K103: 0 | L103: 0
D105: 産業 | E105: ='○給与（30～）'!E105 -> Ｇ | F105: ='○給与（30～）'!F105 -> 情報通信業
D106: 計 | G106: 男 | J106: 女
E107: うちパートタイム労働者数 | F107: パートタイム労働者比率 | H107: うちパートタイム労働者数 | I107: パートタイム労働者比率 | K107: うちパートタイム労働者数 | L107: パートタイム労働者比率
D109: (人) | E109: (人) | F109: (％) | G109: (人) | H109: (人) | I109: (％) | J109: (人) | K109: (人) | L109: (％)
B110: 令和7年 | D110: 1631 | E110: 479 | F110: 29.4 | G110: 799 | H110: 114 | I110: 14.8 | J110: 832 | K110: 365 | L110: 43.9
C112: 令和7年1月 | D112: 1643 | E112: 510 | F112: 31 | G112: 895 | H112: 142 | I112: 15.9 | J112: 748 | K112: 368 | L112: 49.2
C113: 2月 | D113: 1608 | E113: 465 | F113: 28.9 | G113: 875 | H113: 116 | I113: 13.3 | J113: 733 | K113: 349 | L113: 47.6
C114: 3月 | D114: 1610 | E114: 409 | F114: 25.4 | G114: 906 | H114: 100 | I114: 11 | J114: 704 | K114: 309 | L114: 43.9
C115: 4月 | D115: 1640 | E115: 375 | F115: 22.9 | G115: 933 | H115: 76 | I115: 8.1 | J115: 707 | K115: 299 | L115: 42.3
C116: 5月 | D116: 1662 | E116: 393 | F116: 23.6 | G116: 928 | H116: 76 | I116: 8.2 | J116: 734 | K116: 317 | L116: 43.2
C117: 6月 | D117: 1662 | E117: 396 | F117: 23.8 | G117: 925 | H117: 81 | I117: 8.8 | J117: 737 | K117: 315 | L117: 42.7
C118: 7月 | D118: 1607 | E118: 509 | F118: 31.7 | G118: 689 | H118: 135 | I118: 19.6 | J118: 918 | K118: 374 | L118: 40.7
C119: 8月 | D119: 1650 | E119: 487 | F119: 29.5 | G119: 720 | H119: 120 | I119: 16.7 | J119: 930 | K119: 367 | L119: 39.5
C120: 9月 | D120: 1595 | E120: 571 | F120: 35.8 | G120: 637 | H120: 125 | I120: 19.6 | J120: 958 | K120: 446 | L120: 46.6
...

Sheet 〇給与（5～） 
B1: 第１３表 産業 事業所規模 男女別の常用労働者 １人平均月間現金給与額（事業所規模 ５人以上）
M2: ※事業所規模30人以上を含む
D3: 産業 | E3: TL | F3: 調査産業計
D4: 計 | H4: 男 | K4: 女
D5: 現金給与 総額 | E5: きまって支給する給与 | F5: 所定内給与 | G5: 特別に支払われた給与 | H5: 現金給与 総額 | I5: きまって支給する給与 | J5: 特別に支払われた給与 | K5: 現金給与 総額 | L5: きまって支給する給与 | M5: 特別に支払われた給与
D7: (円) | E7: (円) | F7: (円) | G7: (円) | H7: (円) | I7: (円) | J7: (円) | K7: (円) | L7: (円) | M7: (円)
B8: 令和7年 | D8: 295686 | E8: 245833 | F8: 229282 | G8: 49853 | H8: 365405 | I8: 299409 | J8: 65996 | K8: 226325 | L8: 192531 | M8: 33794
C10: 令和7年1月 | D10: 256620 | E10: 241422 | F10: 226493 | G10: 15198 | H10: 319904 | I10: 292539 | J10: 27365 | K10: 192339 | L10: 189499 | M10: 2840
C11: 2月 | D11: 242495 | E11: 240407 | F11: 225528 | G11: 2088 | H11: 293251 | I11: 290648 | J11: 2603 | K11: 190317 | L11: 188759 | M11: 1558
C12: 3月 | D12: 253799 | E12: 238514 | F12: 224822 | G12: 15285 | H12: 302846 | I12: 286207 | J12: 16639 | K12: 205279 | L12: 191334 | M12: 13945
C13: 4月 | D13: 251715 | E13: 248326 | F13: 231318 | G13: 3389 | H13: 303532 | I13: 298731 | J13: 4801 | K13: 199906 | L13: 197930 | M13: 1976
C14: 5月 | D14: 252199 | E14: 248525 | F14: 232388 | G14: 3674 | H14: 303508 | I14: 299883 | J14: 3625 | K14: 200772 | L14: 197050 | M14: 3722
C15: 6月 | D15: 390558 | E15: 249728 | F15: 231751 | G15: 140830 | H15: 477514 | I15: 297673 | J15: 179841 | K15: 302729 | L15: 201301 | M15: 101428
C16: 7月 | D16: 348193 | E16: 250870 | F16: 233303 | G16: 97323 | H16: 438949 | I16: 306510 | J16: 132439 | K16: 260187 | L16: 196916 | M16: 63271
C17: 8月 | D17: 260579 | E17: 242939 | F17: 226557 | G17: 17640 | H17: 327590 | I17: 299819 | J17: 27771 | K17: 193644 | L17: 186124 | M17: 7520
C18: 9月 | D18: 250774 | E18: 246650 | F18: 229476 | G18: 4124 | H18: 310504 | I18: 304426 | J18: 6078 | K18: 191947 | L18: 189747 | M18: 2200
C19: 10月 | D19: 255757 | E19: 247563 | F19: 230431 | G19: 8194 | H19: 312214 | I19: 304194 | J19: 8020 | K19: 199503 | L19: 191136 | M19: 8367
C20: 11月 | D20: 268509 | E20: 247264 | F20: 229390 | G20: 21245 | H20: 335263 | I20: 306108 | J20: 29155 | K20: 203264 | L20: 189750 | M20: 13514
C21: 12月 | D21: 513691 | E21: 247465 | F21: 229722 | G21: 266226 | H21: 660661 | I21: 306003 | J21: 354658 | K21: 371454 | L21: 190813 | M21: 180641
D23: 産業 | E23: C | F23: 鉱業，採石業，砂利採取業
D24: 計 | H24: 男 | K24: 女
D25: 現金給与 総額 | E25: きまって支給する給与 | F25: 所定内給与 | G25: 特別に支払われた給与 | H25: 現金給与 総額 | I25: きまって支給する給与 | J25: 特別に支払われた給与 | K25: 現金給与 総額 | L25: きまって支給する給与 | M25: 特別に支払われた給与
D27: (円) | E27: (円) | F27: (円) | G27: (円) | H27: (円) | I27: (円) | J27: (円) | K27: (円) | L27: (円) | M27: (円)
B28: 令和7年 | D28: - | E28: - | F28: - | G28: - | H28: - | I28: - | J28: - | K28: - | L28: - | M28: -
C30: 令和7年1月 | D30: - | E30: - | F30: - | G30: - | H30: - | I30: - | J30: - | K30: - | L30: - | M30: -
C31: 2月 | D31: - | E31: - | F31: - | G31: - | H31: - | I31: - | J31: - | K31: - | L31: - | M31: -
C32: 3月 | D32: - | E32: - | F32: - | G32: - | H32: - | I32: - | J32: - | K32: - | L32: - | M32: -
C33: 4月 | D33: - | E33: - | F33: - | G33: - | H33: - | I33: - | J33: - | K33: - | L33: - | M33: -
C34: 5月 | D34: - | E34: - | F34: - | G34: - | H34: - | I34: - | J34: - | K34: - | L34: - | M34: -
C35: 6月 | D35: - | E35: - | F35: - | G35: - | H35: - | I35: - | J35: - | K35: - | L35: - | M35: -
C36: 7月 | D36: - | E36: - | F36: - | G36: - | H36: - | I36: - | J36: - | K36: - | L36: - | M36: -
C37: 8月 | D37: - | E37: - | F37: - | G37: - | H37: - | I37: - | J37: - | K37: - | L37: - | M37: -
C38: 9月 | D38: - | E38: - | F38: - | G38: - | H38: - | I38: - | J38: - | K38: - | L38: - | M38: -
C39: 10月 | D39: - | E39: - | F39: - | G39: - | H39: - | I39: - | J39: - | K39: - | L39: - | M39: -
C40: 11月 | D40: - | E40: - | F40: - | G40: - | H40: - | I40: - | J40: - | K40: - | L40: - | M40: -
C41: 12月 | D41: - | E41: - | F41: - | G41: - | H41: - | I41: - | J41: - | K41: - | L41: - | M41: -
M43: ※事業所規模30人以上を含む
D44: 産業 | E44: Ｄ | F44: 建設業
D45: 計 | H45: 男 | K45: 女
D46: 現金給与 総額 | E46: きまって支給する給与 | F46: 所定内給与 | G46: 特別に支払われた給与 | H46: 現金給与 総額 | I46: きまって支給する給与 | J46: 特別に支払われた給与 | K46: 現金給与 総額 | L46: きまって支給する給与 | M46: 特別に支払われた給与
D48: (円) | E48: (円) | F48: (円) | G48: (円) | H48: (円) | I48: (円) | J48: (円) | K48: (円) | L48: (円) | M48: (円)
B49: 令和7年 | D49: 411047 | E49: 338720 | F49: 321372 | G49: 72327 | H49: 445008 | I49: 364593 | J49: 80415 | K49: 289818 | L49: 246360 | M49: 43458
C51: 令和7年1月 | D51: 305964 | E51: 304952 | F51: 290477 | G51: 1012 | H51: 335241 | I51: 333907 | J51: 1334 | K51: 214037 | L51: 214037 | M51: 0
C52: 2月 | D52: 323432 | E52: 321992 | F52: 308318 | G52: 1440 | H52: 348990 | I52: 347160 | J52: 1830 | K52: 229072 | L52: 229072 | M52: 0
C53: 3月 | D53: 340558 | E53: 321385 | F53: 303912 | G53: 19173 | H53: 369157 | I53: 347502 | J53: 21655 | K53: 236750 | L53: 226586 | M53: 10164
C54: 4月 | D54: 349172 | E54: 333537 | F54: 317876 | G54: 15635 | H54: 373348 | I54: 354767 | J54: 18581 | K54: 259470 | L54: 254766 | M54: 4704
C55: 5月 | D55: 355068 | E55: 354972 | F55: 336887 | G55: 96 | H55: 380864 | I55: 380742 | J55: 122 | K55: 258312 | L55: 258312 | M55: 0
C56: 6月 | D56: 530505 | E56: 327479 | F56: 313600 | G56: 203026 | H56: 586424 | I56: 354140 | J56: 232284 | K56: 343812 | L56: 238468 | M56: 105344
C57: 7月 | D57: 450280 | E57: 387102 | F57: 369112 | G57: 63178 | H57: 486953 | I57: 416447 | J57: 70506 | K57: 302306 | L57: 268697 | M57: 33609
C58: 8月 | D58: 412400 | E58: 355776 | F58: 335180 | G58: 56624 | H58: 442120 | I58: 379537 | J58: 62583 | K58: 295087 | L58: 261984 | M58: 33103
C59: 9月 | D59: 330022 | E59: 329490 | F59: 311349 | G59: 532 | H59: 349301 | I59: 348630 | J59: 671 | K59: 255764 | L59: 255764 | M59: 0
C60: 10月 | D60: 340938 | E60: 340173 | F60: 319712 | G60: 765 | H60: 366637 | I60: 365643 | J60: 994 | K60: 255376 | L60: 255376 | M60: 0
C61: 11月 | D61: 390540 | E61: 341970 | F61: 321765 | G61: 48570 | H61: 431605 | I61: 374928 | J61: 56677 | K61: 270541 | L61: 245661 | M61: 24880
C62: 12月 | D62: 831208 | E62: 351692 | F62: 333063 | G62: 479516 | H62: 891774 | I62: 375244 | J62: 516530 | K62: 600040 | L62: 261799 | M62: 338241
D64: 産業 | E64: Ｅ | F64: 製造業
D65: 計 | H65: 男 | K65: 女
D66: 現金給与 総額 | E66: きまって支給する給与 | F66: 所定内給与 | G66: 特別に支払われた給与 | H66: 現金給与 総額 | I66: きまって支給する給与 | J66: 特別に支払われた給与 | K66: 現金給与 総額 | L66: きまって支給する給与 | M66: 特別に支払われた給与
D68: (円) | E68: (円) | F68: (円) | G68: (円) | H68: (円) | I68: (円) | J68: (円) | K68: (円) | L68: (円) | M68: (円)
B69: 令和7年 | D69: 342453 | E69: 279787 | F69: 249599 | G69: 62666 | H69: 398675 | I69: 321206 | J69: 77469 | K69: 228220 | L69: 195631 | M69: 32589
C71: 令和7年1月 | D71: 267827 | E71: 265448 | F71: 239480 | G71: 2379 | H71: 308661 | I71: 305284 | J71: 3377 | K71: 182951 | L71: 182645 | M71: 306
C72: 2月 | D72: 277231 | E72: 269258 | F72: 239664 | G72: 7973 | H72: 317873 | I72: 309756 | J72: 8117 | K72: 193146 | L72: 185470 | M72: 7676
C73: 3月 | D73: 284506 | E73: 268078 | F73: 241812 | G73: 16428 | H73: 323168 | I73: 304237 | J73: 18931 | K73: 203368 | L73: 192194 | M73: 11174
C74: 4月 | D74: 289085 | E74: 288059 | F74: 256997 | G74: 1026 | H74: 330744 | I74: 329443 | J74: 1301 | K74: 201755 | L74: 201304 | M74: 451
C75: 5月 | D75: 283898 | E75: 280966 | F75: 254016 | G75: 2932 | H75: 322968 | I75: 319797 | J75: 3171 | K75: 202534 | L75: 200100 | M75: 2434
C76: 6月 | D76: 450638 | E76: 283435 | F76: 252890 | G76: 167203 | H76: 534870 | I76: 321992 | J76: 212878 | K76: 274579 | L76: 202845 | M76: 71734
C77: 7月 | D77: 443798 | E77: 281933 | F77: 249998 | G77: 161865 | H77: 529295 | I77: 328320 | J77: 200975 | K77: 284875 | L77: 195708 | M77: 89167
C78: 8月 | D78: 297844 | E78: 279987 | F78: 249642 | G78: 17857 | H78: 340326 | I78: 321510 | J78: 18816 | K78: 212287 | L78: 196360 | M78: 15927
C79: 9月 | D79: 284867 | E79: 284625 | F79: 251946 | G79: 242 | H79: 329974 | I79: 329698 | J79: 276 | K79: 194338 | L79: 194163 | M79: 175
C80: 10月 | D80: 289245 | E80: 288209 | F80: 255632 | G80: 1036 | H80: 331114 | I80: 329890 | J80: 1224 | K80: 201434 | L80: 200793 | M80: 641
C81: 11月 | D81: 305317 | E81: 284968 | F81: 251714 | G81: 20349 | H81: 356944 | I81: 329028 | J81: 27916 | K81: 203647 | L81: 198199 | M81: 5448
C82: 12月 | D82: 627115 | E82: 281557 | F82: 250816 | G82: 345558 | H82: 758619 | I82: 324851 | J82: 433768 | K82: 370859 | L82: 197191 | M82: 173668
M84: ※事業所規模30人以上を含む
D85: 産業 | E85: Ｆ | F85: 電気・ガス・熱供給・水道業
D86: 計 | H86: 男 | K86: 女
D87: 現金給与 総額 | E87: きまって支給する給与 | F87: 所定内給与 | G87: 特別に支払われた給与 | H87: 現金給与 総額 | I87: きまって支給する給与 | J87: 特別に支払われた給与 | K87: 現金給与 総額 | L87: きまって支給する給与 | M87: 特別に支払われた給与
D89: (円) | E89: (円) | F89: (円) | G89: (円) | H89: (円) | I89: (円) | J89: (円) | K89: (円) | L89: (円) | M89: (円)
B90: 令和7年 | D90: 505294 | E90: 400153 | F90: 351751 | G90: 105141 | H90: 522345 | I90: 412190 | J90: 110155 | K90: 310661 | L90: 262748 | M90: 47913
C92: 令和7年1月 | D92: 395804 | E92: 395804 | F92: 343352 | G92: 0 | H92: 404991 | I92: 404991 | J92: 0 | K92: 282117 | L92: 282117 | M92: 0
C93: 2月 | D93: 388056 | E93: 388056 | F93: 348817 | G93: 0 | H93: 397204 | I93: 397204 | J93: 0 | K93: 273000 | L93: 273000 | M93: 0
C94: 3月 | D94: 394577 | E94: 394577 | F94: 346349 | G94: 0 | H94: 403595 | I94: 403595 | J94: 0 | K94: 277307 | L94: 277307 | M94: 0
C95: 4月 | D95: 420722 | E95: 410477 | F95: 357849 | G95: 10245 | H95: 428425 | I95: 417442 | J95: 10983 | K95: 313777 | L95: 313777 | M95: 0
C96: 5月 | D96: 413663 | E96: 413663 | F96: 358857 | G96: 0 | H96: 424740 | I96: 424740 | J96: 0 | K96: 284854 | L96: 284854 | M96: 0
C97: 6月 | D97: 890615 | E97: 401807 | F97: 353303 | G97: 488808 | H97: 937444 | I97: 415974 | J97: 521470 | K97: 420420 | L97: 259559 | M97: 160861
C98: 7月 | D98: 562911 | E98: 400635 | F98: 357079 | G98: 162276 | H98: 575911 | I98: 417240 | J98: 158671 | K98: 431308 | L98: 232534 | M98: 198774
C99: 8月 | D99: 378704 | E99: 378704 | F99: 328770 | G99: 0 | H99: 392557 | I99: 392557 | J99: 0 | K99: 252201 | L99: 252201 | M99: 0
C100: 9月 | D100: 406452 | E100: 406452 | F100: 355788 | G100: 0 | H100: 420639 | I100: 420639 | J100: 0 | K100: 242372 | L100: 242372 | M100: 0
C101: 10月 | D101: 405845 | E101: 405845 | F101: 356199 | G101: 0 | H101: 419139 | I101: 419139 | J101: 0 | K101: 252116 | L101: 252116 | M101: 0
C102: 11月 | D102: 401526 | E102: 401526 | F102: 356195 | G102: 0 | H102: 414635 | I102: 414635 | J102: 0 | K102: 251731 | L102: 251731 | M102: 0
C103: 12月 | D103: 1003263 | E103: 404379 | F103: 358495 | G103: 598884 | H103: 1054785 | I103: 417908 | J103: 636877 | K103: 420069 | L103: 251238 | M103: 168831
D105: 産業 | E105: Ｇ | F105: 情報通信業
D106: 計 | H106: 男 | K106: 女
D107: 現金給与 総額 | E107: きまって支給する給与 | F107: 所定内給与 | G107: 特別に支払われた給与 | H107: 現金給与 総額 | I107: きまって支給する給与 | J107: 特別に支払われた給与 | K107: 現金給与 総額 | L107: きまって支給する給与 | M107: 特別に支払われた給与
D109: (円) | E109: (円) | F109: (円) | G109: (円) | H109: (円) | I109: (円) | J109: (円) | K109: (円) | L109: (円) | M109: (円)
B110: 令和7年 | D110: 283512 | E110: 244213 | F110: 222407 | G110: 39299 | H110: 363644 | I110: 304516 | J110: 59128 | K110: 222245 | L110: 198107 | M110: 24138
C112: 令和7年1月 | D112: 233405 | E112: 232468 | F112: 208181 | G112: 937 | H112: 306235 | I112: 304263 | J112: 1972 | K112: 181011 | L112: 180819 | M112: 192
C113: 2月 | D113: 250852 | E113: 250422 | F113: 225402 | G113: 430 | H113: 307832 | I113: 307832 | J113: 0 | K113: 208908 | L113: 208162 | M113: 746
C114: 3月 | D114: 266826 | E114: 238272 | F114: 215206 | G114: 28554 | H114: 370207 | I114: 310464 | J114: 59743 | K114: 187887 | L114: 183148 | M114: 4739
C115: 4月 | D115: 243751 | E115: 243751 | F115: 225004 | G115: 0 | H115: 322045 | I115: 322045 | J115: 0 | K115: 182553 | L115: 182553 | M115: 0
C116: 5月 | D116: 235441 | E116: 235407 | F116: 217982 | G116: 34 | H116: 310761 | I116: 310702 | J116: 59 | K116: 174712 | L116: 174698 | M116: 14
C117: 6月 | D117: 378009 | E117: 240426 | F117: 218992 | G117: 137583 | H117: 520664 | I117: 310575 | J117: 210089 | K117: 263275 | L117: 184007 | M117: 79268
...

Sheet △時間（5～）
B1: 第１４表 産業 事業所規模 男女別の常用労働者 １人平均月間出勤日数及び実労働時間（事業所規模 ５人以上）
O2: ※事業所規模30人以上を含む
D3: 産業 | E3: TL | F3: 調査産業計
D4: 計 | H4: 男 | L4: 女
D5: 出勤日数 | E5: 総 実 労働時間 | F5: 所定内 労働時間 | G5: 所定外 労働時間 | H5: 出勤日数 | I5: 総 実 労働時間 | J5: 所定内 労働時間 | K5: 所定外 労働時間 | L5: 出勤日数 | M5: 総 実 労働時間 | N5: 所定内 労働時間 | O5: 所定外 労働時間
D7: (日) | E7: (時間) | F7: (時間) | G7: (時間) | H7: (日) | I7: (時間) | J7: (時間) | K7: (時間) | L7: (日) | M7: (時間) | N7: (時間) | O7: (時間)
B8: 令和7年 | D8: 18.4 | E8: 141.7 | F8: 132.2 | G8: 9.5 | H8: 19.2 | I8: 156.6 | J8: 143.5 | K8: 13.1 | L8: 17.6 | M8: 126.9 | N8: 121 | O8: 5.9
C10: 令和7年1月 | D10: 17.7 | E10: 135.9 | F10: 127.3 | G10: 8.6 | H10: 18.5 | I10: 149.3 | J10: 137.7 | K10: 11.6 | L10: 16.9 | M10: 122.2 | N10: 116.7 | O10: 5.5
C11: 2月 | D11: 17.7 | E11: 136.3 | F11: 127.7 | G11: 8.6 | H11: 18.4 | I11: 149.1 | J11: 138 | K11: 11.1 | L11: 16.9 | M11: 123.1 | N11: 117.1 | O11: 6
C12: 3月 | D12: 18.2 | E12: 139.2 | F12: 130.7 | G12: 8.5 | H12: 18.9 | I12: 151.2 | J12: 140.5 | K12: 10.7 | L12: 17.5 | M12: 127.3 | N12: 121 | O12: 6.3
C13: 4月 | D13: 19.2 | E13: 148.2 | F13: 138 | G13: 10.2 | H13: 19.8 | I13: 161.8 | J13: 148.1 | K13: 13.7 | L13: 18.6 | M13: 134.7 | N13: 128 | O13: 6.7
C14: 5月 | D14: 18.7 | E14: 143.3 | F14: 133.6 | G14: 9.7 | H14: 19.2 | I14: 156.5 | J14: 143.6 | K14: 12.9 | L14: 18.2 | M14: 130 | N14: 123.5 | O14: 6.5
C15: 6月 | D15: 19.2 | E15: 147.7 | F15: 138 | G15: 9.7 | H15: 19.9 | I15: 162.6 | J15: 149.1 | K15: 13.5 | L15: 18.5 | M15: 132.6 | N15: 126.8 | O15: 5.8
C16: 7月 | D16: 19.2 | E16: 146.1 | F16: 136.5 | G16: 9.6 | H16: 20.1 | I16: 163.7 | J16: 150.1 | K16: 13.6 | L16: 18.2 | M16: 129.1 | N16: 123.3 | O16: 5.8
C17: 8月 | D17: 17.4 | E17: 134 | F17: 125.5 | G17: 8.5 | H17: 18.3 | I17: 149.7 | J17: 137.6 | K17: 12.1 | L17: 16.6 | M17: 118.3 | N17: 113.4 | O17: 4.9
C18: 9月 | D18: 18.2 | E18: 141 | F18: 131.3 | G18: 9.7 | H18: 19.2 | I18: 157.1 | J18: 143.5 | K18: 13.6 | L18: 17.3 | M18: 125.2 | N18: 119.4 | O18: 5.8
C19: 10月 | D19: 18.9 | E19: 146.2 | F19: 136.2 | G19: 10 | H19: 19.8 | I19: 162 | J19: 148.1 | K19: 13.9 | L19: 18.1 | M19: 130.3 | N19: 124.2 | O19: 6.1
C20: 11月 | D20: 18 | E20: 143.5 | F20: 132.2 | G20: 11.3 | H20: 18.8 | I20: 159.6 | J20: 142.9 | K20: 16.7 | L20: 17.1 | M20: 127.8 | N20: 121.7 | O20: 6.1
C21: 12月 | D21: 18 | E21: 139 | F21: 129.1 | G21: 9.9 | H21: 19 | I21: 156.3 | J21: 142.2 | K21: 14.1 | L21: 17 | M21: 122.4 | N21: 116.5 | O21: 5.9
D23: 産業 | E23: C | F23: 鉱業，採石業，砂利採取業
D24: 計 | H24: 男 | L24: 女
D25: 出勤日数 | E25: 総 実 労働時間 | F25: 所定内 労働時間 | G25: 所定外 労働時間 | H25: 出勤日数 | I25: 総 実 労働時間 | J25: 所定内 労働時間 | K25: 所定外 労働時間 | L25: 出勤日数 | M25: 総 実 労働時間 | N25: 所定内 労働時間 | O25: 所定外 労働時間
D27: (日) | E27: (時間) | F27: (時間) | G27: (時間) | H27: (日) | I27: (時間) | J27: (時間) | K27: (時間) | L27: (日) | M27: (時間) | N27: (時間) | O27: (時間)
B28: 令和7年 | D28: - | E28: - | F28: - | G28: - | H28: - | I28: - | J28: - | K28: - | L28: - | M28: - | N28: - | O28: -
C30: 令和7年1月 | D30: - | E30: - | F30: - | G30: - | H30: - | I30: - | J30: - | K30: - | L30: - | M30: - | N30: - | O30: -
C31: 2月 | D31: - | E31: - | F31: - | G31: - | H31: - | I31: - | J31: - | K31: - | L31: - | M31: - | N31: - | O31: -
C32: 3月 | D32: - | E32: - | F32: - | G32: - | H32: - | I32: - | J32: - | K32: - | L32: - | M32: - | N32: - | O32: -
C33: 4月 | D33: - | E33: - | F33: - | G33: - | H33: - | I33: - | J33: - | K33: - | L33: - | M33: - | N33: - | O33: -
C34: 5月 | D34: - | E34: - | F34: - | G34: - | H34: - | I34: - | J34: - | K34: - | L34: - | M34: - | N34: - | O34: -
C35: 6月 | D35: - | E35: - | F35: - | G35: - | H35: - | I35: - | J35: - | K35: - | L35: - | M35: - | N35: - | O35: -
C36: 7月 | D36: - | E36: - | F36: - | G36: - | H36: - | I36: - | J36: - | K36: - | L36: - | M36: - | N36: - | O36: -
C37: 8月 | D37: - | E37: - | F37: - | G37: - | H37: - | I37: - | J37: - | K37: - | L37: - | M37: - | N37: - | O37: -
C38: 9月 | D38: - | E38: - | F38: - | G38: - | H38: - | I38: - | J38: - | K38: - | L38: - | M38: - | N38: - | O38: -
C39: 10月 | D39: - | E39: - | F39: - | G39: - | H39: - | I39: - | J39: - | K39: - | L39: - | M39: - | N39: - | O39: -
C40: 11月 | D40: - | E40: - | F40: - | G40: - | H40: - | I40: - | J40: - | K40: - | L40: - | M40: - | N40: - | O40: -
C41: 12月 | D41: - | E41: - | F41: - | G41: - | H41: - | I41: - | J41: - | K41: - | L41: - | M41: - | N41: - | O41: -
O43: ※事業所規模30人以上を含む
D44: 産業 | E44: Ｄ | F44: 建設業
D45: 計 | H45: 男 | L45: 女
D46: 出勤日数 | E46: 総 実 労働時間 | F46: 所定内 労働時間 | G46: 所定外 労働時間 | H46: 出勤日数 | I46: 総 実 労働時間 | J46: 所定内 労働時間 | K46: 所定外 労働時間 | L46: 出勤日数 | M46: 総 実 労働時間 | N46: 所定内 労働時間 | O46: 所定外 労働時間
D48: (日) | E48: (時間) | F48: (時間) | G48: (時間) | H48: (日) | I48: (時間) | J48: (時間) | K48: (時間) | L48: (日) | M48: (時間) | N48: (時間) | O48: (時間)
B49: 令和7年 | D49: 19.8 | E49: 156.5 | F49: 149 | G49: 7.5 | H49: 20 | I49: 161.2 | J49: 152.5 | K49: 8.7 | L49: 19 | M49: 139.6 | N49: 136.5 | O49: 3.1
C51: 令和7年1月 | D51: 19.3 | E51: 146.8 | F51: 139.5 | G51: 7.3 | H51: 19.5 | I51: 151.9 | J51: 143 | K51: 8.9 | L51: 18.9 | M51: 131.3 | N51: 128.7 | O51: 2.6
C52: 2月 | D52: 19.6 | E52: 156 | F52: 147.4 | G52: 8.6 | H52: 19.9 | I52: 161.2 | J52: 150.8 | K52: 10.4 | L52: 18.3 | M52: 136.9 | N52: 134.7 | O52: 2.2
C53: 3月 | D53: 20 | E53: 156.7 | F53: 150 | G53: 6.7 | H53: 20.4 | I53: 162 | J53: 154 | K53: 8 | L53: 18.3 | M53: 137.9 | N53: 135.7 | O53: 2.2
C54: 4月 | D54: 20.6 | E54: 158.7 | F54: 152.5 | G54: 6.2 | H54: 20.8 | I54: 162.2 | J54: 155.1 | K54: 7.1 | L54: 20 | M54: 145.9 | N54: 143 | O54: 2.9
C55: 5月 | D55: 19.6 | E55: 153.9 | F55: 146.2 | G55: 7.7 | H55: 19.7 | I55: 157.1 | J55: 148.4 | K55: 8.7 | L55: 19.2 | M55: 142.2 | N55: 137.9 | O55: 4.3
C56: 6月 | D56: 20.6 | E56: 159.5 | F56: 153.8 | G56: 5.7 | H56: 20.9 | I56: 165.2 | J56: 158.7 | K56: 6.5 | L56: 19.7 | M56: 140.8 | N56: 137.6 | O56: 3.2
C57: 7月 | D57: 22.1 | E57: 173.6 | F57: 166.1 | G57: 7.5 | H57: 22.6 | I57: 180.5 | J57: 172 | K57: 8.5 | L57: 20 | M57: 145.5 | N57: 142.2 | O57: 3.3
C58: 8月 | D58: 18.7 | E58: 144.8 | F58: 137.4 | G58: 7.4 | H58: 18.6 | I58: 146.3 | J58: 138.1 | K58: 8.2 | L58: 18.7 | M58: 138.6 | N58: 134.3 | O58: 4.3
C59: 9月 | D59: 19.8 | E59: 152.6 | F59: 146.3 | G59: 6.3 | H59: 20 | I59: 156.9 | J59: 149.7 | K59: 7.2 | L59: 18.9 | M59: 136.1 | N59: 133.2 | O59: 2.9
C60: 10月 | D60: 20.5 | E60: 158.9 | F60: 151.9 | G60: 7 | H60: 20.6 | I60: 164.3 | J60: 156.1 | K60: 8.2 | L60: 19.9 | M60: 140.8 | N60: 138 | O60: 2.8
C61: 11月 | D61: 16.9 | E61: 160.9 | F61: 147.5 | G61: 13.4 | H61: 16.7 | I61: 167.4 | J61: 150.8 | K61: 16.6 | L61: 17.5 | M61: 141.7 | N61: 137.6 | O61: 4.1
C62: 12月 | D62: 19.5 | E62: 155.1 | F62: 149.1 | G62: 6 | H62: 19.7 | I62: 159.3 | J62: 152.3 | K62: 7 | L62: 18.7 | M62: 138.8 | N62: 136.7 | O62: 2.1
D64: 産業 | E64: Ｅ | F64: 製造業
D65: 計 | H65: 男 | L65: 女
D66: 出勤日数 | E66: 総 実 労働時間 | F66: 所定内 労働時間 | G66: 所定外 労働時間 | H66: 出勤日数 | I66: 総 実 労働時間 | J66: 所定内 労働時間 | K66: 所定外 労働時間 | L66: 出勤日数 | M66: 総 実 労働時間 | N66: 所定内 労働時間 | O66: 所定外 労働時間
D68: (日) | E68: (時間) | F68: (時間) | G68: (時間) | H68: (日) | I68: (時間) | J68: (時間) | K68: (時間) | L68: (日) | M68: (時間) | N68: (時間) | O68: (時間)
B69: 令和7年 | D69: 19 | E69: 157.1 | F69: 143.9 | G69: 13.2 | H69: 19.4 | I69: 163.8 | J69: 148.3 | K69: 15.5 | L69: 18.2 | M69: 143.3 | N69: 134.8 | O69: 8.5
C71: 令和7年1月 | D71: 17.9 | E71: 147 | F71: 135.4 | G71: 11.6 | H71: 18.3 | I71: 152.8 | J71: 139.2 | K71: 13.6 | L71: 17 | M71: 135 | N71: 127.6 | O71: 7.4
C72: 2月 | D72: 18.4 | E72: 150.6 | F72: 138.2 | G72: 12.4 | H72: 18.9 | I72: 157.7 | J72: 143.3 | K72: 14.4 | L72: 17.4 | M72: 135.6 | N72: 127.6 | O72: 8
C73: 3月 | D73: 18.7 | E73: 153.3 | F73: 140.2 | G73: 13.1 | H73: 19.2 | I73: 159.5 | J73: 144.3 | K73: 15.2 | L73: 17.8 | M73: 140.3 | N73: 131.8 | O73: 8.5
C74: 4月 | D74: 19.9 | E74: 163.8 | F74: 150.2 | G74: 13.6 | H74: 20.4 | I74: 171.3 | J74: 155.5 | K74: 15.8 | L74: 18.8 | M74: 148.3 | N74: 139.2 | O74: 9.1
C75: 5月 | D75: 18.9 | E75: 154.3 | F75: 142 | G75: 12.3 | H75: 19.2 | I75: 160.2 | J75: 145.8 | K75: 14.4 | L75: 18.3 | M75: 142.1 | N75: 134.2 | O75: 7.9
C76: 6月 | D76: 19.6 | E76: 160.9 | F76: 147.8 | G76: 13.1 | H76: 19.9 | I76: 166.4 | J76: 151.1 | K76: 15.3 | L76: 19 | M76: 149.5 | N76: 140.8 | O76: 8.7
C77: 7月 | D77: 20.1 | E77: 161.9 | F77: 149.5 | G77: 12.4 | H77: 20.6 | I77: 168.7 | J77: 153.9 | K77: 14.8 | L77: 19.3 | M77: 149.3 | N77: 141.3 | O77: 8
C78: 8月 | D78: 17.9 | E78: 149.8 | F78: 137.2 | G78: 12.6 | H78: 18.2 | I78: 155.3 | J78: 140.5 | K78: 14.8 | L78: 17.3 | M78: 138.7 | N78: 130.5 | O78: 8.2
C79: 9月 | D79: 19.1 | E79: 158.1 | F79: 144.3 | G79: 13.8 | H79: 19.5 | I79: 164.5 | J79: 148.4 | K79: 16.1 | L79: 18.3 | M79: 145 | N79: 135.9 | O79: 9.1
C80: 10月 | D80: 20 | E80: 168.5 | F80: 153.5 | G80: 15 | H80: 20.4 | I80: 175.8 | J80: 158.4 | K80: 17.4 | L80: 19.3 | M80: 153 | N80: 143.2 | O80: 9.8
C81: 11月 | D81: 18.7 | E81: 159.9 | F81: 145.8 | G81: 14.1 | H81: 19 | I81: 168.7 | J81: 151.8 | K81: 16.9 | L81: 18.1 | M81: 142.7 | N81: 134.1 | O81: 8.6
C82: 12月 | D82: 18.7 | E82: 156 | F82: 141.9 | G82: 14.1 | H82: 19.2 | I82: 164.9 | J82: 147.7 | K82: 17.2 | L82: 17.7 | M82: 138.7 | N82: 130.5 | O82: 8.2
O84: ※事業所規模30人以上を含む
D85: 産業 | E85: Ｆ | F85: 電気・ガス・熱供給・水道業
D86: 計 | H86: 男 | L86: 女
D87: 出勤日数 | E87: 総 実 労働時間 | F87: 所定内 労働時間 | G87: 所定外 労働時間 | H87: 出勤日数 | I87: 総 実 労働時間 | J87: 所定内 労働時間 | K87: 所定外 労働時間 | L87: 出勤日数 | M87: 総 実 労働時間 | N87: 所定内 労働時間 | O87: 所定外 労働時間
D89: (日) | E89: (時間) | F89: (時間) | G89: (時間) | H89: (日) | I89: (時間) | J89: (時間) | K89: (時間) | L89: (日) | M89: (時間) | N89: (時間) | O89: (時間)
B90: 令和7年 | D90: 19 | E90: 154.5 | F90: 142.6 | G90: 11.9 | H90: 19.1 | I90: 155.3 | J90: 143.1 | K90: 12.2 | L90: 18.6 | M90: 145.7 | N90: 137.9 | O90: 7.8
C92: 令和7年1月 | D92: 18.4 | E92: 151.2 | F92: 139.4 | G92: 11.8 | H92: 18.5 | I92: 152.1 | J92: 139.9 | K92: 12.2 | L92: 17.4 | M92: 140.1 | N92: 133.4 | O92: 6.7
C93: 2月 | D93: 17.4 | E93: 142.5 | F93: 132.3 | G93: 10.2 | H93: 17.7 | I93: 144.7 | J93: 134.3 | K93: 10.4 | L93: 14.2 | M93: 113.8 | N93: 106.7 | O93: 7.1
C94: 3月 | D94: 18.3 | E94: 149.3 | F94: 136.6 | G94: 12.7 | H94: 18.5 | I94: 150.9 | J94: 138.1 | K94: 12.8 | L94: 15.4 | M94: 127.3 | N94: 116.6 | O94: 10.7
C95: 4月 | D95: 20.3 | E95: 165.9 | F95: 153 | G95: 12.9 | H95: 20.3 | I95: 165.4 | J95: 152.7 | K95: 12.7 | L95: 20.6 | M95: 171.5 | N95: 156 | O95: 15.5
C96: 5月 | D96: 19.4 | E96: 159.4 | F96: 145.7 | G96: 13.7 | H96: 19.4 | I96: 159.4 | J96: 145.2 | K96: 14.2 | L96: 19.9 | M96: 158.7 | N96: 151.8 | O96: 6.9
C97: 6月 | D97: 19.6 | E97: 157.6 | F97: 145.7 | G97: 11.9 | H97: 19.5 | I97: 158.1 | J97: 145.8 | K97: 12.3 | L97: 20 | M97: 151.7 | N97: 144.5 | O97: 7.2
C98: 7月 | D98: 20.3 | E98: 162 | F98: 151.8 | G98: 10.2 | H98: 20.4 | I98: 163.7 | J98: 152.9 | K98: 10.8 | L98: 19.4 | M98: 145.1 | N98: 140.6 | O98: 4.5
C99: 8月 | D99: 18.3 | E99: 147.6 | F99: 136.1 | G99: 11.5 | H99: 18.4 | I99: 148.9 | J99: 136.7 | K99: 12.2 | L99: 17.8 | M99: 135 | N99: 130.1 | O99: 4.9
C100: 9月 | D100: 18.9 | E100: 151.5 | F100: 139.1 | G100: 12.4 | H100: 18.9 | I100: 152.4 | J100: 139.4 | K100: 13 | L100: 18.6 | M100: 141.4 | N100: 135.6 | O100: 5.8
C101: 10月 | D101: 20.6 | E101: 167.3 | F101: 154.3 | G101: 13 | H101: 20.6 | I101: 167.4 | J101: 154.2 | K101: 13.2 | L101: 21.5 | M101: 166 | N101: 155.6 | O101: 10.4
C102: 11月 | D102: 17.2 | E102: 141.5 | F102: 130 | G102: 11.5 | H102: 17.2 | I102: 142.3 | J102: 130.6 | K102: 11.7 | L102: 17 | M102: 132.1 | N102: 122.8 | O102: 9.3
C103: 12月 | D103: 19.5 | E103: 158.8 | F103: 147.9 | G103: 10.9 | H103: 19.4 | I103: 158 | J103: 146.8 | K103: 11.2 | L103: 20.8 | M103: 166.2 | N103: 159.6 | O103: 6.6
D105: 産業 | E105: Ｇ | F105: 情報通信業
D106: 計 | H106: 男 | L106: 女
D107: 出勤日数 | E107: 総 実 労働時間 | F107: 所定内 労働時間 | G107: 所定外 労働時間 | H107: 出勤日数 | I107: 総 実 労働時間 | J107: 所定内 労働時間 | K107: 所定外 労働時間 | L107: 出勤日数 | M107: 総 実 労働時間 | N107: 所定内 労働時間 | O107: 所定外 労働時間
D109: (日) | E109: (時間) | F109: (時間) | G109: (時間) | H109: (日) | I109: (時間) | J109: (時間) | K109: (時間) | L109: (日) | M109: (時間) | N109: (時間) | O109: (時間)
B110: 令和7年 | D110: 17.1 | E110: 133.7 | F110: 120.5 | G110: 13.2 | H110: 17.5 | I110: 149.4 | J110: 132 | K110: 17.4 | L110: 16.7 | M110: 121.7 | N110: 111.7 | O110: 10
C112: 令和7年1月 | D112: 16.5 | E112: 126.7 | F112: 113.3 | G112: 13.4 | H112: 16.8 | I112: 139.7 | J112: 125.3 | K112: 14.4 | L112: 16.2 | M112: 117.4 | N112: 104.7 | O112: 12.7
C113: 2月 | D113: 16.5 | E113: 129.5 | F113: 114.2 | G113: 15.3 | H113: 16.5 | I113: 139.5 | J113: 124.3 | K113: 15.2 | L113: 16.5 | M113: 122.1 | N113: 106.8 | O113: 15.3
C114: 3月 | D114: 16.6 | E114: 129.5 | F114: 116.4 | G114: 13.1 | H114: 17.5 | I114: 148.6 | J114: 132.1 | K114: 16.5 | L114: 15.9 | M114: 115 | N114: 104.4 | O114: 10.6
C115: 4月 | D115: 17.7 | E115: 135.3 | F115: 125 | G115: 10.3 | H115: 19.4 | I115: 163.1 | J115: 147.1 | K115: 16 | L115: 16.4 | M115: 113.4 | N115: 107.6 | O115: 5.8
C116: 5月 | D116: 17 | E116: 128.6 | F116: 119.2 | G116: 9.4 | H116: 18.3 | I116: 153 | J116: 138.2 | K116: 14.8 | L116: 15.9 | M116: 108.8 | N116: 103.8 | O116: 5
C117: 6月 | D117: 17.8 | E117: 136.9 | F117: 125.8 | G117: 11.1 | H117: 19 | I117: 159.8 | J117: 143.5 | K117: 16.3 | L117: 16.8 | M117: 118.4 | N117: 111.5 | O117: 6.9
...

Sheet 雇用（5～）
B1: 第１５表 産業 事業所規模 男女別の月末推計常用労働者数（事業所規模 ５人以上）
L2: ※事業所規模30人以上を含む
D3: 産業 | E3: TL | F3: 調査産業計
D4: 計 | G4: 男 | J4: 女
E5: うちパートタイム労働者数 | F5: パートタイム労働者比率 | H5: うちパートタイム労働者数 | I5: パートタイム労働者比率 | K5: うちパートタイム労働者数 | L5: パートタイム労働者比率
D7: (人) | E7: (人) | F7: (％) | G7: (人) | H7: (人) | I7: (％) | J7: (人) | K7: (人) | L7: (％)
B8: 令和7年 | D8: 308779 | E8: 91050 | F8: 29.5 | G8: 153899 | H8: 22260 | I8: 14.5 | J8: 154881 | K8: 68790 | L8: 44.4
C10: 令和7年1月 | D10: 309302 | E10: 88222 | F10: 28.5 | G10: 156243 | H10: 22773 | I10: 14.6 | J10: 153059 | K10: 65449 | L10: 42.8
C11: 2月 | D11: 304776 | E11: 87705 | F11: 28.8 | G11: 154487 | H11: 22547 | I11: 14.6 | J11: 150289 | K11: 65158 | L11: 43.4
C12: 3月 | D12: 297177 | E12: 87833 | F12: 29.6 | G12: 147697 | H12: 23135 | I12: 15.7 | J12: 149480 | K12: 64698 | L12: 43.3
C13: 4月 | D13: 308024 | E13: 89687 | F13: 29.1 | G13: 153686 | H13: 23043 | I13: 15 | J13: 154338 | K13: 66644 | L13: 43.2
C14: 5月 | D14: 311106 | E14: 90855 | F14: 29.2 | G14: 155600 | H14: 22034 | I14: 14.2 | J14: 155506 | K14: 68821 | L14: 44.3
C15: 6月 | D15: 311466 | E15: 86756 | F15: 27.9 | G15: 156397 | H15: 21540 | I15: 13.8 | J15: 155069 | K15: 65216 | L15: 42.1
C16: 7月 | D16: 308269 | E16: 92655 | F16: 30.1 | G16: 151317 | H16: 21116 | I16: 14 | J16: 156952 | K16: 71539 | L16: 45.6
C17: 8月 | D17: 312918 | E17: 93459 | F17: 29.9 | G17: 156278 | H17: 21605 | I17: 13.8 | J17: 156640 | K17: 71854 | L17: 45.9
C18: 9月 | D18: 311909 | E18: 92042 | F18: 29.5 | G18: 155047 | H18: 21116 | I18: 13.6 | J18: 156862 | K18: 70926 | L18: 45.2
C19: 10月 | D19: 312030 | E19: 94118 | F19: 30.2 | G19: 155559 | H19: 23401 | I19: 15 | J19: 156471 | K19: 70717 | L19: 45.2
C20: 11月 | D20: 306901 | E20: 92107 | F20: 30 | G20: 151437 | H20: 21442 | I20: 14.2 | J20: 155464 | K20: 70665 | L20: 45.5
C21: 12月 | D21: 311467 | E21: 97163 | F21: 31.2 | G21: 153040 | H21: 23372 | I21: 15.3 | J21: 158427 | K21: 73791 | L21: 46.6
D23: 産業 | E23: C | F23: 鉱業，採石業，砂利採取業
D24: 計 | G24: 男 | J24: 女
E25: うちパートタイム労働者数 | F25: パートタイム労働者比率 | H25: うちパートタイム労働者数 | I25: パートタイム労働者比率 | K25: うちパートタイム労働者数 | L25: パートタイム労働者比率
D27: (人) | E27: (人) | F27: (％) | G27: (人) | H27: (人) | I27: (％) | J27: (人) | K27: (人) | L27: (％)
B28: 令和7年 | D28: - | E28: - | F28: - | G28: - | H28: - | I28: - | J28: - | K28: - | L28: -
C30: 令和7年1月 | D30: - | E30: - | F30: - | G30: - | H30: - | I30: - | J30: - | K30: - | L30: -
C31: 2月 | D31: - | E31: - | F31: - | G31: - | H31: - | I31: - | J31: - | K31: - | L31: -
C32: 3月 | D32: - | E32: - | F32: - | G32: - | H32: - | I32: - | J32: - | K32: - | L32: -
C33: 4月 | D33: - | E33: - | F33: - | G33: - | H33: - | I33: - | J33: - | K33: - | L33: -
C34: 5月 | D34: - | E34: - | F34: - | G34: - | H34: - | I34: - | J34: - | K34: - | L34: -
C35: 6月 | D35: - | E35: - | F35: - | G35: - | H35: - | I35: - | J35: - | K35: - | L35: -
C36: 7月 | D36: - | E36: - | F36: - | G36: - | H36: - | I36: - | J36: - | K36: - | L36: -
C37: 8月 | D37: - | E37: - | F37: - | G37: - | H37: - | I37: - | J37: - | K37: - | L37: -
C38: 9月 | D38: - | E38: - | F38: - | G38: - | H38: - | I38: - | J38: - | K38: - | L38: -
C39: 10月 | D39: - | E39: - | F39: - | G39: - | H39: - | I39: - | J39: - | K39: - | L39: -
C40: 11月 | D40: - | E40: - | F40: - | G40: - | H40: - | I40: - | J40: - | K40: - | L40: -
C41: 12月 | D41: - | E41: - | F41: - | G41: - | H41: - | I41: - | J41: - | K41: - | L41: -
L43: ※事業所規模30人以上を含む
D44: 産業 | E44: Ｄ | F44: 建設業
D45: 計 | G45: 男 | J45: 女
E46: うちパートタイム労働者数 | F46: パートタイム労働者比率 | H46: うちパートタイム労働者数 | I46: パートタイム労働者比率 | K46: うちパートタイム労働者数 | L46: パートタイム労働者比率
D48: (人) | E48: (人) | F48: (％) | G48: (人) | H48: (人) | I48: (％) | J48: (人) | K48: (人) | L48: (％)
B49: 令和7年 | D49: 16284 | E49: 1137 | F49: 7 | G49: 12702 | H49: 272 | I49: 2.1 | J49: 3581 | K49: 865 | L49: 23.9
C51: 令和7年1月 | D51: 17385 | E51: 1697 | F51: 9.8 | G51: 13186 | H51: 409 | I51: 3.1 | J51: 4199 | K51: 1288 | L51: 30.7
C52: 2月 | D52: 17003 | E52: 1234 | F52: 7.3 | G52: 13334 | H52: 343 | I52: 2.6 | J52: 3669 | K52: 891 | L52: 24.3
C53: 3月 | D53: 16910 | E53: 1178 | F53: 7 | G53: 13244 | H53: 342 | I53: 2.6 | J53: 3666 | K53: 836 | L53: 22.8
C54: 4月 | D54: 16990 | E54: 1153 | F54: 6.8 | G54: 13409 | H54: 333 | I54: 2.5 | J54: 3581 | K54: 820 | L54: 22.9
C55: 5月 | D55: 17022 | E55: 1189 | F55: 7 | G55: 13445 | H55: 328 | I55: 2.4 | J55: 3577 | K55: 861 | L55: 24.1
C56: 6月 | D56: 17001 | E56: 1492 | F56: 8.8 | G56: 13129 | H56: 381 | I56: 2.9 | J56: 3872 | K56: 1111 | L56: 28.7
C57: 7月 | D57: 15202 | E57: 732 | F57: 4.8 | G57: 11965 | H57: 148 | I57: 1.2 | J57: 3237 | K57: 584 | L57: 18
C58: 8月 | D58: 15363 | E58: 759 | F58: 4.9 | G58: 12274 | H58: 148 | I58: 1.2 | J58: 3089 | K58: 611 | L58: 19.8
C59: 9月 | D59: 15715 | E59: 966 | F59: 6.1 | G59: 12507 | H59: 215 | I59: 1.7 | J59: 3208 | K59: 751 | L59: 23.4
C60: 10月 | D60: 15720 | E60: 1203 | F60: 7.7 | G60: 12076 | H60: 213 | I60: 1.8 | J60: 3644 | K60: 990 | L60: 27.2
C61: 11月 | D61: 15724 | E61: 1094 | F61: 7 | G61: 11718 | H61: 201 | I61: 1.7 | J61: 4006 | K61: 893 | L61: 22.3
C62: 12月 | D62: 15359 | E62: 946 | F62: 6.2 | G62: 12135 | H62: 205 | I62: 1.7 | J62: 3224 | K62: 741 | L62: 23
D64: 産業 | E64: Ｅ | F64: 製造業
D65: 計 | G65: 男 | J65: 女
E66: うちパートタイム労働者数 | F66: パートタイム労働者比率 | H66: うちパートタイム労働者数 | I66: パートタイム労働者比率 | K66: うちパートタイム労働者数 | L66: パートタイム労働者比率
D68: (人) | E68: (人) | F68: (％) | G68: (人) | H68: (人) | I68: (％) | J68: (人) | K68: (人) | L68: (％)
B69: 令和7年 | D69: 59561 | E69: 9144 | F69: 15.4 | G69: 39925 | H69: 2562 | I69: 6.4 | J69: 19636 | K69: 6582 | L69: 33.5
C71: 令和7年1月 | D71: 58479 | E71: 8666 | F71: 14.8 | G71: 39526 | H71: 2641 | I71: 6.7 | J71: 18953 | K71: 6025 | L71: 31.8
C72: 2月 | D72: 58343 | E72: 10022 | F72: 17.2 | G72: 39327 | H72: 3078 | I72: 7.8 | J72: 19016 | K72: 6944 | L72: 36.5
C73: 3月 | D73: 57473 | E73: 10115 | F73: 17.6 | G73: 38947 | H73: 3156 | I73: 8.1 | J73: 18526 | K73: 6959 | L73: 37.6
C74: 4月 | D74: 57668 | E74: 7494 | F74: 13 | G74: 39079 | H74: 1737 | I74: 4.4 | J74: 18589 | K74: 5757 | L74: 31
C75: 5月 | D75: 59372 | E75: 8265 | F75: 13.9 | G75: 40025 | H75: 1857 | I75: 4.6 | J75: 19347 | K75: 6408 | L75: 33.1
C76: 6月 | D76: 60627 | E76: 8968 | F76: 14.8 | G76: 41007 | H76: 2709 | I76: 6.6 | J76: 19620 | K76: 6259 | L76: 31.9
C77: 7月 | D77: 59896 | E77: 8799 | F77: 14.7 | G77: 39032 | H77: 1899 | I77: 4.9 | J77: 20864 | K77: 6900 | L77: 33.1
C78: 8月 | D78: 61048 | E78: 8241 | F78: 13.5 | G78: 40779 | H78: 2084 | I78: 5.1 | J78: 20269 | K78: 6157 | L78: 30.4
C79: 9月 | D79: 60322 | E79: 9329 | F79: 15.5 | G79: 40327 | H79: 2665 | I79: 6.6 | J79: 19995 | K79: 6664 | L79: 33.3
C80: 10月 | D80: 61382 | E80: 9988 | F80: 16.3 | G80: 41544 | H80: 3223 | I80: 7.8 | J80: 19838 | K80: 6765 | L80: 34.1
C81: 11月 | D81: 60038 | E81: 9446 | F81: 15.7 | G81: 39805 | H81: 2762 | I81: 6.9 | J81: 20233 | K81: 6684 | L81: 33
C82: 12月 | D82: 60083 | E82: 10395 | F82: 17.3 | G82: 39704 | H82: 2933 | I82: 7.4 | J82: 20379 | K82: 7462 | L82: 36.6
L84: ※事業所規模30人以上を含む
D85: 産業 | E85: Ｆ | F85: 電気・ガス・熱供給・水道業
D86: 計 | G86: 男 | J86: 女
E87: うちパートタイム労働者数 | F87: パートタイム労働者比率 | H87: うちパートタイム労働者数 | I87: パートタイム労働者比率 | K87: うちパートタイム労働者数 | L87: パートタイム労働者比率
D89: (人) | E89: (人) | F89: (％) | G89: (人) | H89: (人) | I89: (％) | J89: (人) | K89: (人) | L89: (％)
B90: 令和7年 | D90: 1612 | E90: 18 | F90: 1.1 | G90: 1482 | H90: 7 | I90: 0.5 | J90: 132 | K90: 11 | L90: 7.8
C92: 令和7年1月 | D92: 1598 | E92: 7 | F92: 0.4 | G92: 1478 | H92: 7 | I92: 0.5 | J92: 120 | K92: 0 | L92: 0
C93: 2月 | D93: 1606 | E93: 7 | F93: 0.4 | G93: 1490 | H93: 7 | I93: 0.5 | J93: 116 | K93: 0 | L93: 0
C94: 3月 | D94: 1629 | E94: 7 | F94: 0.4 | G94: 1514 | H94: 7 | I94: 0.5 | J94: 115 | K94: 0 | L94: 0
C95: 4月 | D95: 1571 | E95: 7 | F95: 0.4 | G95: 1459 | H95: 7 | I95: 0.5 | J95: 112 | K95: 0 | L95: 0
C96: 5月 | D96: 1624 | E96: 33 | F96: 2 | G96: 1483 | H96: 7 | I96: 0.5 | J96: 141 | K96: 26 | L96: 18.4
C97: 6月 | D97: 1633 | E97: 33 | F97: 2 | G97: 1479 | H97: 7 | I97: 0.5 | J97: 154 | K97: 26 | L97: 16.9
C98: 7月 | D98: 1615 | E98: 20 | F98: 1.2 | G98: 1478 | H98: 7 | I98: 0.5 | J98: 137 | K98: 13 | L98: 9.5
C99: 8月 | D99: 1617 | E99: 23 | F99: 1.4 | G99: 1459 | H99: 10 | I99: 0.7 | J99: 158 | K99: 13 | L99: 8.2
C100: 9月 | D100: 1625 | E100: 20 | F100: 1.2 | G100: 1496 | H100: 7 | I100: 0.5 | J100: 129 | K100: 13 | L100: 10.1
C101: 10月 | D101: 1629 | E101: 20 | F101: 1.2 | G101: 1499 | H101: 7 | I101: 0.5 | J101: 130 | K101: 13 | L101: 10
C102: 11月 | D102: 1602 | E102: 20 | F102: 1.2 | G102: 1472 | H102: 7 | I102: 0.5 | J102: 130 | K102: 13 | L102: 10
C103: 12月 | D103: 1601 | E103: 20 | F103: 1.2 | G103: 1471 | H103: 7 | I103: 0.5 | J103: 130 | K103: 13 | L103: 10
D105: 産業 | E105: Ｇ | F105: 情報通信業
D106: 計 | G106: 男 | J106: 女
E107: うちパートタイム労働者数 | F107: パートタイム労働者比率 | H107: うちパートタイム労働者数 | I107: パートタイム労働者比率 | K107: うちパートタイム労働者数 | L107: パートタイム労働者比率
D109: (人) | E109: (人) | F109: (％) | G109: (人) | H109: (人) | I109: (％) | J109: (人) | K109: (人) | L109: (％)
B110: 令和7年 | D110: 2265 | E110: 629 | F110: 27.8 | G110: 980 | H110: 124 | I110: 12.8 | J110: 1285 | K110: 505 | L110: 39.2
C112: 令和7年1月 | D112: 2365 | E112: 727 | F112: 30.7 | G112: 996 | H112: 142 | I112: 14.3 | J112: 1369 | K112: 585 | L112: 42.7
C113: 2月 | D113: 2352 | E113: 704 | F113: 29.9 | G113: 998 | H113: 138 | I113: 13.8 | J113: 1354 | K113: 566 | L113: 41.8
C114: 3月 | D114: 2332 | E114: 648 | F114: 27.8 | G114: 1007 | H114: 122 | I114: 12.1 | J114: 1325 | K114: 526 | L114: 39.7
C115: 4月 | D115: 2384 | E115: 614 | F115: 25.8 | G115: 1056 | H115: 98 | I115: 9.3 | J115: 1328 | K115: 516 | L115: 38.9
C116: 5月 | D116: 2334 | E116: 632 | F116: 27.1 | G116: 1051 | H116: 98 | I116: 9.3 | J116: 1283 | K116: 534 | L116: 41.6
C117: 6月 | D117: 2312 | E117: 613 | F117: 26.5 | G117: 1026 | H117: 81 | I117: 7.9 | J117: 1286 | K117: 532 | L117: 41.4
...
