Workbook

Sheet ○給与（30～）
B1: 第１０表 産業 事業所規模 男女別の常用労働者 １人平均月間現金給与額（事業所規模３０人以上）
D3: 産業 | E3: TL | F3: 調査産業計
D4: 計 | H4: 男 | K4: 女
D5: 現金給与 総額 | E5: きまって支給する給与 | F5: 所定内給与 | G5: 特別に支払われた給与 | H5: 現金給与 総額 | I5: きまって支給する給与 | J5: 特別に支払われた給与 | K5: 現金給与 総額 | L5: きまって支給する給与 | M5: 特別に支払われた給与
D7: (円) | E7: (円) | F7: (円) | G7: (円) | H7: (円) | I7: (円) | J7: (円) | K7: (円) | L7: (円) | M7: (円)
B8: 令和7年 | D8: 325861 | E8: 268388 | F8: 246412 | G8: 57473 | H8: 397013 | I8: 322101 | J8: 74912 | K8: 250571 | L8: 211550 | M8: 39021
C10: 令和7年1月 | D10: 281372 | E10: 257487 | F10: 238484 | G10: 23885 | H10: 351300 | I10: 307464 | J10: 43836 | K10: 206893 | L10: 204257 | M10: 2636
C11: 2月 | D11: 259191 | E11: 258645 | F11: 239146 | G11: 546 | H11: 311347 | I11: 310945 | J11: 402 | K11: 203862 | L11: 203162 | M11: 700
C12: 3月 | D12: 268775 | E12: 257876 | F12: 238189 | G12: 10899 | H12: 321265 | I12: 305667 | J12: 15598 | K12: 212947 | L12: 207047 | M12: 5900
C13: 4月 | D13: 272793 | E13: 270788 | F13: 248126 | G13: 2005 | H13: 328649 | I13: 325018 | J13: 3631 | K13: 214020 | L13: 213727 | M13: 293
C14: 5月 | D14: 273497 | E14: 270591 | F14: 249379 | G14: 2906 | H14: 329077 | I14: 325306 | J14: 3771 | K14: 214890 | L14: 212895 | M14: 1995
C15: 6月 | D15: 458972 | E15: 270098 | F15: 245920 | G15: 188874 | H15: 550706 | I15: 321868 | J15: 228838 | K15: 360818 | L15: 214705 | M15: 146113
C16: 7月 | D16: 371105 | E16: 273258 | F16: 250206 | G16: 97847 | H16: 467202 | I16: 329239 | J16: 137963 | K16: 272722 | L16: 215945 | M16: 56777
C17: 8月 | D17: 283693 | E17: 270873 | F17: 248216 | G17: 12820 | H17: 343395 | I17: 324864 | J17: 18531 | K17: 220108 | L17: 213370 | M17: 6738
C18: 9月 | D18: 268761 | E18: 268585 | F18: 245919 | G18: 176 | H18: 326796 | I18: 326570 | J18: 226 | K18: 207734 | L18: 207610 | M18: 124
C19: 10月 | D19: 276835 | E19: 270592 | F19: 248189 | G19: 6243 | H19: 328850 | I19: 328261 | J19: 589 | K19: 222155 | L19: 209970 | M19: 12185
C20: 11月 | D20: 287105 | E20: 275234 | F20: 251291 | G20: 11871 | H20: 349304 | I20: 329988 | J20: 19316 | K20: 219150 | L20: 215412 | M20: 3738
C21: 12月 | D21: 604561 | E21: 276430 | F21: 253731 | G21: 328131 | H21: 753978 | I21: 329880 | J21: 424098 | K21: 447720 | L21: 220325 | M21: 227395
D23: 産業 | E23: C | F23: 鉱業，採石業，砂利採取業
D24: 計 | H24: 男 | K24: 女
D25: 現金給与 総額 | E25: きまって支給する給与 | F25: 所定内給与 | G25: 特別に支払われた給与 | H25: 現金給与 総額 | I25: きまって支給する給与 | J25: 特別に支払われた給与 | K25: 現金給与 総額 | L25: きまって支給する給与 | M25: 特別に支払われた給与
D27: (円) | E27: (円) | F27: (円) | G27: (円) | H27: (円) | I27: (円) | J27: (円) | K27: (円) | L27: (円) | M27: (円)
B28: 令和7年 | D28: - | E28: - | F28: - | G28: - | H28: - | I28: - | J28: - | K28: - | L28: - | M28: -
C30: 令和7年1月 | D30: - | E30: - | F30: - | G30: - | H30: - | I30: - | J30: - | K30: - | L30: - | M30: -
C31: 2月 | D31: - | E31: - | F31: - | G31: - | H31: - | I31: - | J31: - | K31: - | L31: - | M31: -
C32: 3月 | D32: - | E32: - | F32: - | G32: - | H32: - | I32: - | J32: - | K32: - | L32: - | M32: -
C33: 4月 | D33: - | E33: - | F33: - | G33: - | H33: - | I33: - | J33: - | K33: - | L33: - | M33: -
C34: 5月 | D34: - | E34: - | F34: - | G34: - | H34: - | I34: - | J34: - | K34: - | L34: - | M34: -
C35: 6月 | D35: - | E35: - | F35: - | G35: - | H35: - | I35: - | J35: - | K35: - | L35: - | M35: -
C36: 7月 | D36: - | E36: - | F36: - | G36: - | H36: - | I36: - | J36: - | K36: - | L36: - | M36: -
C37: 8月 | D37: - | E37: - | F37: - | G37: - | H37: - | I37: - | J37: - | K37: - | L37: - | M37: -
C38: 9月 | D38: - | E38: - | F38: - | G38: - | H38: - | I38: - | J38: - | K38: - | L38: - | M38: -
C39: 10月 | D39: - | E39: - | F39: - | G39: - | H39: - | I39: - | J39: - | K39: - | L39: - | M39: -
C40: 11月 | D40: - | E40: - | F40: - | G40: - | H40: - | I40: - | J40: - | K40: - | L40: - | M40: -
C41: 12月 | D41: - | E41: - | F41: - | G41: - | H41: - | I41: - | J41: - | K41: - | L41: - | M41: -
D44: 産業 | E44: Ｄ | F44: 建設業
D45: 計 | H45: 男 | K45: 女
D46: 現金給与 総額 | E46: きまって支給する給与 | F46: 所定内給与 | G46: 特別に支払われた給与 | H46: 現金給与 総額 | I46: きまって支給する給与 | J46: 特別に支払われた給与 | K46: 現金給与 総額 | L46: きまって支給する給与 | M46: 特別に支払われた給与
D48: (円) | E48: (円) | F48: (円) | G48: (円) | H48: (円) | I48: (円) | J48: (円) | K48: (円) | L48: (円) | M48: (円)
B49: 令和7年 | D49: 512129 | E49: 417570 | F49: 383903 | G49: 94559 | H49: 595887 | I49: 482295 | J49: 113592 | K49: 321934 | L49: 270594 | M49: 51340
...

Sheet 〇時間（30～）
B1: 第１１表 産業 事業所規模 男女別の常用労働者 １人平均月間出勤日数及び実労働時間（事業所規模３０人以上）
D3: 産業 | E3: ='○給与（30～）'!E3 -> TL | F3: ='○給与（30～）'!F3 -> 調査産業計
D4: 計 | H4: 男 | L4: 女
D5: 出勤日数 | E5: 総 実 労働時間 | F5: 所定内 労働時間 | G5: 所定外 労働時間 | H5: 出勤日数 | I5: 総 実 労働時間 | J5: 所定内 労働時間 | K5: 所定外 労働時間 | L5: 出勤日数 | M5: 総 実 労働時間 | N5: 所定内 労働時間 | O5: 所定外 労働時間
D7: (日) | E7: (時間) | F7: (時間) | G7: (時間) | H7: (日) | I7: (時間) | J7: (時間) | K7: (時間) | L7: (日) | M7: (時間) | N7: (時間) | O7: (時間)
B8: 令和7年 | D8: 18.9 | E8: 147.3 | F8: 136.1 | G8: 11.2 | H8: 19.5 | I8: 159.8 | J8: 144.6 | K8: 15.2 | L8: 18.3 | M8: 134 | N8: 127.1 | O8: 6.9
C10: 令和7年1月 | D10: 18.2 | E10: 140.3 | F10: 130 | G10: 10.3 | H10: 18.7 | I10: 151.1 | J10: 137.9 | K10: 13.2 | L10: 17.6 | M10: 128.8 | N10: 121.7 | O10: 7.1
C11: 2月 | D11: 17.9 | E11: 138.5 | F11: 128.6 | G11: 9.9 | H11: 18.5 | I11: 150.8 | J11: 137.7 | K11: 13.1 | L11: 17.1 | M11: 125.6 | N11: 119 | O11: 6.6
C12: 3月 | D12: 18.4 | E12: 142.2 | F12: 132 | G12: 10.2 | H12: 18.9 | I12: 152.8 | J12: 139.3 | K12: 13.5 | L12: 17.9 | M12: 131 | N12: 124.3 | O12: 6.7
C13: 4月 | D13: 19.6 | E13: 153.7 | F13: 141.4 | G13: 12.3 | H13: 20.2 | I13: 166.5 | J13: 150 | K13: 16.5 | L13: 18.9 | M13: 140.3 | N13: 132.4 | O13: 7.9
C14: 5月 | D14: 19.1 | E14: 148.5 | F14: 137.4 | G14: 11.1 | H14: 19.6 | I14: 160.8 | J14: 145.8 | K14: 15 | L14: 18.6 | M14: 135.6 | N14: 128.6 | O14: 7
C15: 6月 | D15: 19.7 | E15: 152.1 | F15: 140.7 | G15: 11.4 | H15: 20.2 | I15: 164.1 | J15: 148.5 | K15: 15.6 | L15: 19.1 | M15: 139.3 | N15: 132.3 | O15: 7
C16: 7月 | D16: 19.8 | E16: 152.7 | F16: 141.6 | G16: 11.1 | H16: 20.4 | I16: 165.5 | J16: 150 | K16: 15.5 | L16: 19.2 | M16: 139.6 | N16: 132.9 | O16: 6.7
C17: 8月 | D17: 18.2 | E17: 142 | F17: 131.9 | G17: 10.1 | H17: 18.8 | I17: 154.8 | J17: 140.2 | K17: 14.6 | L17: 17.6 | M17: 128.5 | N17: 123.1 | O17: 5.4
C18: 9月 | D18: 18.8 | E18: 147 | F18: 135.1 | G18: 11.9 | H18: 19.5 | I18: 160.5 | J18: 144.2 | K18: 16.3 | L18: 18 | M18: 132.8 | N18: 125.6 | O18: 7.2
C19: 10月 | D19: 19.6 | E19: 153 | F19: 141 | G19: 12 | H19: 20.2 | I19: 167.1 | J19: 150.5 | K19: 16.6 | L19: 18.9 | M19: 138.2 | N19: 131 | O19: 7.2
C20: 11月 | D20: 19 | E20: 148.9 | F20: 136.9 | G20: 12 | H20: 19.5 | I20: 162.9 | J20: 146.5 | K20: 16.4 | L20: 18.4 | M20: 133.6 | N20: 126.4 | O20: 7.2
C21: 12月 | D21: 18.9 | E21: 147.8 | F21: 136.1 | G21: 11.7 | H21: 19.5 | I21: 160.7 | J21: 144.4 | K21: 16.3 | L21: 18.4 | M21: 134.3 | N21: 127.4 | O21: 6.9
D23: 産業 | E23: ='○給与（30～）'!E23 -> C | F23: ='○給与（30～）'!F23 -> 鉱業，採石業，砂利採取業
D24: 計 | H24: 男 | L24: 女
D25: 出勤日数 | E25: 総 実 労働時間 | F25: 所定内 労働時間 | G25: 所定外 労働時間 | H25: 出勤日数 | I25: 総 実 労働時間 | J25: 所定内 労働時間 | K25: 所定外 労働時間 | L25: 出勤日数 | M25: 総 実 労働時間 | N25: 所定内 労働時間 | O25: 所定外 労働時間
D27: (日) | E27: (時間) | F27: (時間) | G27: (時間) | H27: (日) | I27: (時間) | J27: (時間) | K27: (時間) | L27: (日) | M27: (時間) | N27: (時間) | O27: (時間)
B28: 令和7年 | D28: - | E28: - | F28: - | G28: - | H28: - | I28: - | J28: - | K28: - | L28: - | M28: - | N28: - | O28: -
C30: 令和7年1月 | D30: - | E30: - | F30: - | G30: - | H30: - | I30: - | J30: - | K30: - | L30: - | M30: - | N30: - | O30: -
C31: 2月 | D31: - | E31: - | F31: - | G31: - | H31: - | I31: - | J31: - | K31: - | L31: - | M31: - | N31: - | O31: -
C32: 3月 | D32: - | E32: - | F32: - | G32: - | H32: - | I32: - | J32: - | K32: - | L32: - | M32: - | N32: - | O32: -
C33: 4月 | D33: - | E33: - | F33: - | G33: - | H33: - | I33: - | J33: - | K33: - | L33: - | M33: - | N33: - | O33: -
C34: 5月 | D34: - | E34: - | F34: - | G34: - | H34: - | I34: - | J34: - | K34: - | L34: - | M34: - | N34: - | O34: -
C35: 6月 | D35: - | E35: - | F35: - | G35: - | H35: - | I35: - | J35: - | K35: - | L35: - | M35: - | N35: - | O35: -
C36: 7月 | D36: - | E36: - | F36: - | G36: - | H36: - | I36: - | J36: - | K36: - | L36: - | M36: - | N36: - | O36: -
C37: 8月 | D37: - | E37: - | F37: - | G37: - | H37: - | I37: - | J37: - | K37: - | L37: - | M37: - | N37: - | O37: -
C38: 9月 | D38: - | E38: - | F38: - | G38: - | H38: - | I38: - | J38: - | K38: - | L38: - | M38: - | N38: - | O38: -
C39: 10月 | D39: - | E39: - | F39: - | G39: - | H39: - | I39: - | J39: - | K39: - | L39: - | M39: - | N39: - | O39: -
C40: 11月 | D40: - | E40: - | F40: - | G40: - | H40: - | I40: - | J40: - | K40: - | L40: - | M40: - | N40: - | O40: -
C41: 12月 | D41: - | E41: - | F41: - | G41: - | H41: - | I41: - | J41: - | K41: - | L41: - | M41: - | N41: - | O41: -
D44: 産業 | E44: ='○給与（30～）'!E44 -> Ｄ | F44: ='○給与（30～）'!F44 -> 建設業
D45: 計 | H45: 男 | L45: 女
D46: 出勤日数 | E46: 総 実 労働時間 | F46: 所定内 労働時間 | G46: 所定外 労働時間 | H46: 出勤日数 | I46: 総 実 労働時間 | J46: 所定内 労働時間 | K46: 所定外 労働時間 | L46: 出勤日数 | M46: 総 実 労働時間 | N46: 所定内 労働時間 | O46: 所定外 労働時間
D48: (日) | E48: (時間) | F48: (時間) | G48: (時間) | H48: (日) | I48: (時間) | J48: (時間) | K48: (時間) | L48: (日) | M48: (時間) | N48: (時間) | O48: (時間)
B49: 令和7年 | D49: 20.2 | E49: 158.5 | F49: 149.6 | G49: 8.9 | H49: 20.4 | I49: 165.4 | J49: 154.9 | K49: 10.5 | L49: 19.6 | M49: 142.7 | N49: 137.5 | O49: 5.2
...

Sheet 〇雇用（30～）
B1: 第１２表 産業 事業所規模 男女別の月末推計常用労働者数（事業所規模３０人以上）
D3: 産業 | E3: ='○給与（30～）'!E3 -> TL | F3: ='○給与（30～）'!F3 -> 調査産業計
D4: 計 | G4: 男 | J4: 女
E5: うちパートタイム労働者数 | F5: パートタイム労働者比率 | H5: うちパートタイム労働者数 | I5: パートタイム労働者比率 | K5: うちパートタイム労働者数 | L5: パートタイム労働者比率
D7: (人) | E7: (人) | F7: (％) | G7: (人) | H7: (人) | I7: (％) | J7: (人) | K7: (人) | L7: (％)
B8: 令和7年 | D8: 170660 | E8: 43610 | F8: 25.6 | G8: 87724 | H8: 10911 | I8: 12.4 | J8: 82936 | K8: 32699 | L8: 39.4
C10: 令和7年1月 | D10: 169826 | E10: 44682 | F10: 26.3 | G10: 87857 | H10: 11496 | I10: 13.1 | J10: 81969 | K10: 33186 | L10: 40.5
C11: 2月 | D11: 168920 | E11: 46255 | F11: 27.4 | G11: 86891 | H11: 11858 | I11: 13.6 | J11: 82029 | K11: 34397 | L11: 41.9
C12: 3月 | D12: 167786 | E12: 45212 | F12: 26.9 | G12: 86516 | H12: 11758 | I12: 13.6 | J12: 81270 | K12: 33454 | L12: 41.2
C13: 4月 | D13: 169466 | E13: 42825 | F13: 25.3 | G13: 86507 | H13: 10651 | I13: 12.3 | J13: 82959 | K13: 32174 | L13: 38.8
C14: 5月 | D14: 171943 | E14: 43845 | F14: 25.5 | G14: 88257 | H14: 10241 | I14: 11.6 | J14: 83686 | K14: 33604 | L14: 40.2
C15: 6月 | D15: 172266 | E15: 42964 | F15: 24.9 | G15: 89072 | H15: 10625 | I15: 11.9 | J15: 83194 | K15: 32339 | L15: 38.9
C16: 7月 | D16: 171457 | E16: 43157 | F16: 25.2 | G16: 86752 | H16: 10265 | I16: 11.8 | J16: 84705 | K16: 32892 | L16: 38.8
C17: 8月 | D17: 173265 | E17: 42709 | F17: 24.6 | G17: 89318 | H17: 10566 | I17: 11.8 | J17: 83947 | K17: 32143 | L17: 38.3
C18: 9月 | D18: 171351 | E18: 43848 | F18: 25.6 | G18: 87981 | H18: 10983 | I18: 12.5 | J18: 83370 | K18: 32865 | L18: 39.4
C19: 10月 | D19: 171943 | E19: 44211 | F19: 25.7 | G19: 88076 | H19: 11264 | I19: 12.8 | J19: 83867 | K19: 32947 | L19: 39.3
C20: 11月 | D20: 168200 | E20: 40467 | F20: 24.1 | G20: 87690 | H20: 10223 | I20: 11.7 | J20: 80510 | K20: 30244 | L20: 37.6
C21: 12月 | D21: 171496 | E21: 43142 | F21: 25.2 | G21: 87771 | H21: 10999 | I21: 12.5 | J21: 83725 | K21: 32143 | L21: 38.4
D23: 産業 | E23: ='○給与（30～）'!E23 -> C | F23: ='○給与（30～）'!F23 -> 鉱業，採石業，砂利採取業
D24: 計 | G24: 男 | J24: 女
E25: うちパートタイム労働者数 | F25: パートタイム労働者比率 | H25: うちパートタイム労働者数 | I25: パートタイム労働者比率 | K25: うちパートタイム労働者数 | L25: パートタイム労働者比率
D27: (人) | E27: (人) | F27: (％) | G27: (人) | H27: (人) | I27: (％) | J27: (人) | K27: (人) | L27: (％)
B28: 令和7年 | D28: - | E28: - | F28: - | G28: - | H28: - | I28: - | J28: - | K28: - | L28: -
C30: 令和7年1月 | D30: - | E30: - | F30: - | G30: - | H30: - | I30: - | J30: - | K30: - | L30: -
C31: 2月 | D31: - | E31: - | F31: - | G31: - | H31: - | I31: - | J31: - | K31: - | L31: -
C32: 3月 | D32: - | E32: - | F32: - | G32: - | H32: - | I32: - | J32: - | K32: - | L32: -
C33: 4月 | D33: - | E33: - | F33: - | G33: - | H33: - | I33: - | J33: - | K33: - | L33: -
C34: 5月 | D34: - | E34: - | F34: - | G34: - | H34: - | I34: - | J34: - | K34: - | L34: -
C35: 6月 | D35: - | E35: - | F35: - | G35: - | H35: - | I35: - | J35: - | K35: - | L35: -
C36: 7月 | D36: - | E36: - | F36: - | G36: - | H36: - | I36: - | J36: - | K36: - | L36: -
C37: 8月 | D37: - | E37: - | F37: - | G37: - | H37: - | I37: - | J37: - | K37: - | L37: -
C38: 9月 | D38: - | E38: - | F38: - | G38: - | H38: - | I38: - | J38: - | K38: - | L38: -
C39: 10月 | D39: - | E39: - | F39: - | G39: - | H39: - | I39: - | J39: - | K39: - | L39: -
C40: 11月 | D40: - | E40: - | F40: - | G40: - | H40: - | I40: - | J40: - | K40: - | L40: -
C41: 12月 | D41: - | E41: - | F41: - | G41: - | H41: - | I41: - | J41: - | K41: - | L41: -
D44: 産業 | E44: ='○給与（30～）'!E44 -> Ｄ | F44: ='○給与（30～）'!F44 -> 建設業
D45: 計 | G45: 男 | J45: 女
E46: うちパートタイム労働者数 | F46: パートタイム労働者比率 | H46: うちパートタイム労働者数 | I46: パートタイム労働者比率 | K46: うちパートタイム労働者数 | L46: パートタイム労働者比率
D48: (人) | E48: (人) | F48: (％) | G48: (人) | H48: (人) | I48: (％) | J48: (人) | K48: (人) | L48: (％)
B49: 令和7年 | D49: 6712 | E49: 754 | F49: 11.2 | G49: 4658 | H49: 185 | I49: 4 | J49: 2053 | K49: 569 | L49: 27.4
...

Sheet 〇給与（5～） 
B1: 第１３表 産業 事業所規模 男女別の常用労働者 １人平均月間現金給与額（事業所規模 ５人以上）
M2: ※事業所規模30人以上を含む
D3: 産業 | E3: TL | F3: 調査産業計
D4: 計 | H4: 男 | K4: 女
D5: 現金給与 総額 | E5: きまって支給する給与 | F5: 所定内給与 | G5: 特別に支払われた給与 | H5: 現金給与 総額 | I5: きまって支給する給与 | J5: 特別に支払われた給与 | K5: 現金給与 総額 | L5: きまって支給する給与 | M5: 特別に支払われた給与
D7: (円) | E7: (円) | F7: (円) | G7: (円) | H7: (円) | I7: (円) | J7: (円) | K7: (円) | L7: (円) | M7: (円)
B8: 令和7年 | D8: 295686 | E8: 245833 | F8: 229282 | G8: 49853 | H8: 365405 | I8: 299409 | J8: 65996 | K8: 226325 | L8: 192531 | M8: 33794
C10: 令和7年1月 | D10: 256620 | E10: 241422 | F10: 226493 | G10: 15198 | H10: 319904 | I10: 292539 | J10: 27365 | K10: 192339 | L10: 189499 | M10: 2840
C11: 2月 | D11: 242495 | E11: 240407 | F11: 225528 | G11: 2088 | H11: 293251 | I11: 290648 | J11: 2603 | K11: 190317 | L11: 188759 | M11: 1558
C12: 3月 | D12: 253799 | E12: 238514 | F12: 224822 | G12: 15285 | H12: 302846 | I12: 286207 | J12: 16639 | K12: 205279 | L12: 191334 | M12: 13945
C13: 4月 | D13: 251715 | E13: 248326 | F13: 231318 | G13: 3389 | H13: 303532 | I13: 298731 | J13: 4801 | K13: 199906 | L13: 197930 | M13: 1976
C14: 5月 | D14: 252199 | E14: 248525 | F14: 232388 | G14: 3674 | H14: 303508 | I14: 299883 | J14: 3625 | K14: 200772 | L14: 197050 | M14: 3722
C15: 6月 | D15: 390558 | E15: 249728 | F15: 231751 | G15: 140830 | H15: 477514 | I15: 297673 | J15: 179841 | K15: 302729 | L15: 201301 | M15: 101428
C16: 7月 | D16: 348193 | E16: 250870 | F16: 233303 | G16: 97323 | H16: 438949 | I16: 306510 | J16: 132439 | K16: 260187 | L16: 196916 | M16: 63271
C17: 8月 | D17: 260579 | E17: 242939 | F17: 226557 | G17: 17640 | H17: 327590 | I17: 299819 | J17: 27771 | K17: 193644 | L17: 186124 | M17: 7520
C18: 9月 | D18: 250774 | E18: 246650 | F18: 229476 | G18: 4124 | H18: 310504 | I18: 304426 | J18: 6078 | K18: 191947 | L18: 189747 | M18: 2200
C19: 10月 | D19: 255757 | E19: 247563 | F19: 230431 | G19: 8194 | H19: 312214 | I19: 304194 | J19: 8020 | K19: 199503 | L19: 191136 | M19: 8367
C20: 11月 | D20: 268509 | E20: 247264 | F20: 229390 | G20: 21245 | H20: 335263 | I20: 306108 | J20: 29155 | K20: 203264 | L20: 189750 | M20: 13514
C21: 12月 | D21: 513691 | E21: 247465 | F21: 229722 | G21: 266226 | H21: 660661 | I21: 306003 | J21: 354658 | K21: 371454 | L21: 190813 | M21: 180641
D23: 産業 | E23: C | F23: 鉱業，採石業，砂利採取業
D24: 計 | H24: 男 | K24: 女
D25: 現金給与 総額 | E25: きまって支給する給与 | F25: 所定内給与 | G25: 特別に支払われた給与 | H25: 現金給与 総額 | I25: きまって支給する給与 | J25: 特別に支払われた給与 | K25: 現金給与 総額 | L25: きまって支給する給与 | M25: 特別に支払われた給与
D27: (円) | E27: (円) | F27: (円) | G27: (円) | H27: (円) | I27: (円) | J27: (円) | K27: (円) | L27: (円) | M27: (円)
B28: 令和7年 | D28: - | E28: - | F28: - | G28: - | H28: - | I28: - | J28: - | K28: - | L28: - | M28: -
C30: 令和7年1月 | D30: - | E30: - | F30: - | G30: - | H30: - | I30: - | J30: - | K30: - | L30: - | M30: -
C31: 2月 | D31: - | E31: - | F31: - | G31: - | H31: - | I31: - | J31: - | K31: - | L31: - | M31: -
C32: 3月 | D32: - | E32: - | F32: - | G32: - | H32: - | I32: - | J32: - | K32: - | L32: - | M32: -
C33: 4月 | D33: - | E33: - | F33: - | G33: - | H33: - | I33: - | J33: - | K33: - | L33: - | M33: -
C34: 5月 | D34: - | E34: - | F34: - | G34: - | H34: - | I34: - | J34: - | K34: - | L34: - | M34: -
C35: 6月 | D35: - | E35: - | F35: - | G35: - | H35: - | I35: - | J35: - | K35: - | L35: - | M35: -
C36: 7月 | D36: - | E36: - | F36: - | G36: - | H36: - | I36: - | J36: - | K36: - | L36: - | M36: -
C37: 8月 | D37: - | E37: - | F37: - | G37: - | H37: - | I37: - | J37: - | K37: - | L37: - | M37: -
C38: 9月 | D38: - | E38: - | F38: - | G38: - | H38: - | I38: - | J38: - | K38: - | L38: - | M38: -
C39: 10月 | D39: - | E39: - | F39: - | G39: - | H39: - | I39: - | J39: - | K39: - | L39: - | M39: -
C40: 11月 | D40: - | E40: - | F40: - | G40: - | H40: - | I40: - | J40: - | K40: - | L40: - | M40: -
C41: 12月 | D41: - | E41: - | F41: - | G41: - | H41: - | I41: - | J41: - | K41: - | L41: - | M41: -
M43: ※事業所規模30人以上を含む
D44: 産業 | E44: Ｄ | F44: 建設業
D45: 計 | H45: 男 | K45: 女
D46: 現金給与 総額 | E46: きまって支給する給与 | F46: 所定内給与 | G46: 特別に支払われた給与 | H46: 現金給与 総額 | I46: きまって支給する給与 | J46: 特別に支払われた給与 | K46: 現金給与 総額 | L46: きまって支給する給与 | M46: 特別に支払われた給与
...

Sheet △時間（5～）
B1: 第１４表 産業 事業所規模 男女別の常用労働者 １人平均月間出勤日数及び実労働時間（事業所規模 ５人以上）
O2: ※事業所規模30人以上を含む
D3: 産業 | E3: TL | F3: 調査産業計
D4: 計 | H4: 男 | L4: 女
D5: 出勤日数 | E5: 総 実 労働時間 | F5: 所定内 労働時間 | G5: 所定外 労働時間 | H5: 出勤日数 | I5: 総 実 労働時間 | J5: 所定内 労働時間 | K5: 所定外 労働時間 | L5: 出勤日数 | M5: 総 実 労働時間 | N5: 所定内 労働時間 | O5: 所定外 労働時間
D7: (日) | E7: (時間) | F7: (時間) | G7: (時間) | H7: (日) | I7: (時間) | J7: (時間) | K7: (時間) | L7: (日) | M7: (時間) | N7: (時間) | O7: (時間)
B8: 令和7年 | D8: 18.4 | E8: 141.7 | F8: 132.2 | G8: 9.5 | H8: 19.2 | I8: 156.6 | J8: 143.5 | K8: 13.1 | L8: 17.6 | M8: 126.9 | N8: 121 | O8: 5.9
C10: 令和7年1月 | D10: 17.7 | E10: 135.9 | F10: 127.3 | G10: 8.6 | H10: 18.5 | I10: 149.3 | J10: 137.7 | K10: 11.6 | L10: 16.9 | M10: 122.2 | N10: 116.7 | O10: 5.5
C11: 2月 | D11: 17.7 | E11: 136.3 | F11: 127.7 | G11: 8.6 | H11: 18.4 | I11: 149.1 | J11: 138 | K11: 11.1 | L11: 16.9 | M11: 123.1 | N11: 117.1 | O11: 6
C12: 3月 | D12: 18.2 | E12: 139.2 | F12: 130.7 | G12: 8.5 | H12: 18.9 | I12: 151.2 | J12: 140.5 | K12: 10.7 | L12: 17.5 | M12: 127.3 | N12: 121 | O12: 6.3
C13: 4月 | D13: 19.2 | E13: 148.2 | F13: 138 | G13: 10.2 | H13: 19.8 | I13: 161.8 | J13: 148.1 | K13: 13.7 | L13: 18.6 | M13: 134.7 | N13: 128 | O13: 6.7
C14: 5月 | D14: 18.7 | E14: 143.3 | F14: 133.6 | G14: 9.7 | H14: 19.2 | I14: 156.5 | J14: 143.6 | K14: 12.9 | L14: 18.2 | M14: 130 | N14: 123.5 | O14: 6.5
C15: 6月 | D15: 19.2 | E15: 147.7 | F15: 138 | G15: 9.7 | H15: 19.9 | I15: 162.6 | J15: 149.1 | K15: 13.5 | L15: 18.5 | M15: 132.6 | N15: 126.8 | O15: 5.8
C16: 7月 | D16: 19.2 | E16: 146.1 | F16: 136.5 | G16: 9.6 | H16: 20.1 | I16: 163.7 | J16: 150.1 | K16: 13.6 | L16: 18.2 | M16: 129.1 | N16: 123.3 | O16: 5.8
C17: 8月 | D17: 17.4 | E17: 134 | F17: 125.5 | G17: 8.5 | H17: 18.3 | I17: 149.7 | J17: 137.6 | K17: 12.1 | L17: 16.6 | M17: 118.3 | N17: 113.4 | O17: 4.9
C18: 9月 | D18: 18.2 | E18: 141 | F18: 131.3 | G18: 9.7 | H18: 19.2 | I18: 157.1 | J18: 143.5 | K18: 13.6 | L18: 17.3 | M18: 125.2 | N18: 119.4 | O18: 5.8
C19: 10月 | D19: 18.9 | E19: 146.2 | F19: 136.2 | G19: 10 | H19: 19.8 | I19: 162 | J19: 148.1 | K19: 13.9 | L19: 18.1 | M19: 130.3 | N19: 124.2 | O19: 6.1
C20: 11月 | D20: 18 | E20: 143.5 | F20: 132.2 | G20: 11.3 | H20: 18.8 | I20: 159.6 | J20: 142.9 | K20: 16.7 | L20: 17.1 | M20: 127.8 | N20: 121.7 | O20: 6.1
C21: 12月 | D21: 18 | E21: 139 | F21: 129.1 | G21: 9.9 | H21: 19 | I21: 156.3 | J21: 142.2 | K21: 14.1 | L21: 17 | M21: 122.4 | N21: 116.5 | O21: 5.9
D23: 産業 | E23: C | F23: 鉱業，採石業，砂利採取業
D24: 計 | H24: 男 | L24: 女
D25: 出勤日数 | E25: 総 実 労働時間 | F25: 所定内 労働時間 | G25: 所定外 労働時間 | H25: 出勤日数 | I25: 総 実 労働時間 | J25: 所定内 労働時間 | K25: 所定外 労働時間 | L25: 出勤日数 | M25: 総 実 労働時間 | N25: 所定内 労働時間 | O25: 所定外 労働時間
D27: (日) | E27: (時間) | F27: (時間) | G27: (時間) | H27: (日) | I27: (時間) | J27: (時間) | K27: (時間) | L27: (日) | M27: (時間) | N27: (時間) | O27: (時間)
B28: 令和7年 | D28: - | E28: - | F28: - | G28: - | H28: - | I28: - | J28: - | K28: - | L28: - | M28: - | N28: - | O28: -
C30: 令和7年1月 | D30: - | E30: - | F30: - | G30: - | H30: - | I30: - | J30: - | K30: - | L30: - | M30: - | N30: - | O30: -
C31: 2月 | D31: - | E31: - | F31: - | G31: - | H31: - | I31: - | J31: - | K31: - | L31: - | M31: - | N31: - | O31: -
C32: 3月 | D32: - | E32: - | F32: - | G32: - | H32: - | I32: - | J32: - | K32: - | L32: - | M32: - | N32: - | O32: -
C33: 4月 | D33: - | E33: - | F33: - | G33: - | H33: - | I33: - | J33: - | K33: - | L33: - | M33: - | N33: - | O33: -
C34: 5月 | D34: - | E34: - | F34: - | G34: - | H34: - | I34: - | J34: - | K34: - | L34: - | M34: - | N34: - | O34: -
C35: 6月 | D35: - | E35: - | F35: - | G35: - | H35: - | I35: - | J35: - | K35: - | L35: - | M35: - | N35: - | O35: -
C36: 7月 | D36: - | E36: - | F36: - | G36: - | H36: - | I36: - | J36: - | K36: - | L36: - | M36: - | N36: - | O36: -
C37: 8月 | D37: - | E37: - | F37: - | G37: - | H37: - | I37: - | J37: - | K37: - | L37: - | M37: - | N37: - | O37: -
C38: 9月 | D38: - | E38: - | F38: - | G38: - | H38: - | I38: - | J38: - | K38: - | L38: - | M38: - | N38: - | O38: -
C39: 10月 | D39: - | E39: - | F39: - | G39: - | H39: - | I39: - | J39: - | K39: - | L39: - | M39: - | N39: - | O39: -
C40: 11月 | D40: - | E40: - | F40: - | G40: - | H40: - | I40: - | J40: - | K40: - | L40: - | M40: - | N40: - | O40: -
C41: 12月 | D41: - | E41: - | F41: - | G41: - | H41: - | I41: - | J41: - | K41: - | L41: - | M41: - | N41: - | O41: -
O43: ※事業所規模30人以上を含む
D44: 産業 | E44: Ｄ | F44: 建設業
D45: 計 | H45: 男 | L45: 女
D46: 出勤日数 | E46: 総 実 労働時間 | F46: 所定内 労働時間 | G46: 所定外 労働時間 | H46: 出勤日数 | I46: 総 実 労働時間 | J46: 所定内 労働時間 | K46: 所定外 労働時間 | L46: 出勤日数 | M46: 総 実 労働時間 | N46: 所定内 労働時間 | O46: 所定外 労働時間
...

Sheet 雇用（5～）
B1: 第１５表 産業 事業所規模 男女別の月末推計常用労働者数（事業所規模 ５人以上）
L2: ※事業所規模30人以上を含む
D3: 産業 | E3: TL | F3: 調査産業計
D4: 計 | G4: 男 | J4: 女
E5: うちパートタイム労働者数 | F5: パートタイム労働者比率 | H5: うちパートタイム労働者数 | I5: パートタイム労働者比率 | K5: うちパートタイム労働者数 | L5: パートタイム労働者比率
D7: (人) | E7: (人) | F7: (％) | G7: (人) | H7: (人) | I7: (％) | J7: (人) | K7: (人) | L7: (％)
B8: 令和7年 | D8: 308779 | E8: 91050 | F8: 29.5 | G8: 153899 | H8: 22260 | I8: 14.5 | J8: 154881 | K8: 68790 | L8: 44.4
C10: 令和7年1月 | D10: 309302 | E10: 88222 | F10: 28.5 | G10: 156243 | H10: 22773 | I10: 14.6 | J10: 153059 | K10: 65449 | L10: 42.8
C11: 2月 | D11: 304776 | E11: 87705 | F11: 28.8 | G11: 154487 | H11: 22547 | I11: 14.6 | J11: 150289 | K11: 65158 | L11: 43.4
C12: 3月 | D12: 297177 | E12: 87833 | F12: 29.6 | G12: 147697 | H12: 23135 | I12: 15.7 | J12: 149480 | K12: 64698 | L12: 43.3
C13: 4月 | D13: 308024 | E13: 89687 | F13: 29.1 | G13: 153686 | H13: 23043 | I13: 15 | J13: 154338 | K13: 66644 | L13: 43.2
C14: 5月 | D14: 311106 | E14: 90855 | F14: 29.2 | G14: 155600 | H14: 22034 | I14: 14.2 | J14: 155506 | K14: 68821 | L14: 44.3
C15: 6月 | D15: 311466 | E15: 86756 | F15: 27.9 | G15: 156397 | H15: 21540 | I15: 13.8 | J15: 155069 | K15: 65216 | L15: 42.1
C16: 7月 | D16: 308269 | E16: 92655 | F16: 30.1 | G16: 151317 | H16: 21116 | I16: 14 | J16: 156952 | K16: 71539 | L16: 45.6
C17: 8月 | D17: 312918 | E17: 93459 | F17: 29.9 | G17: 156278 | H17: 21605 | I17: 13.8 | J17: 156640 | K17: 71854 | L17: 45.9
C18: 9月 | D18: 311909 | E18: 92042 | F18: 29.5 | G18: 155047 | H18: 21116 | I18: 13.6 | J18: 156862 | K18: 70926 | L18: 45.2
C19: 10月 | D19: 312030 | E19: 94118 | F19: 30.2 | G19: 155559 | H19: 23401 | I19: 15 | J19: 156471 | K19: 70717 | L19: 45.2
C20: 11月 | D20: 306901 | E20: 92107 | F20: 30 | G20: 151437 | H20: 21442 | I20: 14.2 | J20: 155464 | K20: 70665 | L20: 45.5
C21: 12月 | D21: 311467 | E21: 97163 | F21: 31.2 | G21: 153040 | H21: 23372 | I21: 15.3 | J21: 158427 | K21: 73791 | L21: 46.6
D23: 産業 | E23: C | F23: 鉱業，採石業，砂利採取業
D24: 計 | G24: 男 | J24: 女
E25: うちパートタイム労働者数 | F25: パートタイム労働者比率 | H25: うちパートタイム労働者数 | I25: パートタイム労働者比率 | K25: うちパートタイム労働者数 | L25: パートタイム労働者比率
D27: (人) | E27: (人) | F27: (％) | G27: (人) | H27: (人) | I27: (％) | J27: (人) | K27: (人) | L27: (％)
B28: 令和7年 | D28: - | E28: - | F28: - | G28: - | H28: - | I28: - | J28: - | K28: - | L28: -
C30: 令和7年1月 | D30: - | E30: - | F30: - | G30: - | H30: - | I30: - | J30: - | K30: - | L30: -
C31: 2月 | D31: - | E31: - | F31: - | G31: - | H31: - | I31: - | J31: - | K31: - | L31: -
C32: 3月 | D32: - | E32: - | F32: - | G32: - | H32: - | I32: - | J32: - | K32: - | L32: -
C33: 4月 | D33: - | E33: - | F33: - | G33: - | H33: - | I33: - | J33: - | K33: - | L33: -
C34: 5月 | D34: - | E34: - | F34: - | G34: - | H34: - | I34: - | J34: - | K34: - | L34: -
C35: 6月 | D35: - | E35: - | F35: - | G35: - | H35: - | I35: - | J35: - | K35: - | L35: -
C36: 7月 | D36: - | E36: - | F36: - | G36: - | H36: - | I36: - | J36: - | K36: - | L36: -
C37: 8月 | D37: - | E37: - | F37: - | G37: - | H37: - | I37: - | J37: - | K37: - | L37: -
C38: 9月 | D38: - | E38: - | F38: - | G38: - | H38: - | I38: - | J38: - | K38: - | L38: -
C39: 10月 | D39: - | E39: - | F39: - | G39: - | H39: - | I39: - | J39: - | K39: - | L39: -
C40: 11月 | D40: - | E40: - | F40: - | G40: - | H40: - | I40: - | J40: - | K40: - | L40: -
C41: 12月 | D41: - | E41: - | F41: - | G41: - | H41: - | I41: - | J41: - | K41: - | L41: -
L43: ※事業所規模30人以上を含む
D44: 産業 | E44: Ｄ | F44: 建設業
D45: 計 | G45: 男 | J45: 女
E46: うちパートタイム労働者数 | F46: パートタイム労働者比率 | H46: うちパートタイム労働者数 | I46: パートタイム労働者比率 | K46: うちパートタイム労働者数 | L46: パートタイム労働者比率
...
