Workbook

Sheet 入力シート
A1: 佐賀県建設工事等入札参加資格審査申請書（県内建設関連業） 基本情報入力シート
Y2: ver9.20
A4: 基本情報 | J4: ※全項目入力必須
B6: 申請日 | G6: 令和 | I6: 8 | J6: 年 | L6: 月 | N6: 日
B8: 申請区分 | G8: ---選択---
G9: ※平成15年度以降に佐賀県の入札参加資格を取得したことがある場合は「更新申請」を選択
A10: 申請者
B12: 業者コード | I12: －
G13: ※過去の入札参加資格決定通知に記載されているもの。不明な場合は空白可。
G14: ※新規申請の場合は記載不要。
B16: 商号又は名称
B18: 商号又は名称 フリガナ | Q18: ※法人種別（「カブシキガイシャ」等）を除く
B20: 代表者職名 | M20: ※「代表取締役」等
B22: 代表者氏名 | G22: 姓 | K22: 名
B24: 郵便番号 | I24: －
B26: 所在地1（市町まで） | G26: ---選択--- | Q26: 市区町村コード | R26: =IF(G26="","",VLOOKUP(G26,DATA!A3:B23,2,FALSE)) -> --- | U26: ※自動入力
B28: 所在地2 | V28: =IF(OR(COUNTIF($G$28,"*大字*"),COUNTIF($G$28,"*丁目*"),COUNTIF($G$28,"*番*"),COUNTIF($G$28,"*号*")),"要確認","")
B29: （所在地1以降） | G29: ※「大字」は記入不要です。
G30: ※「丁目」「番地」「番」「号」での記入ではなく、「-」に書き換えて記入。（例：1丁目2番3号 → 1-2-3）
B32: 電話番号
B34: メールアドレス | U34: ※50文字まで
A37: 書類作成担当者
B39: 所属 | O39: ※「営業部」「総務課」等
B41: 担当者氏名 | G41: 姓 | K41: 名 | P41: ※行政書士が申請する場合は、「所属」欄に 行政書士事務所名を明記してください。
B43: 連絡先電話番号
A46: 入札参加を希望する部門
A48: 希望業種の「希望」欄に○をつけ、部門ごとに必要な情報を入力してください。
A49: ※「登録」欄には、それぞれの部門の法令等に基づく登録がある場合は「1」、ない場合は「0」をご記入ください。
A51: ◆測量業務（1部門） | K51: ◆建築関係建設コンサルタント業務（2部門）
A52: 希望 | B52: 業種 | F52: 登録 | G52: 測量士数 | K52: 希望 | L52: 業種 | Q52: 登録
B54: 測量一般 | F54: 1 | L54: 建築士事務所 | Q54: 1
L56: 建築関係コンサルタント | Q56: 0
A58: ◆土木関係建設コンサルタント業務（21部門）
A59: 希望 | B59: 業種 | F59: 登録 | G59: 技術士数 | I59: 認定技術 管理者数 | K59: RCCM数 | N59: 希望 | O59: 業種 | S59: 登録 | T59: 技術士数 | V59: 認定技術 管理者数 | X59: RCCM数
B61: 河川、砂防及び 海岸・海洋 | O61: 都市計画及び 地方計画
B63: 港湾及び空港 | O63: 地質
B65: 電力土木 | O65: 土質及び基礎
B67: 道路 | O67: 鋼構造及び コンクリート
B69: 鉄道 | O69: トンネル
B71: 上水道及び 工業用水道 | O71: 施工計画、施工 設備及び積算
B73: 下水道 | O73: 建設環境
B75: 農業土木 | O75: 機械
B77: 森林土木 | O77: 電気電子
B79: 水産土木 | O79: 廃棄物
B81: 造園
A83: ◆地質調査業務（1部門） | K83: ◆補償関係コンサルタント業務（7部門）
A84: 希望 | B84: 業種 | F84: 登録 | G84: 地質調査 技士数 | K84: 希望 | L84: 業種 | P84: 登録 | R84: 希望 | S84: 業種 | X84: 登録
B86: 地質調査 | L86: 土地調査 | S86: 営業補償・特殊補償
L88: 土地評価 | S88: 事業損失
L90: 物件 | S90: 補償関連
A92: ◆環境調査業務及びその他の業務（1部門） | L92: 機械工作物
A93: 希望 | B93: 業種
B95: 環境調査
B97: その他 | F97: ※具体的な業種名： | V97: ※20文字まで

Sheet DATA
A1: 所在市町選択
A2: 市町名 | B2: 市区町村コード | D2: 申請日 | E2: =DBCS(TEXT(入力シート!$G$6&入力シート!$I$6&"年"&入力シート!$K$6&"月"&入力シート!$M$6&"日","ggge年m月d日")) -> 令和８年月日
A3: ---選択--- | B3: ---
A4: 佐賀県佐賀市 | B4: 41201 | D4: 建設業許可番号 | E4: =入力シート!G12&"-"&入力シート!J12 -> -
A5: 佐賀県唐津市 | B5: 41202
A6: 佐賀県鳥栖市 | B6: 41203 | D6: 商号又は名称（空白を削除） | E6: =SUBSTITUTE(SUBSTITUTE(入力シート!G16," ",)," ",)
A7: 佐賀県多久市 | B7: 41204
A8: 佐賀県伊万里市 | B8: 41205 | D8: 代表者職氏名 | E8: =入力シート!G20&" "&入力シート!H22&" "&入力シート!L22
A9: 佐賀県武雄市 | B9: 41206
A10: 佐賀県鹿島市 | B10: 41207 | D10: 称号索引
A11: 佐賀県小城市 | B11: 41208 | D11: 商号又は名称フリガナからﾞﾟ・．を削除 | E11: =SUBSTITUTE(SUBSTITUTE(SUBSTITUTE(SUBSTITUTE(ASC(PHONETIC(入力シート!$G$18)),"ﾞ",""),"ﾟ",""),"･",""),".","")
A12: 佐賀県嬉野市 | B12: 41209 | D12: ァィゥェォャュョッを大文字に変換（力技） | E12: =SUBSTITUTE(SUBSTITUTE(SUBSTITUTE(SUBSTITUTE(SUBSTITUTE(SUBSTITUTE(SUBSTITUTE(SUBSTITUTE(SUBSTITUTE($E$11,"ｧ","ｱ"),"ｨ","ｲ"),"ｩ","ｳ"),"ｪ","ｴ"),"ｫ","ｵ"),"ｬ","ﾔ"),"ｭ","ﾕ"),"ｮ","ﾖ"),"ｯ","ﾂ")
A13: 佐賀県神埼市 | B13: 41210 | D13: 全角にする | E13: =DBCS(E12)
A14: 佐賀県神埼郡吉野ヶ里町 | B14: 41327
A15: 佐賀県三養基郡基山町 | B15: 41341 | D15: 所在地 | E15: =入力シート!G26&入力シート!G28 -> ---選択---
A16: 佐賀県三養基郡上峰町 | B16: 41345
A17: 佐賀県三養基郡みやき町 | B17: 41346 | D17: 書類作成担当者氏名 | E17: =入力シート!H41&" "&入力シート!L41
A18: 佐賀県東松浦郡玄海町 | B18: 41387
A19: 佐賀県西松浦郡有田町 | B19: 41401
A20: 佐賀県杵島郡大町町 | B20: 41423
A21: 佐賀県杵島郡江北町 | B21: 41424
A22: 佐賀県杵島郡白石町 | B22: 41425
A23: 佐賀県藤津郡太良町 | B23: 41441

Sheet チェックシート
A1: 提出書類チェックシート【県内建設関連業】
I2: =入力シート!Y2 -> ver9.20
F3: 商号又は名称 | G3: =DATA!$E$6
F4: 代表者職・氏名 | G4: =DATA!$E$8
F5: 書類作成担当者 | G5: =入力シート!$G$39&" "&DATA!$E$17
C7: ✔ | E7: 提出書類 | H7: 備考
A9: 共有 | E9: 佐賀県建設工事等入札参加資格審査申請書（県内建設関連業） [様式3] | H9: 【必須】必ず両面印刷
E10: 申請書受付票（持参する場合のみ）
E11: 出資状況等に関する調査票 | H11: 【必須】
E12: 誓約書 | H12: 【必須】
A15: 1 | E15: 令和７・８年度入札参加資格決定通知書の写し | H15: 資格を有している場合 【直近のもののみで可】
E16: 令和８年度入札参加資格決定通知書の写し
A19: 2 | E19: 県税納付状況確認同意書 | H19: 法人の場合 【いずれか必須】
E20: 佐賀県税に未納がないことの証明書（3か月以内のもの）（原本）
E21: 徴収猶予許可通知書（写し）
A24: 3 | E24: 個人県民税に未納がないことの証明書（3か月以内のもの）（原本） | H24: 個人事業主の場合 【どちらか必須】
E25: 徴収猶予許可通知書（写し）
A28: 4 | E28: 消費税等に未納がないことの証明書（写し可） | H28: 【どちらか必須】
E29: 納税の猶予許可通知書（写し）
A32: 5 | E32: 委任状（行政書士） | H32: 行政書士に委任する場合
A35: 6 | E35: 登録（更新）通知または登録証明書等（写し）
E36: 測量
E37: 建築士事務所
E38: 建設コンサルタント
E39: 地質調査
E40: 補償コンサルタント
A43: 7 | E43: 測量法第55条の8第1項および第2項の規定に基づく書類の写し
A46: 8 | E46: 現況報告書の写し
E47: 建設コンサルタント
E48: 地質調査
E49: 補償コンサルタント
A52: 9 | E52: 測量士名簿記載事項証明書（3か月以内のもの）（原本） | H52: 営業所配置要1名分
A55: 10 | E55: 測量 | H55: 様式3記載の人数分
E56: 技術士等の人数に係る調書 [整理番号10]
E57: 技術士等の人数に係る調書【総括表】 [整理番号11]
E58: 測量士登録証（測量士登録証明書）または測量士の登録について（通知）等の写し
E61: 建設コンサルタント | H61: 様式3記載の人数分
A62: 11 | E62: 技術士等の人数に係る調書 [整理番号10]
E63: 技術士等の人数に係る調書【総括表】 [整理番号11]
E64: 建設コンサルタント技術管理者認定通知書の写し
E65: RCCM登録証の写し
A68: 12 | E68: 地質調査 | H68: 様式3記載の人数分
E69: 技術士等の人数に係る調書 [整理番号10]
E70: 技術士等の人数に係る調書【総括表】 [整理番号11]
E71: 地質調査技士登録証の写し
A74: 13 | E74: 直近の健康保険・厚生年金保険被保険者標準報酬決定通知書の写し ★ | H74: 様式3記載の人数分
E75: 基準日までの直近3か月の賃金台帳および出勤簿の写し | H75: ★で確認できない場合
A78: 14 | E78: 技術者経歴書 [整理番号17] | H78: 国または都道府県の登録がない部門
A81: 15 | E81: 営業経歴書 [整理番号18]
A84: 16 | E84: 実績調書 [整理番号19] | H84: 国または都道府県の登録がない部門
A87: 17 | E87: 法人の登記事項証明書または代表者の身分証明書（3か月以内のもの）（原本）
A90: 18 | E90: 登録または指定等を受けていることを証するものの写し | H90: 環境、その他
E91: 計量証明事業登録証等、調査分析できる物質について確認できるもの | H91: 計量証明のみ

Sheet 資格審査申請書（様式３）
A1: 様式3 | AO1: =入力シート!Y2 -> ver9.20
A2: 佐賀県建設工事等入札参加資格審査申請書（県内建設関連業）
A4: 令和９年度及び１０年度において、佐賀県が発注する建設関連業の競争入札に参加する資格の審査を申請します。 この申請書及び添付書類の記載事項については事実と相違ないことを誓約します。なお、申請書及び添付書類に虚偽その他の不正の記載があったときには、佐賀県建設工事等入札参加資格の審査等に関する規則第6条の規定により、入札参加資格の決定を行われず、または既に行った決定を取り消されても、異論はありません。 また、公正で透明な競争を実現するため、事業活動において法令に違反する談合等の行為と決別し、すべての役員及び社員がコンプライアンスを徹底することを宣言します。
AO6: =DATA!$E$2 -> 令和８年月日
B7: 佐賀県知事 様
H8: 申請者 | AB8: （書類作成担当者）
I9: 所在地 | N9: =DATA!$E$15 -> ---選択--- | AC9: 所属 | AF9: =入力シート!$G$39 -> 0
I10: 商号又は名称 | N10: =DATA!$E$6 | AC10: 氏名 | AF10: =DATA!$E$17
I11: 代表者職・氏名 | N11: =DATA!$E$8 | AC11: 連絡先 | AF11: =入力シート!$G$43 -> 0
D14: 1 | J14: 2 | P14: 3 | Q14: 4 | R14: 5 | S14: 6 | T14: 7 | U14: 8 | V14: 9 | W14: 10 | AC14: 11 | AD14: 12 | AE14: 13 | AF14: 14
A15: カード番号 | D15: 3 | G15: 申請区分 | J15: =(入力シート!$G$8="新規申請")*1+(入力シート!$G$8="更新申請")*2 -> 0 | M15: 業者コード | P15: =MID(DBCS(入力シート!$G$12),COLUMN()-15,1) | Q15: =MID(DBCS(入力シート!$G$12),COLUMN()-15,1) | R15: =MID(DBCS(入力シート!$J$12),COLUMN()-17,1) | S15: =MID(DBCS(入力シート!$J$12),COLUMN()-17,1) | T15: =MID(DBCS(入力シート!$J$12),COLUMN()-17,1) | U15: =MID(DBCS(入力シート!$J$12),COLUMN()-17,1) | V15: =MID(DBCS(入力シート!$J$12),COLUMN()-17,1) | W15: =MID(DBCS(入力シート!$J$12),COLUMN()-17,1) | Z15: 受付番号
D17: 15 | E17: 17 | F17: 19 | G17: 21 | H17: 23 | I17: 25 | J17: 27 | K17: 29 | L17: 31 | M17: 33 | N17: 35 | O17: 37 | P17: 39 | Q17: 41 | R17: 43 | S17: 45 | T17: 47 | U17: 49 | V17: 51 | W17: 53 | X17: 55 | Y17: 57 | Z17: 59 | AA17: 61 | AB17: 63 | AC17: 65 | AD17: 67 | AE17: 69 | AF17: 71 | AG17: 73 | AH17: 75 | AI17: 77 | AJ17: 79 | AK17: 81 | AL17: 83
A18: 商号又は名称 | D18: =MID(DBCS(DATA!$E$6),COLUMN()-3,1) | E18: =MID(DBCS(DATA!$E$6),COLUMN()-3,1) | F18: =MID(DBCS(DATA!$E$6),COLUMN()-3,1) | G18: =MID(DBCS(DATA!$E$6),COLUMN()-3,1) | H18: =MID(DBCS(DATA!$E$6),COLUMN()-3,1) | I18: =MID(DBCS(DATA!$E$6),COLUMN()-3,1) | J18: =MID(DBCS(DATA!$E$6),COLUMN()-3,1) | K18: =MID(DBCS(DATA!$E$6),COLUMN()-3,1) | ... AL18: =MID(DBCS(DATA!$E$6),COLUMN()-3,1)
D19: 85 | E19: 87 | F19: 89 | G19: 91 | H19: 93 | I19: 95 | J19: 97 | K19: 99 | L19: 101 | M19: 103 | N19: 105 | O19: 107 | P19: 109 | Q19: 111 | R19: 113
D20: =MID(DBCS(DATA!$E$6),COLUMN()+32,1) | E20: =MID(DBCS(DATA!$E$6),COLUMN()+32,1) | F20: =MID(DBCS(DATA!$E$6),COLUMN()+32,1) | G20: =MID(DBCS(DATA!$E$6),COLUMN()+32,1) | H20: =MID(DBCS(DATA!$E$6),COLUMN()+32,1) | I20: =MID(DBCS(DATA!$E$6),COLUMN()+32,1) | J20: =MID(DBCS(DATA!$E$6),COLUMN()+32,1) | K20: =MID(DBCS(DATA!$E$6),COLUMN()+32,1) | ... R20: =MID(DBCS(DATA!$E$6),COLUMN()+32,1)
D22: 115 | E22: 117 | F22: 119 | G22: 121 | H22: 123 | N22: 125 | O22: 127 | P22: 129 | Q22: 131 | R22: 133 | S22: 135 | T22: 137 | U22: 139 | V22: 141 | W22: 143
A23: 商号索引 | D23: =MID(DATA!$E$13,COLUMN()-3,1) | E23: =MID(DATA!$E$13,COLUMN()-3,1) | F23: =MID(DATA!$E$13,COLUMN()-3,1) | G23: =MID(DATA!$E$13,COLUMN()-3,1) | H23: =MID(DATA!$E$13,COLUMN()-3,1) | K23: 代表者氏名 | N23: =MID(DBCS(入力シート!$H$22&" "&入力シート!$L$22),COLUMN()-13,1) | O23: =MID(DBCS(入力シート!$H$22&" "&入力シート!$L$22),COLUMN()-13,1) | P23: =MID(DBCS(入力シート!$H$22&" "&入力シート!$L$22),COLUMN()-13,1) | Q23: =MID(DBCS(入力シート!$H$22&" "&入力シート!$L$22),COLUMN()-13,1) | R23: =MID(DBCS(入力シート!$H$22&" "&入力シート!$L$22),COLUMN()-13,1) | S23: =MID(DBCS(入力シート!$H$22&" "&入力シート!$L$22),COLUMN()-13,1) | T23: =MID(DBCS(入力シート!$H$22&" "&入力シート!$L$22),COLUMN()-13,1) | U23: =MID(DBCS(入力シート!$H$22&" "&入力シート!$L$22),COLUMN()-13,1) | ... W23: =MID(DBCS(入力シート!$H$22&" "&入力シート!$L$22),COLUMN()-13,1) | Y23: ="〔職名："&入力シート!G20&"〕" -> 〔職名：〕
D25: 145 | E25: 146 | F25: 147 | G25: 148 | H25: 149 | I25: 150 | J25: 151 | K25: 152 | R25: 153 | S25: 154 | T25: 155 | U25: 156 | V25: 157
A26: 郵便番号 | D26: =MID(DBCS(入力シート!$G$24),COLUMN()-3,1) | E26: =MID(DBCS(入力シート!$G$24),COLUMN()-3,1) | F26: =MID(DBCS(入力シート!$G$24),COLUMN()-3,1) | G26: － | H26: =MID(DBCS(入力シート!$J$24),COLUMN()-7,1) | I26: =MID(DBCS(入力シート!$J$24),COLUMN()-7,1) | J26: =MID(DBCS(入力シート!$J$24),COLUMN()-7,1) | K26: =MID(DBCS(入力シート!$J$24),COLUMN()-7,1) | N26: 市区町村コード | R26: =MID(DBCS(入力シート!$R$26),COLUMN()-17,1) -> － | S26: =MID(DBCS(入力シート!$R$26),COLUMN()-17,1) -> － | T26: =MID(DBCS(入力シート!$R$26),COLUMN()-17,1) -> － | U26: =MID(DBCS(入力シート!$R$26),COLUMN()-17,1) | V26: =MID(DBCS(入力シート!$R$26),COLUMN()-17,1) | X26: ="〔"&入力シート!G26&"〕" -> 〔---選択---〕
D28: 158 | E28: 160 | F28: 162 | G28: 164 | H28: 166 | I28: 168 | J28: 170 | K28: 172 | L28: 174 | M28: 176 | N28: 178 | O28: 180 | P28: 182 | Q28: 184 | R28: 186 | S28: 188 | T28: 190 | U28: 192 | V28: 194 | W28: 196 | X28: 198 | Y28: 200 | Z28: 202 | AA28: 204 | AB28: 206 | AC28: 208 | AD28: 210 | AE28: 212 | AF28: 214 | AG28: 216 | AH28: 218 | AI28: 220 | AJ28: 222 | AK28: 224 | AL28: 226
A29: 所在地 | D29: =MID(DBCS(入力シート!$G$28),COLUMN()-3,1) | E29: =MID(DBCS(入力シート!$G$28),COLUMN()-3,1) | F29: =MID(DBCS(入力シート!$G$28),COLUMN()-3,1) | G29: =MID(DBCS(入力シート!$G$28),COLUMN()-3,1) | H29: =MID(DBCS(入力シート!$G$28),COLUMN()-3,1) | I29: =MID(DBCS(入力シート!$G$28),COLUMN()-3,1) | J29: =MID(DBCS(入力シート!$G$28),COLUMN()-3,1) | K29: =MID(DBCS(入力シート!$G$28),COLUMN()-3,1) | ... AL29: =MID(DBCS(入力シート!$G$28),COLUMN()-3,1)
D31: 228 | E31: 229 | F31: 230 | G31: 231 | H31: 232 | I31: 233 | J31: 234 | K31: 235 | L31: 236 | M31: 237 | N31: 238 | O31: 239 | P31: 240 | Q31: 241
A32: 電話番号 | D32: =MID(DBCS(入力シート!$G$32),COLUMN()-3,1) | E32: =MID(DBCS(入力シート!$G$32),COLUMN()-3,1) | F32: =MID(DBCS(入力シート!$G$32),COLUMN()-3,1) | G32: =MID(DBCS(入力シート!$G$32),COLUMN()-3,1) | H32: =MID(DBCS(入力シート!$G$32),COLUMN()-3,1) | I32: =MID(DBCS(入力シート!$G$32),COLUMN()-3,1) | J32: =MID(DBCS(入力シート!$G$32),COLUMN()-3,1) | K32: =MID(DBCS(入力シート!$G$32),COLUMN()-3,1) | ... Q32: =MID(DBCS(入力シート!$G$32),COLUMN()-3,1)
D34: 242 | E34: 243 | F34: 244 | G34: 245 | H34: 246 | I34: 247 | J34: 248 | K34: 249 | L34: 250 | M34: 251 | N34: 252 | O34: 253 | P34: 254 | Q34: 255 | R34: 256 | S34: 257 | T34: 258 | U34: 259 | V34: 260 | W34: 261 | X34: 262 | Y34: 263 | Z34: 264 | AA34: 265 | AB34: 266 | AC34: 267 | AD34: 268 | AE34: 269 | AF34: 270 | AG34: 271 | AH34: 272 | AI34: 273 | AJ34: 274 | AK34: 275 | AL34: 276
A35: メールアドレス | D35: =MID(DBCS(入力シート!$G$34),COLUMN()-3,1) | E35: =MID(DBCS(入力シート!$G$34),COLUMN()-3,1) | F35: =MID(DBCS(入力シート!$G$34),COLUMN()-3,1) | G35: =MID(DBCS(入力シート!$G$34),COLUMN()-3,1) | H35: =MID(DBCS(入力シート!$G$34),COLUMN()-3,1) | I35: =MID(DBCS(入力シート!$G$34),COLUMN()-3,1) | J35: =MID(DBCS(入力シート!$G$34),COLUMN()-3,1) | K35: =MID(DBCS(入力シート!$G$34),COLUMN()-3,1) | ... AL35: =MID(DBCS(入力シート!$G$34),COLUMN()-3,1)
D36: 277 | E36: 278 | F36: 279 | G36: 280 | H36: 281 | I36: 282 | J36: 283 | K36: 284 | L36: 285 | M36: 286 | N36: 287 | O36: 288 | P36: 289 | Q36: 290 | R36: 291
D37: =MID(DBCS(入力シート!$G$34),COLUMN()+30,1) | E37: =MID(DBCS(入力シート!$G$34),COLUMN()+30,1) | F37: =MID(DBCS(入力シート!$G$34),COLUMN()+30,1) | G37: =MID(DBCS(入力シート!$G$34),COLUMN()+30,1) | H37: =MID(DBCS(入力シート!$G$34),COLUMN()+30,1) | I37: =MID(DBCS(入力シート!$G$34),COLUMN()+30,1) | J37: =MID(DBCS(入力シート!$G$34),COLUMN()+30,1) | K37: =MID(DBCS(入力シート!$G$34),COLUMN()+30,1) | ... R37: =MID(DBCS(入力シート!$G$34),COLUMN()+30,1)
A39: 入札参加を希望する部門
A41: 測量業務（1部門） | K41: 建築関係建設コンサルタント業務（2部門）
A42: 希望 | B42: 部門 | F42: コード | G42: 登録 | H42: 測量士数 | K42: 希望 | L42: 部門 | P42: コード | Q42: 登録 | S42: 希望 | T42: 部門 | X42: コード | Y42: 登録
F43: 292 | G43: 295 | H43: 297 | I43: 298 | P43: 299 | Q43: 302 | X43: 304 | Y43: 307
A44: =入力シート!A54&"" | B44: 測量一般 | F44: 101 | G44: 1 | H44: =IF(入力シート!$G$54<10/10^(COLUMN()-8),"",MID(DBCS(RIGHT(入力シート!$G$54+100,2)),COLUMN()-7,1)) | I44: =IF(入力シート!$G$54<10/10^(COLUMN()-8),"",MID(DBCS(RIGHT(入力シート!$G$54+100,2)),COLUMN()-7,1)) | K44: =入力シート!K54&"" | L44: 建築士事務所 | P44: 201 | Q44: 1 | S44: =入力シート!K56&"" | T44: 建築関係 コンサルタント | X44: 202 | Y44: 0
A47: 土木関係建設コンサルタント業務（21部門） | J47: 認定技術 管理者数 | X47: 認定技術 管理者数 | AL47: 認定技術 管理者数
A48: 希望 | B48: 部門 | F48: コード | G48: 登録 | H48: 技術士数 | L48: RCCM数 | O48: 希望 | P48: 部門 | T48: コード | U48: 登録 | V48: 技術士数 | Z48: RCCM数 | AC48: 希望 | AD48: 部門 | AH48: コード | AI48: 登録 | AJ48: 技術士数 | AN48: RCCM数
F49: 309 | G49: 312 | H49: 314 | I49: 315 | J49: 316 | K49: 317 | L49: 318 | M49: 319 | T49: 386 | U49: 389 | V49: 391 | W49: 392 | X49: 393 | Y49: 394 | Z49: 395 | AA49: 396 | AH49: 463 | AI49: 466 | AJ49: 468 | AK49: 469 | AL49: 470 | AM49: 471 | AN49: 472 | AO49: 473
A50: =入力シート!A61&"" | B50: 河川、砂防及び 海岸・海洋 | F50: 301 | G50: =入力シート!F61&"" | H50: =IF(入力シート!$G61<10/10^(COLUMN()-8),"",MID(DBCS(RIGHT(入力シート!$G61+100,2)),COLUMN()-7,1)) | I50: =IF(入力シート!$G61<10/10^(COLUMN()-8),"",MID(DBCS(RIGHT(入力シート!$G61+100,2)),COLUMN()-7,1)) | J50: =IF(入力シート!$I61<10/10^(COLUMN()-10),"",MID(DBCS(RIGHT(入力シート!$I61+100,2)),COLUMN()-9,1)) | K50: =IF(入力シート!$I61<10/10^(COLUMN()-10),"",MID(DBCS(RIGHT(入力シート!$I61+100,2)),COLUMN()-9,1)) | L50: =IF(入力シート!$K61<10/10^(COLUMN()-12),"",MID(DBCS(RIGHT(入力シート!$K61+100,2)),COLUMN()-11,1)) | M50: =IF(入力シート!$K61<10/10^(COLUMN()-12),"",MID(DBCS(RIGHT(入力シート!$K61+100,2)),COLUMN()-11,1)) | O50: =入力シート!A75&"" | P50: 農業土木 | T50: 308 | U50: =入力シート!F75&"" | V50: =IF(入力シート!$G75<10/10^(COLUMN()-22),"",MID(DBCS(RIGHT(入力シート!$G75+100,2)),COLUMN()-21,1)) | W50: =IF(入力シート!$G75<10/10^(COLUMN()-22),"",MID(DBCS(RIGHT(入力シート!$G75+100,2)),COLUMN()-21,1)) | X50: =IF(入力シート!$I75<10/10^(COLUMN()-24),"",MID(DBCS(RIGHT(入力シート!$I75+100,2)),COLUMN()-23,1)) | Y50: =IF(入力シート!$I75<10/10^(COLUMN()-24),"",MID(DBCS(RIGHT(入力シート!$I75+100,2)),COLUMN()-23,1)) | Z50: =IF(入力シート!$K75<10/10^(COLUMN()-26),"",MID(DBCS(RIGHT(入力シート!$K75+100,2)),COLUMN()-25,1)) | AA50: =IF(入力シート!$K75<10/10^(COLUMN()-26),"",MID(DBCS(RIGHT(入力シート!$K75+100,2)),COLUMN()-25,1)) | AC50: =入力シート!N67&"" | AD50: 鋼構造及び コンクリート | AH50: 315 | AI50: =入力シート!S67&"" | AJ50: =IF(入力シート!$T67<10/10^(COLUMN()-36),"",MID(DBCS(RIGHT(入力シート!$T67+100,2)),COLUMN()-35,1)) | AK50: =IF(入力シート!$T67<10/10^(COLUMN()-36),"",MID(DBCS(RIGHT(入力シート!$T67+100,2)),COLUMN()-35,1)) | AL50: =IF(入力シート!$V67<10/10^(COLUMN()-38),"",MID(DBCS(RIGHT(入力シート!$V67+100,2)),COLUMN()-37,1)) | AM50: =IF(入力シート!$V67<10/10^(COLUMN()-38),"",MID(DBCS(RIGHT(入力シート!$V67+100,2)),COLUMN()-37,1)) | AN50: =IF(入力シート!$X67<10/10^(COLUMN()-40),"",MID(DBCS(RIGHT(入力シート!$X67+100,2)),COLUMN()-39,1)) | AO50: =IF(入力シート!$X67<10/10^(COLUMN()-40),"",MID(DBCS(RIGHT(入力シート!$X67+100,2)),COLUMN()-39,1))
F51: 320 | G51: 323 | H51: 325 | I51: 326 | J51: 327 | K51: 328 | L51: 329 | M51: 330 | T51: 397 | U51: 400 | V51: 402 | W51: 403 | X51: 404 | Y51: 405 | Z51: 406 | AA51: 407 | AH51: 474 | AI51: 477 | AJ51: 479 | AK51: 480 | AL51: 481 | AM51: 482 | AN51: 483 | AO51: 484
A52: =入力シート!A63&"" | B52: 港湾及び空港 | F52: 302 | G52: =入力シート!F63&"" | H52: =IF(入力シート!$G63<10/10^(COLUMN()-8),"",MID(DBCS(RIGHT(入力シート!$G63+100,2)),COLUMN()-7,1)) | I52: =IF(入力シート!$G63<10/10^(COLUMN()-8),"",MID(DBCS(RIGHT(入力シート!$G63+100,2)),COLUMN()-7,1)) | J52: =IF(入力シート!$I63<10/10^(COLUMN()-10),"",MID(DBCS(RIGHT(入力シート!$I63+100,2)),COLUMN()-9,1)) | K52: =IF(入力シート!$I63<10/10^(COLUMN()-10),"",MID(DBCS(RIGHT(入力シート!$I63+100,2)),COLUMN()-9,1)) | L52: =IF(入力シート!$K63<10/10^(COLUMN()-12),"",MID(DBCS(RIGHT(入力シート!$K63+100,2)),COLUMN()-11,1)) | M52: =IF(入力シート!$K63<10/10^(COLUMN()-12),"",MID(DBCS(RIGHT(入力シート!$K63+100,2)),COLUMN()-11,1)) | O52: =入力シート!A77&"" | P52: 森林土木 | T52: 309 | U52: =入力シート!F77&"" | V52: =IF(入力シート!$G77<10/10^(COLUMN()-22),"",MID(DBCS(RIGHT(入力シート!$G77+100,2)),COLUMN()-21,1)) | W52: =IF(入力シート!$G77<10/10^(COLUMN()-22),"",MID(DBCS(RIGHT(入力シート!$G77+100,2)),COLUMN()-21,1)) | X52: =IF(入力シート!$I77<10/10^(COLUMN()-24),"",MID(DBCS(RIGHT(入力シート!$I77+100,2)),COLUMN()-23,1)) | Y52: =IF(入力シート!$I77<10/10^(COLUMN()-24),"",MID(DBCS(RIGHT(入力シート!$I77+100,2)),COLUMN()-23,1)) | Z52: =IF(入力シート!$K77<10/10^(COLUMN()-26),"",MID(DBCS(RIGHT(入力シート!$K77+100,2)),COLUMN()-25,1)) | AA52: =IF(入力シート!$K77<10/10^(COLUMN()-26),"",MID(DBCS(RIGHT(入力シート!$K77+100,2)),COLUMN()-25,1)) | AC52: =入力シート!N69&"" | AD52: トンネル | AH52: 316 | AI52: =入力シート!S69&"" | AJ52: =IF(入力シート!$T69<10/10^(COLUMN()-36),"",MID(DBCS(RIGHT(入力シート!$T69+100,2)),COLUMN()-35,1)) | AK52: =IF(入力シート!$T69<10/10^(COLUMN()-36),"",MID(DBCS(RIGHT(入力シート!$T69+100,2)),COLUMN()-35,1)) | AL52: =IF(入力シート!$V69<10/10^(COLUMN()-38),"",MID(DBCS(RIGHT(入力シート!$V69+100,2)),COLUMN()-37,1)) | AM52: =IF(入力シート!$V69<10/10^(COLUMN()-38),"",MID(DBCS(RIGHT(入力シート!$V69+100,2)),COLUMN()-37,1)) | AN52: =IF(入力シート!$X69<10/10^(COLUMN()-40),"",MID(DBCS(RIGHT(入力シート!$X69+100,2)),COLUMN()-39,1)) | AO52: =IF(入力シート!$X69<10/10^(COLUMN()-40),"",MID(DBCS(RIGHT(入力シート!$X69+100,2)),COLUMN()-39,1))
F53: 331 | G53: 334 | H53: 336 | I53: 337 | J53: 338 | K53: 339 | L53: 340 | M53: 341 | T53: 408 | U53: 411 | V53: 413 | W53: 414 | X53: 415 | Y53: 416 | Z53: 417 | AA53: 418 | AH53: 485 | AI53: 488 | AJ53: 490 | AK53: 491 | AL53: 492 | AM53: 493 | AN53: 494 | AO53: 495
A54: =入力シート!A65&"" | B54: 電力土木 | F54: 303 | G54: =入力シート!F65&"" | H54: =IF(入力シート!$G65<10/10^(COLUMN()-8),"",MID(DBCS(RIGHT(入力シート!$G65+100,2)),COLUMN()-7,1)) | I54: =IF(入力シート!$G65<10/10^(COLUMN()-8),"",MID(DBCS(RIGHT(入力シート!$G65+100,2)),COLUMN()-7,1)) | J54: =IF(入力シート!$I65<10/10^(COLUMN()-10),"",MID(DBCS(RIGHT(入力シート!$I65+100,2)),COLUMN()-9,1)) | K54: =IF(入力シート!$I65<10/10^(COLUMN()-10),"",MID(DBCS(RIGHT(入力シート!$I65+100,2)),COLUMN()-9,1)) | L54: =IF(入力シート!$K65<10/10^(COLUMN()-12),"",MID(DBCS(RIGHT(入力シート!$K65+100,2)),COLUMN()-11,1)) | M54: =IF(入力シート!$K65<10/10^(COLUMN()-12),"",MID(DBCS(RIGHT(入力シート!$K65+100,2)),COLUMN()-11,1)) | O54: =入力シート!A79&"" | P54: 水産土木 | T54: 310 | U54: =入力シート!F79&"" | V54: =IF(入力シート!$G79<10/10^(COLUMN()-22),"",MID(DBCS(RIGHT(入力シート!$G79+100,2)),COLUMN()-21,1)) | W54: =IF(入力シート!$G79<10/10^(COLUMN()-22),"",MID(DBCS(RIGHT(入力シート!$G79+100,2)),COLUMN()-21,1)) | X54: =IF(入力シート!$I79<10/10^(COLUMN()-24),"",MID(DBCS(RIGHT(入力シート!$I79+100,2)),COLUMN()-23,1)) | Y54: =IF(入力シート!$I79<10/10^(COLUMN()-24),"",MID(DBCS(RIGHT(入力シート!$I79+100,2)),COLUMN()-23,1)) | Z54: =IF(入力シート!$K79<10/10^(COLUMN()-26),"",MID(DBCS(RIGHT(入力シート!$K79+100,2)),COLUMN()-25,1)) | AA54: =IF(入力シート!$K79<10/10^(COLUMN()-26),"",MID(DBCS(RIGHT(入力シート!$K79+100,2)),COLUMN()-25,1)) | AC54: =入力シート!N71&"" | AD54: 施工計画、施工 設備及び積算 | AH54: 317 | AI54: =入力シート!S71&"" | AJ54: =IF(入力シート!$T71<10/10^(COLUMN()-36),"",MID(DBCS(RIGHT(入力シート!$T71+100,2)),COLUMN()-35,1)) | AK54: =IF(入力シート!$T71<10/10^(COLUMN()-36),"",MID(DBCS(RIGHT(入力シート!$T71+100,2)),COLUMN()-35,1)) | AL54: =IF(入力シート!$V71<10/10^(COLUMN()-38),"",MID(DBCS(RIGHT(入力シート!$V71+100,2)),COLUMN()-37,1)) | AM54: =IF(入力シート!$V71<10/10^(COLUMN()-38),"",MID(DBCS(RIGHT(入力シート!$V71+100,2)),COLUMN()-37,1)) | AN54: =IF(入力シート!$X71<10/10^(COLUMN()-40),"",MID(DBCS(RIGHT(入力シート!$X71+100,2)),COLUMN()-39,1)) | AO54: =IF(入力シート!$X71<10/10^(COLUMN()-40),"",MID(DBCS(RIGHT(入力シート!$X71+100,2)),COLUMN()-39,1))
F55: 342 | G55: 345 | H55: 347 | I55: 348 | J55: 349 | K55: 350 | L55: 351 | M55: 352 | T55: 419 | U55: 422 | V55: 424 | W55: 425 | X55: 426 | Y55: 427 | Z55: 428 | AA55: 429 | AH55: 496 | AI55: 499 | AJ55: 501 | AK55: 502 | AL55: 503 | AM55: 504 | AN55: 505 | AO55: 506
A56: =入力シート!A67&"" | B56: 道路 | F56: 304 | G56: =入力シート!F67&"" | H56: =IF(入力シート!$G67<10/10^(COLUMN()-8),"",MID(DBCS(RIGHT(入力シート!$G67+100,2)),COLUMN()-7,1)) | I56: =IF(入力シート!$G67<10/10^(COLUMN()-8),"",MID(DBCS(RIGHT(入力シート!$G67+100,2)),COLUMN()-7,1)) | J56: =IF(入力シート!$I67<10/10^(COLUMN()-10),"",MID(DBCS(RIGHT(入力シート!$I67+100,2)),COLUMN()-9,1)) | K56: =IF(入力シート!$I67<10/10^(COLUMN()-10),"",MID(DBCS(RIGHT(入力シート!$I67+100,2)),COLUMN()-9,1)) | L56: =IF(入力シート!$K67<10/10^(COLUMN()-12),"",MID(DBCS(RIGHT(入力シート!$K67+100,2)),COLUMN()-11,1)) | M56: =IF(入力シート!$K67<10/10^(COLUMN()-12),"",MID(DBCS(RIGHT(入力シート!$K67+100,2)),COLUMN()-11,1)) | O56: =入力シート!A81&"" | P56: 造園 | T56: 311 | U56: =入力シート!F81&"" | V56: =IF(入力シート!$G81<10/10^(COLUMN()-22),"",MID(DBCS(RIGHT(入力シート!$G81+100,2)),COLUMN()-21,1)) | W56: =IF(入力シート!$G81<10/10^(COLUMN()-22),"",MID(DBCS(RIGHT(入力シート!$G81+100,2)),COLUMN()-21,1)) | X56: =IF(入力シート!$I81<10/10^(COLUMN()-24),"",MID(DBCS(RIGHT(入力シート!$I81+100,2)),COLUMN()-23,1)) | Y56: =IF(入力シート!$I81<10/10^(COLUMN()-24),"",MID(DBCS(RIGHT(入力シート!$I81+100,2)),COLUMN()-23,1)) | Z56: =IF(入力シート!$K81<10/10^(COLUMN()-26),"",MID(DBCS(RIGHT(入力シート!$K81+100,2)),COLUMN()-25,1)) | AA56: =IF(入力シート!$K81<10/10^(COLUMN()-26),"",MID(DBCS(RIGHT(入力シート!$K81+100,2)),COLUMN()-25,1)) | AC56: =入力シート!N73&"" | AD56: 建設環境 | AH56: 318 | AI56: =入力シート!S73&"" | AJ56: =IF(入力シート!$T73<10/10^(COLUMN()-36),"",MID(DBCS(RIGHT(入力シート!$T73+100,2)),COLUMN()-35,1)) | AK56: =IF(入力シート!$T73<10/10^(COLUMN()-36),"",MID(DBCS(RIGHT(入力シート!$T73+100,2)),COLUMN()-35,1)) | AL56: =IF(入力シート!$V73<10/10^(COLUMN()-38),"",MID(DBCS(RIGHT(入力シート!$V73+100,2)),COLUMN()-37,1)) | AM56: =IF(入力シート!$V73<10/10^(COLUMN()-38),"",MID(DBCS(RIGHT(入力シート!$V73+100,2)),COLUMN()-37,1)) | AN56: =IF(入力シート!$X73<10/10^(COLUMN()-40),"",MID(DBCS(RIGHT(入力シート!$X73+100,2)),COLUMN()-39,1)) | AO56: =IF(入力シート!$X73<10/10^(COLUMN()-40),"",MID(DBCS(RIGHT(入力シート!$X73+100,2)),COLUMN()-39,1))
F57: 353 | G57: 356 | H57: 358 | I57: 359 | J57: 360 | K57: 361 | L57: 362 | M57: 363 | T57: 430 | U57: 433 | V57: 435 | W57: 436 | X57: 437 | Y57: 438 | Z57: 439 | AA57: 440 | AH57: 507 | AI57: 510 | AJ57: 512 | AK57: 513 | AL57: 514 | AM57: 515 | AN57: 516 | AO57: 517
A58: =入力シート!A69&"" | B58: 鉄道 | F58: 305 | G58: =入力シート!F69&"" | H58: =IF(入力シート!$G69<10/10^(COLUMN()-8),"",MID(DBCS(RIGHT(入力シート!$G69+100,2)),COLUMN()-7,1)) | I58: =IF(入力シート!$G69<10/10^(COLUMN()-8),"",MID(DBCS(RIGHT(入力シート!$G69+100,2)),COLUMN()-7,1)) | J58: =IF(入力シート!$I69<10/10^(COLUMN()-10),"",MID(DBCS(RIGHT(入力シート!$I69+100,2)),COLUMN()-9,1)) | K58: =IF(入力シート!$I69<10/10^(COLUMN()-10),"",MID(DBCS(RIGHT(入力シート!$I69+100,2)),COLUMN()-9,1)) | L58: =IF(入力シート!$K69<10/10^(COLUMN()-12),"",MID(DBCS(RIGHT(入力シート!$K69+100,2)),COLUMN()-11,1)) | M58: =IF(入力シート!$K69<10/10^(COLUMN()-12),"",MID(DBCS(RIGHT(入力シート!$K69+100,2)),COLUMN()-11,1)) | O58: =入力シート!N61&"" | P58: 都市計画及び 地方計画 | T58: 312 | U58: =入力シート!S61&"" | V58: =IF(入力シート!$T61<10/10^(COLUMN()-22),"",MID(DBCS(RIGHT(入力シート!$T61+100,2)),COLUMN()-21,1)) | W58: =IF(入力シート!$T61<10/10^(COLUMN()-22),"",MID(DBCS(RIGHT(入力シート!$T61+100,2)),COLUMN()-21,1)) | X58: =IF(入力シート!$V61<10/10^(COLUMN()-24),"",MID(DBCS(RIGHT(入力シート!$V61+100,2)),COLUMN()-23,1)) | Y58: =IF(入力シート!$V61<10/10^(COLUMN()-24),"",MID(DBCS(RIGHT(入力シート!$V61+100,2)),COLUMN()-23,1)) | Z58: =IF(入力シート!$X61<10/10^(COLUMN()-26),"",MID(DBCS(RIGHT(入力シート!$X61+100,2)),COLUMN()-25,1)) | AA58: =IF(入力シート!$X61<10/10^(COLUMN()-26),"",MID(DBCS(RIGHT(入力シート!$X61+100,2)),COLUMN()-25,1)) | AC58: =入力シート!N75&"" | AD58: 機械 | AH58: 319 | AI58: =入力シート!S75&"" | AJ58: =IF(入力シート!$T75<10/10^(COLUMN()-36),"",MID(DBCS(RIGHT(入力シート!$T75+100,2)),COLUMN()-35,1)) | AK58: =IF(入力シート!$T75<10/10^(COLUMN()-36),"",MID(DBCS(RIGHT(入力シート!$T75+100,2)),COLUMN()-35,1)) | AL58: =IF(入力シート!$V75<10/10^(COLUMN()-38),"",MID(DBCS(RIGHT(入力シート!$V75+100,2)),COLUMN()-37,1)) | AM58: =IF(入力シート!$V75<10/10^(COLUMN()-38),"",MID(DBCS(RIGHT(入力シート!$V75+100,2)),COLUMN()-37,1)) | AN58: =IF(入力シート!$X75<10/10^(COLUMN()-40),"",MID(DBCS(RIGHT(入力シート!$X75+100,2)),COLUMN()-39,1)) | AO58: =IF(入力シート!$X75<10/10^(COLUMN()-40),"",MID(DBCS(RIGHT(入力シート!$X75+100,2)),COLUMN()-39,1))
F59: 364 | G59: 367 | H59: 369 | I59: 370 | J59: 371 | K59: 372 | L59: 373 | M59: 374 | T59: 441 | U59: 444 | V59: 446 | W59: 447 | X59: 448 | Y59: 449 | Z59: 450 | AA59: 451 | AH59: 518 | AI59: 521 | AJ59: 523 | AK59: 524 | AL59: 525 | AM59: 526 | AN59: 527 | AO59: 528
A60: =入力シート!A71&"" | B60: 上水道及び 工業用水道 | F60: 306 | G60: =入力シート!F71&"" | H60: =IF(入力シート!$G71<10/10^(COLUMN()-8),"",MID(DBCS(RIGHT(入力シート!$G71+100,2)),COLUMN()-7,1)) | I60: =IF(入力シート!$G71<10/10^(COLUMN()-8),"",MID(DBCS(RIGHT(入力シート!$G71+100,2)),COLUMN()-7,1)) | J60: =IF(入力シート!$I71<10/10^(COLUMN()-10),"",MID(DBCS(RIGHT(入力シート!$I71+100,2)),COLUMN()-9,1)) | K60: =IF(入力シート!$I71<10/10^(COLUMN()-10),"",MID(DBCS(RIGHT(入力シート!$I71+100,2)),COLUMN()-9,1)) | L60: =IF(入力シート!$K71<10/10^(COLUMN()-12),"",MID(DBCS(RIGHT(入力シート!$K71+100,2)),COLUMN()-11,1)) | M60: =IF(入力シート!$K71<10/10^(COLUMN()-12),"",MID(DBCS(RIGHT(入力シート!$K71+100,2)),COLUMN()-11,1)) | O60: =入力シート!N63&"" | P60: 地質 | T60: 313 | U60: =入力シート!S63&"" | V60: =IF(入力シート!$T63<10/10^(COLUMN()-22),"",MID(DBCS(RIGHT(入力シート!$T63+100,2)),COLUMN()-21,1)) | W60: =IF(入力シート!$T63<10/10^(COLUMN()-22),"",MID(DBCS(RIGHT(入力シート!$T63+100,2)),COLUMN()-21,1)) | X60: =IF(入力シート!$V63<10/10^(COLUMN()-24),"",MID(DBCS(RIGHT(入力シート!$V63+100,2)),COLUMN()-23,1)) | Y60: =IF(入力シート!$V63<10/10^(COLUMN()-24),"",MID(DBCS(RIGHT(入力シート!$V63+100,2)),COLUMN()-23,1)) | Z60: =IF(入力シート!$X63<10/10^(COLUMN()-26),"",MID(DBCS(RIGHT(入力シート!$X63+100,2)),COLUMN()-25,1)) | AA60: =IF(入力シート!$X63<10/10^(COLUMN()-26),"",MID(DBCS(RIGHT(入力シート!$X63+100,2)),COLUMN()-25,1)) | AC60: =入力シート!N77&"" | AD60: 電気電子 | AH60: 320 | AI60: =入力シート!S77&"" | AJ60: =IF(入力シート!$T77<10/10^(COLUMN()-36),"",MID(DBCS(RIGHT(入力シート!$T77+100,2)),COLUMN()-35,1)) | AK60: =IF(入力シート!$T77<10/10^(COLUMN()-36),"",MID(DBCS(RIGHT(入力シート!$T77+100,2)),COLUMN()-35,1)) | AL60: =IF(入力シート!$V77<10/10^(COLUMN()-38),"",MID(DBCS(RIGHT(入力シート!$V77+100,2)),COLUMN()-37,1)) | AM60: =IF(入力シート!$V77<10/10^(COLUMN()-38),"",MID(DBCS(RIGHT(入力シート!$V77+100,2)),COLUMN()-37,1)) | AN60: =IF(入力シート!$X77<10/10^(COLUMN()-40),"",MID(DBCS(RIGHT(入力シート!$X77+100,2)),COLUMN()-39,1)) | AO60: =IF(入力シート!$X77<10/10^(COLUMN()-40),"",MID(DBCS(RIGHT(入力シート!$X77+100,2)),COLUMN()-39,1))
F61: 375 | G61: 378 | H61: 380 | I61: 381 | J61: 382 | K61: 383 | L61: 384 | M61: 385 | T61: 452 | U61: 455 | V61: 457 | W61: 458 | X61: 459 | Y61: 460 | Z61: 461 | AA61: 462 | AH61: 529 | AI61: 532 | AJ61: 534 | AK61: 535 | AL61: 536 | AM61: 537 | AN61: 538 | AO61: 539
A62: =入力シート!A73&"" | B62: 下水道 | F62: 307 | G62: =入力シート!F73&"" | H62: =IF(入力シート!$G73<10/10^(COLUMN()-8),"",MID(DBCS(RIGHT(入力シート!$G73+100,2)),COLUMN()-7,1)) | I62: =IF(入力シート!$G73<10/10^(COLUMN()-8),"",MID(DBCS(RIGHT(入力シート!$G73+100,2)),COLUMN()-7,1)) | J62: =IF(入力シート!$I73<10/10^(COLUMN()-10),"",MID(DBCS(RIGHT(入力シート!$I73+100,2)),COLUMN()-9,1)) | K62: =IF(入力シート!$I73<10/10^(COLUMN()-10),"",MID(DBCS(RIGHT(入力シート!$I73+100,2)),COLUMN()-9,1)) | L62: =IF(入力シート!$K73<10/10^(COLUMN()-12),"",MID(DBCS(RIGHT(入力シート!$K73+100,2)),COLUMN()-11,1)) | M62: =IF(入力シート!$K73<10/10^(COLUMN()-12),"",MID(DBCS(RIGHT(入力シート!$K73+100,2)),COLUMN()-11,1)) | O62: =入力シート!N65&"" | P62: 土質及び基礎 | T62: 314 | U62: =入力シート!S65&"" | V62: =IF(入力シート!$T65<10/10^(COLUMN()-22),"",MID(DBCS(RIGHT(入力シート!$T65+100,2)),COLUMN()-21,1)) | W62: =IF(入力シート!$T65<10/10^(COLUMN()-22),"",MID(DBCS(RIGHT(入力シート!$T65+100,2)),COLUMN()-21,1)) | X62: =IF(入力シート!$V65<10/10^(COLUMN()-24),"",MID(DBCS(RIGHT(入力シート!$V65+100,2)),COLUMN()-23,1)) | Y62: =IF(入力シート!$V65<10/10^(COLUMN()-24),"",MID(DBCS(RIGHT(入力シート!$V65+100,2)),COLUMN()-23,1)) | Z62: =IF(入力シート!$X65<10/10^(COLUMN()-26),"",MID(DBCS(RIGHT(入力シート!$X65+100,2)),COLUMN()-25,1)) | AA62: =IF(入力シート!$X65<10/10^(COLUMN()-26),"",MID(DBCS(RIGHT(入力シート!$X65+100,2)),COLUMN()-25,1)) | AC62: =入力シート!N79&"" | AD62: 廃棄物 | AH62: 321 | AI62: =入力シート!S79&"" | AJ62: =IF(入力シート!$T79<10/10^(COLUMN()-36),"",MID(DBCS(RIGHT(入力シート!$T79+100,2)),COLUMN()-35,1)) | AK62: =IF(入力シート!$T79<10/10^(COLUMN()-36),"",MID(DBCS(RIGHT(入力シート!$T79+100,2)),COLUMN()-35,1)) | AL62: =IF(入力シート!$V79<10/10^(COLUMN()-38),"",MID(DBCS(RIGHT(入力シート!$V79+100,2)),COLUMN()-37,1)) | AM62: =IF(入力シート!$V79<10/10^(COLUMN()-38),"",MID(DBCS(RIGHT(入力シート!$V79+100,2)),COLUMN()-37,1)) | AN62: =IF(入力シート!$X79<10/10^(COLUMN()-40),"",MID(DBCS(RIGHT(入力シート!$X79+100,2)),COLUMN()-39,1)) | AO62: =IF(入力シート!$X79<10/10^(COLUMN()-40),"",MID(DBCS(RIGHT(入力シート!$X79+100,2)),COLUMN()-39,1))
A65: 地質調査業務（1部門） | H65: 地質調査 技士数 | K65: 補償関係コンサルタント業務（7部門）
A66: 希望 | B66: 部門 | F66: コード | G66: 登録 | K66: 希望 | L66: 部門 | P66: コード | Q66: 登録 | S66: 希望 | T66: 部門 | X66: コード | Y66: 登録 | AA66: 希望 | AB66: 部門 | AF66: コード | AG66: 登録 | AI66: 希望 | AJ66: 部門 | AN66: コード | AO66: 登録
F67: 540 | G67: 543 | H67: 545 | I67: 546 | P67: 547 | Q67: 550 | X67: 557 | Y67: 560 | AF67: 567 | AG67: 570 | AN67: 577 | AO67: 580
A68: =入力シート!A86&"" | B68: 地質調査 | F68: 401 | G68: =入力シート!F86&"" | H68: =IF(入力シート!$G86<10/10^(COLUMN()-8),"",MID(DBCS(RIGHT(入力シート!$G86+100,2)),COLUMN()-7,1)) | I68: =IF(入力シート!$G86<10/10^(COLUMN()-8),"",MID(DBCS(RIGHT(入力シート!$G86+100,2)),COLUMN()-7,1)) | K68: =入力シート!K86&"" | L68: 土地調査 | P68: 501 | Q68: =入力シート!P86&"" | S68: =入力シート!K90&"" | T68: 物件 | X68: 503 | Y68: =入力シート!P90&"" | AA68: =入力シート!R86&"" | AB68: 営業補償・特殊補償 | AF68: 505 | AG68: =入力シート!X86&"" | AI68: =入力シート!R90&"" | AJ68: 補償関連 | AN68: 507 | AO68: =入力シート!X90&""
P69: 552 | Q69: 555 | X69: 562 | Y69: 565 | AF69: 572 | AG69: 575
K70: =入力シート!K88&"" | L70: 土地評価 | P70: 502 | Q70: =入力シート!P88&"" | S70: =入力シート!K92&"" | T70: 機械工作物 | X70: 504 | Y70: =入力シート!P92&"" | AA70: =入力シート!R88&"" | AB70: 事業損失 | AF70: 506 | AG70: =入力シート!X88&""
A71: 環境調査業務及びその他の業務（1部門）
A72: 希望 | B72: 部門 | F72: コード | G72: 登録
F73: 582 | G73: 585
A74: =入力シート!A95&"" | B74: 環境調査 | F74: 601 | G74: 0
F75: 587 | G75: 590 | L75: 592 | M75: 594 | N75: 596 | O75: 598 | P75: 600 | Q75: 602 | R75: 604 | S75: 606 | T75: 608 | U75: 610 | V75: 612 | W75: 614 | X75: 616 | Y75: 618 | Z75: 620 | AA75: 622 | AB75: 624 | AC75: 626 | AD75: 628 | AE75: 630
A76: =入力シート!A97&"" | B76: その他 | F76: 602 | G76: 0 | H76: ※具体的な業種名 | L76: =MID(DBCS(入力シート!$K$97),COLUMN()-11,1) | M76: =MID(DBCS(入力シート!$K$97),COLUMN()-11,1) | N76: =MID(DBCS(入力シート!$K$97),COLUMN()-11,1) | O76: =MID(DBCS(入力シート!$K$97),COLUMN()-11,1) | P76: =MID(DBCS(入力シート!$K$97),COLUMN()-11,1) | Q76: =MID(DBCS(入力シート!$K$97),COLUMN()-11,1) | R76: =MID(DBCS(入力シート!$K$97),COLUMN()-11,1) | S76: =MID(DBCS(入力シート!$K$97),COLUMN()-11,1) | ... AE76: =MID(DBCS(入力シート!$K$97),COLUMN()-11,1)

Sheet 申請書受付票
E1: =入力シート!Y2 -> ver9.20
A2: 申請書受付票
A3: （令和９・１０年度）
A5: 佐賀県建設工事等入札参加資格申請書（建設関連業）を下記のとおり受け付けました。
C7: 受付印
B10: 申請者
B11: 所在地 | C11: =DATA!$E$15 -> ---選択---
B12: 商号又は名称 | C12: =DATA!$E$6
B13: 代表者職・氏名 | C13: =DATA!$E$8

Sheet 出資状況調査票
A1: 出資状況等に関する調査票
A2: 佐賀県入札参加資格を申請する他の法人に、資本又は人事面に深い関係のある建設業又は建設関連業を営む会社（同族会社）がある場合は、下記要領によりご記載ください。 なお、同族会社がない場合は「なし」とご記載ください。 調査票作成日以降に同族会社があることとなった場合は、改めてこの調査票をご提出ください。 本票の提出がないまま同族会社の関係性にある建設業又は建設関連業を営む会社が同一の入札に参加したこと等が確認された場合、未提出の理由如何にかかわらず、契約の解除や指名停止措置の対象となる場合があります。
B3: 申請者 | D3: =DATA!$E$2 -> 令和８年月日
B4: 許可番号（業者コード） | D4: =DBCS(DATA!$E$4) -> －
B5: 商号又は名称 | D5: =DATA!$E$6
B6: 代表者職・氏名 | D6: =DATA!$E$8
A8: 1. 日本国籍会社 | C8: 会社名1： | D8: なし
C9: 会社名2：
C10: 会社名3：
A11: 2. 外国籍会社 | C11: 国名：
A14: 【記入要領】
A15: 1. 同族会社が日本国籍の場合は、会社名を記入する。
A16: 2. 同族会社が外国籍の場合は、国名を記入する。
A17: 3. 日本国籍会社と外国籍会社の両方がある場合は、1と2を両方記入する。
A19: 資本面に深い関係 （法人税法施行令 第4条第2項、 第4項） | C19: 1. 株主等の一人（個人である株主等については、その1人及び次の①から⑤に掲げる者）が他の会社を支配している 場合（※）における当該他の会社 ① 株主等の親族（六親等内の血族、三親等内の姻族及び配偶者） ② 株主等の内縁の配偶者 ③ 個人である株主等の使用人 ④ 前①から③に掲げる者以外の者で株主等から受ける金銭等で生計を維持している者 ⑤ 前②から④に掲げる者と生計を一にする親族
C20: 2. 株主等の1人及び前号に規定する会社が他の会社を支配している場合における当該他の会社
C21: 3. 株主等の1人及び前2号に規定する会社が他の会社を支配している場合における当該他の会社
C22: 4. 前3号に規定する会社が2以上ある場合には、その2以上の会社は相互に資本面に深い関係があるものとみなす
A23: 人事面に深い関係 | C23: 1. 一方の会社の役員（会社法施行規則第2条第3項第3号に規定する役員のうち、注5に掲げる者をいう。以下 同じ。）が、他の会社等の役員を現に兼ねている場合
C24: 2. 一方の会社の役員の配偶者及び親子関係にある者が、現に他の会社の役員の職にある場合
A25: （※）他の会社を支配している場合とは、法人税法施行令第4条第3項に該当する場合とする。 ・当該他の会社の50％を超える株式、出資金額又は議決権を有している場合 ・当該他の会社の50％を超える株主等（合名会社、合資会社又は合同会社の社員（当該他の会社が業務を執行する社員を定めた場合にあっては、 業務を執行する社員）に限る。）を有している場合
A27: 〔役員についての注記〕
A28: 注1 | B28: 株式会社には、有限会社（会社法施行後は「特例有限会社」という。）を含む。
A29: 注2 | B29: 委員会設置会社とは、主に大企業で導入されている取締役会の中に指名委員会、監査委員会及び報酬委員会を置く株式会社のこと。
A30: 注3 | B30: 持分会社とは、有限責任社員及び無限責任社員の中から業務を執行する社員を定款で定めることができる合名会社、合資会社及び合同会社の総称のこと。
A31: 注4 | B31: 法人格のある各種の組合等とは、一般社団法人及び一般財団法人に関する法律に基づく一般社団法人（又は一般財団法人）（特例民法法人や公益社団法人（又は公益財団法人）を含む。）、中小企業等協同組合法に基づく協同組合、中小企業団体の組織に関する法律に基づく協業組合等の特別法に基づく法人のこと。
A32: 注5 | B32: 1) 株式会社の取締役。ただし、次に掲げる者を除く。 イ 会社法第2条第11号の2に規定する監査等委員会設置会社における監査等委員である取締役 ロ 会社法第2条第12号に規定する指名委員会等設置会社における取締役 ハ 会社法第2条第15号に規定する社外取締役 ニ 会社法第348条第１項に規定する定款に別段の定めがある場合により業務を執行しないこととされている取締役 2) 会社法第402条に規定する指名委員会等設置会社の執行役 3) 会社法第575条第1項に規定する持分会社（合名会社、合資会社又は合同会社をいう。）の社員（同法第590条第1項に 規定する定款に別段の定めがある場合により業務を執行しないこととされている社員を除く。） 4) 組合の理事 5) その他業務を執行する者であって、1)から4)までに掲げる者に準ずる者

Sheet 技術士等の人数に係る調書
A1: 整理番号10 | J1: =入力シート!Y2 -> ver9.20
A2: 技術士等の人数に係る調書
C4: 申請者
C5: 所在地 | G5: =DATA!$E$15 -> ---選択--- | H5: 佐賀県伊万里市博多駅南1-11-27AS-OFFICE博多208号 | I5: 佐賀県伊万里市博多駅南1-11-27AS-OFFICE博多208号
C6: 商号又は名称 | G6: =DATA!$E$6 | H6: エヌ・ティ・ティ・データ・カスタマサービス株式会社 | I6: エヌ・ティ・ティ・データ・カスタマサービス株式会社
C7: 代表者職・氏名 | G7: =DATA!$E$8 | H7: 代表取締役社長 大田原 三郎太 | I7: 代表取締役社長 大田原 三郎太
B9: ※1人で複数の資格を有している場合は、資格ごとに1行ずつ記載してください。
B10: 氏名 | C10: 生年月日 | G10: 法令による免許等
G11: 資格名 | H11: 部門名 ※土木関係建設コンサル タント業務のみ記載 | I11: 免許等
D12: 年 | E12: 月 | F12: 日
A13: 1 | I13: =IF(OR(G13="測量士",G13="地質調査技士"),G13,G13&CHAR(10)&H13) | L13: 部門名選択肢 | M13: 資格名選択肢
A14: 2 | I14: =IF(OR(G14="測量士",G14="地質調査技士"),G14,G14&CHAR(10)&H14) | L14: ［河川砂防及び海岸・海洋］ | M14: 測量士
A15: 3 | I15: =IF(OR(G15="測量士",G15="地質調査技士"),G15,G15&CHAR(10)&H15) | L15: ［港湾及び空港］ | M15: 技術士
A16: 4 | I16: =IF(OR(G16="測量士",G16="地質調査技士"),G16,G16&CHAR(10)&H16) | L16: ［電力土木］ | M16: 認定技術管理者
A17: 5 | I17: =IF(OR(G17="測量士",G17="地質調査技士"),G17,G17&CHAR(10)&H17) | L17: ［道路］ | M17: RCCM
A18: 6 | I18: =IF(OR(G18="測量士",G18="地質調査技士"),G18,G18&CHAR(10)&H18) | L18: ［鉄道］ | M18: 地質調査技士
A19: 7 | I19: =IF(OR(G19="測量士",G19="地質調査技士"),G19,G19&CHAR(10)&H19) | L19: ［上水道及び工業用水道］
A20: 8 | I20: =IF(OR(G20="測量士",G20="地質調査技士"),G20,G20&CHAR(10)&H20) | L20: ［下水道］
A21: 9 | I21: =IF(OR(G21="測量士",G21="地質調査技士"),G21,G21&CHAR(10)&H21) | L21: ［農業土木］
A22: 10 | I22: =IF(OR(G22="測量士",G22="地質調査技士"),G22,G22&CHAR(10)&H22) | L22: ［森林土木］
A23: 11 | I23: =IF(OR(G23="測量士",G23="地質調査技士"),G23,G23&CHAR(10)&H23) | L23: ［水産土木］
A24: 12 | I24: =IF(OR(G24="測量士",G24="地質調査技士"),G24,G24&CHAR(10)&H24) | L24: ［造園］
A25: 13 | I25: =IF(OR(G25="測量士",G25="地質調査技士"),G25,G25&CHAR(10)&H25) | L25: ［都市計画及び地方計画］
A26: 14 | I26: =IF(OR(G26="測量士",G26="地質調査技士"),G26,G26&CHAR(10)&H26) | L26: ［地質］
A27: 15 | I27: =IF(OR(G27="測量士",G27="地質調査技士"),G27,G27&CHAR(10)&H27) | L27: ［土質及び基礎］
A28: 16 | I28: =IF(OR(G28="測量士",G28="地質調査技士"),G28,G28&CHAR(10)&H28) | L28: ［鋼構造及びコンクリート］
A29: 17 | I29: =IF(OR(G29="測量士",G29="地質調査技士"),G29,G29&CHAR(10)&H29) | L29: ［トンネル］
A30: 18 | I30: =IF(OR(G30="測量士",G30="地質調査技士"),G30,G30&CHAR(10)&H30) | L30: ［施工計画施工設備及び積算］
... A34: 22 | I34: =IF(OR(G34="測量士",G34="地質調査技士"),G34,G34&CHAR(10)&H34) | L34: ［廃棄物］
A35: 23 | I35: =IF(OR(G35="測量士",G35="地質調査技士"),G35,G35&CHAR(10)&H35)
A36: 24 | I36: =IF(OR(G36="測量士",G36="地質調査技士"),G36,G36&CHAR(10)&H36)
A37: 25 | I37: =IF(OR(G37="測量士",G37="地質調査技士"),G37,G37&CHAR(10)&H37)
A38: 26 | I38: =IF(OR(G38="測量士",G38="地質調査技士"),G38,G38&CHAR(10)&H38)
A39: 27 | I39: =IF(OR(G39="測量士",G39="地質調査技士"),G39,G39&CHAR(10)&H39)
A40: 28 | I40: =IF(OR(G40="測量士",G40="地質調査技士"),G40,G40&CHAR(10)&H40)
A41: 29 | I41: =IF(OR(G41="測量士",G41="地質調査技士"),G41,G41&CHAR(10)&H41)
A42: 30 | I42: =IF(OR(G42="測量士",G42="地質調査技士"),G42,G42&CHAR(10)&H42)
A43: 31 | I43: =IF(OR(G43="測量士",G43="地質調査技士"),G43,G43&CHAR(10)&H43)
A44: 32 | I44: =IF(OR(G44="測量士",G44="地質調査技士"),G44,G44&CHAR(10)&H44)
A45: 33 | I45: =IF(OR(G45="測量士",G45="地質調査技士"),G45,G45&CHAR(10)&H45)
A46: 34 | I46: =IF(OR(G46="測量士",G46="地質調査技士"),G46,G46&CHAR(10)&H46)
... A112: 100 | I112: =IF(OR(G112="測量士",G112="地質調査技士"),G112,G112&CHAR(10)&H112)

Sheet 技術士等の人数に係る調書【総括表】
A1: 整理番号11 | J1: =入力シート!Y2 -> ver9.20
A2: 技術士等の人数に係る調書【総括表】
D4: 申請者
D5: 所在地 | E5: =DATA!$E$15 -> ---選択---
D6: 商号又は名称 | E6: =DATA!$E$6
D7: 代表者職・氏名 | E7: =DATA!$E$8
B9: 有資格者 | E9: 全職員数 （延人数） | G9: 有資格者 | I9: 全職員数 （延人数）
B10: 測量士 | E10: =COUNTIF(技術士等の人数に係る調書!$I$13:$I$112,B10) -> 0 | G10: 認定技術管理者
B11: 技術士 | H11: ［都市計画及び地方計画］ | I11: =COUNTIF(技術士等の人数に係る調書!$I$13:$I$112,$G$10&CHAR(10)&H11) -> 0
C12: ［河川砂防及び海岸・海洋］ | E12: =COUNTIF(技術士等の人数に係る調書!$I$13:$I$112,$B$11&CHAR(10)&C12) -> 0 | H12: ［地質］ | I12: =COUNTIF(技術士等の人数に係る調書!$I$13:$I$112,$G$10&CHAR(10)&H12) -> 0
C13: ［港湾及び空港］ | E13: =COUNTIF(技術士等の人数に係る調書!$I$13:$I$112,$B$11&CHAR(10)&C13) -> 0 | H13: ［土質及び基礎］ | I13: =COUNTIF(技術士等の人数に係る調書!$I$13:$I$112,$G$10&CHAR(10)&H13) -> 0
C14: ［電力土木］ | E14: =COUNTIF(技術士等の人数に係る調書!$I$13:$I$112,$B$11&CHAR(10)&C14) -> 0 | H14: ［鋼構造及びコンクリート］ | I14: =COUNTIF(技術士等の人数に係る調書!$I$13:$I$112,$G$10&CHAR(10)&H14) -> 0
C15: ［道路］ | E15: =COUNTIF(技術士等の人数に係る調書!$I$13:$I$112,$B$11&CHAR(10)&C15) -> 0 | H15: ［トンネル］ | I15: =COUNTIF(技術士等の人数に係る調書!$I$13:$I$112,$G$10&CHAR(10)&H15) -> 0
C16: ［鉄道］ | E16: =COUNTIF(技術士等の人数に係る調書!$I$13:$I$112,$B$11&CHAR(10)&C16) -> 0 | H16: ［施工計画施工設備及び積算］ | I16: =COUNTIF(技術士等の人数に係る調書!$I$13:$I$112,$G$10&CHAR(10)&H16) -> 0
C17: ［上水道及び工業用水道］ | E17: =COUNTIF(技術士等の人数に係る調書!$I$13:$I$112,$B$11&CHAR(10)&C17) -> 0 | H17: ［建設環境］ | I17: =COUNTIF(技術士等の人数に係る調書!$I$13:$I$112,$G$10&CHAR(10)&H17) -> 0
C18: ［下水道］ | E18: =COUNTIF(技術士等の人数に係る調書!$I$13:$I$112,$B$11&CHAR(10)&C18) -> 0 | H18: ［機械］ | I18: =COUNTIF(技術士等の人数に係る調書!$I$13:$I$112,$G$10&CHAR(10)&H18) -> 0
C19: ［農業土木］ | E19: =COUNTIF(技術士等の人数に係る調書!$I$13:$I$112,$B$11&CHAR(10)&C19) -> 0 | H19: ［電気電子］ | I19: =COUNTIF(技術士等の人数に係る調書!$I$13:$I$112,$G$10&CHAR(10)&H19) -> 0
C20: ［森林土木］ | E20: =COUNTIF(技術士等の人数に係る調書!$I$13:$I$112,$B$11&CHAR(10)&C20) -> 0 | H20: ［廃棄物］ | I20: =COUNTIF(技術士等の人数に係る調書!$I$13:$I$112,$G$10&CHAR(10)&H20) -> 0
C21: ［水産土木］ | E21: =COUNTIF(技術士等の人数に係る調書!$I$13:$I$112,$B$11&CHAR(10)&C21) -> 0 | G21: RCCM
C22: ［造園］ | E22: =COUNTIF(技術士等の人数に係る調書!$I$13:$I$112,$B$11&CHAR(10)&C22) -> 0 | H22: ［河川砂防及び海岸・海洋］ | I22: =COUNTIF(技術士等の人数に係る調書!$I$13:$I$112,$G$21&CHAR(10)&H22) -> 0
C23: ［都市計画及び地方計画］ | E23: =COUNTIF(技術士等の人数に係る調書!$I$13:$I$112,$B$11&CHAR(10)&C23) -> 0 | H23: ［港湾及び空港］ | I23: =COUNTIF(技術士等の人数に係る調書!$I$13:$I$112,$G$21&CHAR(10)&H23) -> 0
C24: ［地質］ | E24: =COUNTIF(技術士等の人数に係る調書!$I$13:$I$112,$B$11&CHAR(10)&C24) -> 0 | H24: ［電力土木］ | I24: =COUNTIF(技術士等の人数に係る調書!$I$13:$I$112,$G$21&CHAR(10)&H24) -> 0
C25: ［土質及び基礎］ | E25: =COUNTIF(技術士等の人数に係る調書!$I$13:$I$112,$B$11&CHAR(10)&C25) -> 0 | H25: ［道路］ | I25: =COUNTIF(技術士等の人数に係る調書!$I$13:$I$112,$G$21&CHAR(10)&H25) -> 0
C26: ［鋼構造及びコンクリート］ | E26: =COUNTIF(技術士等の人数に係る調書!$I$13:$I$112,$B$11&CHAR(10)&C26) -> 0 | H26: ［鉄道］ | I26: =COUNTIF(技術士等の人数に係る調書!$I$13:$I$112,$G$21&CHAR(10)&H26) -> 0
C27: ［トンネル］ | E27: =COUNTIF(技術士等の人数に係る調書!$I$13:$I$112,$B$11&CHAR(10)&C27) -> 0 | H27: ［上水道及び工業用水道］ | I27: =COUNTIF(技術士等の人数に係る調書!$I$13:$I$112,$G$21&CHAR(10)&H27) -> 0
C28: ［施工計画施工設備及び積算］ | E28: =COUNTIF(技術士等の人数に係る調書!$I$13:$I$112,$B$11&CHAR(10)&C28) -> 0 | H28: ［下水道］ | I28: =COUNTIF(技術士等の人数に係る調書!$I$13:$I$112,$G$21&CHAR(10)&H28) -> 0
C29: ［建設環境］ | E29: =COUNTIF(技術士等の人数に係る調書!$I$13:$I$112,$B$11&CHAR(10)&C29) -> 0 | H29: ［農業土木］ | I29: =COUNTIF(技術士等の人数に係る調書!$I$13:$I$112,$G$21&CHAR(10)&H29) -> 0
C30: ［機械］ | E30: =COUNTIF(技術士等の人数に係る調書!$I$13:$I$112,$B$11&CHAR(10)&C30) -> 0 | H30: ［森林土木］ | I30: =COUNTIF(技術士等の人数に係る調書!$I$13:$I$112,$G$21&CHAR(10)&H30) -> 0
C31: ［電気電子］ | E31: =COUNTIF(技術士等の人数に係る調書!$I$13:$I$112,$B$11&CHAR(10)&C31) -> 0 | H31: ［水産土木］ | I31: =COUNTIF(技術士等の人数に係る調書!$I$13:$I$112,$G$21&CHAR(10)&H31) -> 0
C32: ［廃棄物］ | E32: =COUNTIF(技術士等の人数に係る調書!$I$13:$I$112,$B$11&CHAR(10)&C32) -> 0 | H32: ［造園］ | I32: =COUNTIF(技術士等の人数に係る調書!$I$13:$I$112,$G$21&CHAR(10)&H32) -> 0
B33: 認定技術管理者 | H33: ［都市計画及び地方計画］ | I33: =COUNTIF(技術士等の人数に係る調書!$I$13:$I$112,$G$21&CHAR(10)&H33) -> 0
C34: ［河川砂防及び海岸・海洋］ | E34: =COUNTIF(技術士等の人数に係る調書!$I$13:$I$112,$B$33&CHAR(10)&C34) -> 0 | H34: ［地質］ | I34: =COUNTIF(技術士等の人数に係る調書!$I$13:$I$112,$G$21&CHAR(10)&H34) -> 0
C35: ［港湾及び空港］ | E35: =COUNTIF(技術士等の人数に係る調書!$I$13:$I$112,$B$33&CHAR(10)&C35) -> 0 | H35: ［土質及び基礎］ | I35: =COUNTIF(技術士等の人数に係る調書!$I$13:$I$112,$G$21&CHAR(10)&H35) -> 0
C36: ［電力土木］ | E36: =COUNTIF(技術士等の人数に係る調書!$I$13:$I$112,$B$33&CHAR(10)&C36) -> 0 | H36: ［鋼構造及びコンクリート］ | I36: =COUNTIF(技術士等の人数に係る調書!$I$13:$I$112,$G$21&CHAR(10)&H36) -> 0
C37: ［道路］ | E37: =COUNTIF(技術士等の人数に係る調書!$I$13:$I$112,$B$33&CHAR(10)&C37) -> 0 | H37: ［トンネル］ | I37: =COUNTIF(技術士等の人数に係る調書!$I$13:$I$112,$G$21&CHAR(10)&H37) -> 0
C38: ［鉄道］ | E38: =COUNTIF(技術士等の人数に係る調書!$I$13:$I$112,$B$33&CHAR(10)&C38) -> 0 | H38: ［施工計画施工設備及び積算］ | I38: =COUNTIF(技術士等の人数に係る調書!$I$13:$I$112,$G$21&CHAR(10)&H38) -> 0
C39: ［上水道及び工業用水道］ | E39: =COUNTIF(技術士等の人数に係る調書!$I$13:$I$112,$B$33&CHAR(10)&C39) -> 0 | H39: ［建設環境］ | I39: =COUNTIF(技術士等の人数に係る調書!$I$13:$I$112,$G$21&CHAR(10)&H39) -> 0
C40: ［下水道］ | E40: =COUNTIF(技術士等の人数に係る調書!$I$13:$I$112,$B$33&CHAR(10)&C40) -> 0 | H40: ［機械］ | I40: =COUNTIF(技術士等の人数に係る調書!$I$13:$I$112,$G$21&CHAR(10)&H40) -> 0
C41: ［農業土木］ | E41: =COUNTIF(技術士等の人数に係る調書!$I$13:$I$112,$B$33&CHAR(10)&C41) -> 0 | H41: ［電気電子］ | I41: =COUNTIF(技術士等の人数に係る調書!$I$13:$I$112,$G$21&CHAR(10)&H41) -> 0
C42: ［森林土木］ | E42: =COUNTIF(技術士等の人数に係る調書!$I$13:$I$112,$B$33&CHAR(10)&C42) -> 0 | H42: ［廃棄物］ | I42: =COUNTIF(技術士等の人数に係る調書!$I$13:$I$112,$G$21&CHAR(10)&H42) -> 0
C43: ［水産土木］ | E43: =COUNTIF(技術士等の人数に係る調書!$I$13:$I$112,$B$33&CHAR(10)&C43) -> 0 | G43: 地質調査技士 | I43: =COUNTIF(技術士等の人数に係る調書!$I$13:$I$112,G43) -> 0
C44: ［造園］ | E44: =COUNTIF(技術士等の人数に係る調書!$I$13:$I$112,$B$33&CHAR(10)&C44) -> 0
D46: ※この様式は自動計算です | G46: 合計人数 | I46: =SUM(E10:E44,I10:I44) -> 0

Sheet 技術者経歴書
A1: 整理番号17 | J1: =入力シート!Y2 -> ver9.20
A2: 技術者経歴書
B4: （種類）
B6: 商号又は名称 | C6: =DATA!$E$6
B8: 氏名 | C8: 最終学歴 | E8: 法令による免許等 | G8: 実務経歴 | H8: 部門 | I8: 実務経験 年月数
C9: 学校の種類 | D9: 専攻学科 | E9: 名称 | F9: 取得年月日
A10: 1 | F10: / / | I10: 年 月
A11: 2 | F11: / / | I11: 年 月
A12: 3 | F12: / / | I12: 年 月
A13: 4 | F13: / / | I13: 年 月
A14: 5 | F14: / / | I14: 年 月
A15: 6 | F15: / / | I15: 年 月
A16: 7 | F16: / / | I16: 年 月
A17: 8 | F17: / / | I17: 年 月
A18: 9 | F18: / / | I18: 年 月
A19: 10 | F19: / / | I19: 年 月
A20: 11 | F20: / / | I20: 年 月
A21: 12 | F21: / / | I21: 年 月
... A25: 16 | F25: / / | I25: 年 月
B27: 〔記載要領〕
B28: 1 本表は、土木、建築もしくは設備または職種の各別に作成すること。 また、氏名の記載は、営業所（本店または支店もしくは常時契約を締結する事務所）ごとにまとめて行い、その直前に（ ）書きで 当該営業所名を記載すること。
B29: 2 「学校の種類」の欄には、大学、高等専門学校等の別を記載すること。
B30: 3 「法令による免許等」欄には、業務に関し法律または命令による免許または技術もしくは技能の認定を受けたものを記載すること。 （例：○○建築士、○○土木施工管理技士）
B31: 4 「実務経歴」の欄には、最近のものから記載し、純粋に測量、建設コンサルタント等業務に従事した職種および地位を記載すること。
B32: 5 「部門」の欄には、実務経歴に係る部門を記載すること。（例：測量、道路、下水道）

Sheet 営業経歴書
A1: 整理番号18 | H1: =入力シート!Y2 -> ver9.20
A2: 営業経歴書
D4: 商号又は名称 | E4: =DATA!$E$6
B7: 営業の沿革
B8: 創業 | F8: 年 月 日
B9: 創業後の沿革 | F9: 年 月 日
F10: 年 月 日
F11: 年 月 日
F12: 年 月 日
F13: 年 月 日
F14: 年 月 日
F15: 年 月 日
F16: 年 月 日

Sheet 実績調書
A1: 整理番号19 | I1: =入力シート!Y2 -> ver9.20
A2: 実績調書
B4: （登録業種区分）
B6: 商号又は名称 | C6: =DATA!$E$6
G7: ※下記記載要領を確認の上作成してください。
B8: 注文者 | C8: 元請 下請 区分 | D8: 件名 | E8: 対象の規模等 | F8: 業務履行場所 の都道府県名 | G8: 請負金額 （千円） | H8: 着工年月
H9: 完成（予定）年月
H10: 年 月
H11: 年 月
H12: 年 月
H13: 年 月
H14: 年 月
H15: 年 月
H16: 年 月
H17: 年 月
H18: 年 月
H19: 年 月
H20: 年 月
... H41: 年 月
B43: 〔記載要領〕
B44: 1 本表は、登録を受けた業種の各別またはその他の営業の種類の各別に作成すること。
B45: 2 本表は、直前1年間の主な完成業務及び直前1年間に着手した主な未完成業務について記載すること。
B46: 3 「元請下請区分」については、元請または下請と記載すること。
B47: 4 下請については、「注文者」の欄には元請業者名を記載し、「件名」の欄には下請件名を記載すること。
B48: 5 「対象の規模等」の欄には、例えば、設計の階数・構造・延べ面積等を記載すること。
B49: 6 「請負金額」は、消費税込みの金額を記載すること。
